Workbook

Sheet Welcome...
A1: TRACK WHAT MATTERS
A2: Created by Parbold Douglas Church of England Academy Website www.pda.lancs.sch.uk Twitter @ParboldDouglas
A5: Introduction
A6: The tracker was made by teachers and school leaders in Early Years settings. It is not made for any commercial or financial gain. It was designed to be simple, straightforward and provide Early Years practitioners with quick access to useful information and analysis. The tracker is designed specifically for use with the 2021 Early Years Foundation Stage Framework. Whilst purposeful, manageable assessment has a role to play in effective Early Years practice, the design and delivery of an excellent curriculum always comes first. We firmly believe that Early Years practitioners' time is best spent working alongside children and planning learning opportunities that stretch, challenge and facilitate their ongoing development. However, many of the 'assessment' tools designed to support practitioners act as a barrier to this: invariably, they are incredibly time-consuming. The professional time of practitioners ends up consumed by an endless cycle of recording observations and highlighting checklists. Too often, when using the previous EYFS Framework (pre-2021), we over-complicated assessment with practitioners making subjective judgements about whether or not a child is '30 - 50 months expected' or '40 - 60 months emerging' within a particular area. This information has a tendency to lack validity and proves of little use when planning next steps in learning. In seeking to create a tool that is purposeful and manageable, this tracking tool was born. It has been carefully developed so that it is workload-friendly for teachers whilst being rich in the information it provides. It is designed to sit alongside any Early Years curriculum and focuses on identifying which pupils need additional support and guidance. We don't expect it to be right for every Early Years setting but hope that many will find it useful! The instructions below explain how to set up and use the tracker. For further information about our thinking, visit our website or sign up to one of our online sessions.
A8: How to set up the tracker:
A9: 1. Select the 'Communication & Language' sheet (see the tabs below). Enter the pupil information for the cohort in columns A to I - this information will be automatically copied across to columns A to I in the other sheets. If a pupil information column does not apply to the pupil, please leave it blank.
A10: 2. The traker is now ready to use!
A12: How to use the tracking sheets for each area of learning:
A13: The tracking sheets can be updated as often as you choose.
A14: 1. For each child, select the statement from the drop-down menu that best describes their current attainment within this areas of learning. There are two statements to select from: Monitoring On track to meet curriculum-related* expectations *Your curriculum is your progression model. If a child is accessing and moving through your curriculum in the way you expect, they are 'On track to meet curriculum-related expectations'.
A15: 2. Use the analysis provided to inform your planning and provision! Scroll to the right to find the instant attainment analysis for each pupil group.
A17: How to use the 'monitoring' sheet:
... A34: Please share freely. Not to be sold.

Sheet Communication & Language
A1: TRACK WHAT MATTERS | J1: AREA OF LEARNING | L1: AREA OF LEARNING
B2: PUPIL INFORMATION | J2: COMMUNICATION AND LANGUAGE | L2: COMMUNICATION AND LANGUAGE
A3: NAME | B3: Gender | C3: DIS | D3: SEND | E3: High attainers | F3: EAL | G3: Autumn born | H3: Spring born | I3: Summer born | J3: Current assessment | L3: Current assessment: Analysis summary | N3: All pupils | O3: Boys | P3: Girls | Q3: DIS | R3: SEND | S3: High attainers | T3: EAL | U3: Autumn born | V3: Spring born | W3: Summer born
A4: Example Child A | B4: M | C4: Y | D4: Y | F4: Y | I4: Y | L4: Monitoring | M4: Tally | N4: =COUNTIF(J4:J48, "Monitoring") -> 0 | O4: =COUNTIFS(J4:J48, "Monitoring", $B4:$B48, "m") -> 0 | P4: =COUNTIFS(J4:J48, "Monitoring", $B4:$B48, "f") -> 0 | Q4: =COUNTIFS(J4:J48, "Monitoring", $C4:$C48, "*") -> 0 | R4: =COUNTIFS(J4:J48, "Monitoring", $D4:$D48, "*") -> 0 | S4: =COUNTIFS(J4:J48, "Monitoring", $E4:$E48, "*") -> 0 | T4: =COUNTIFS(J4:J48, "Monitoring", $F4:$F48, "*") -> 0 | U4: =COUNTIFS(J4:J48, "Monitoring", $G4:$G48, "*") -> 0 | V4: =COUNTIFS(J4:J48, "Monitoring", $H4:$H48, "*") -> 0 | W4: =COUNTIFS(J4:J48, "Monitoring", $I4:$I48, "*") -> 0
A5: Example Child B | B5: F | C5: Y | E5: Y | G5: Y | M5: Percentage | N5: =N4/$B$49 -> 0 | O5: =O4/$B$50 -> 0 | P5: =P4/$B$51 -> 0 | Q5: =Q4/$C$49 -> 0 | R5: =R4/$D$49 -> 0 | S5: =S4/$E$49 -> 0 | T5: =T4/$F$49 -> 0 | U5: =U4/$G$49 -> 0 | V5: =V4/$H$49 -> 0 | W5: =W4/$I$49 -> 0
A6: Example Child C | B6: M | H6: Y | L6: On track (inc. Aiming high) | M6: Tally | N6: =COUNTIF(J4:J48, "On track to meet curriculum-related expectations") -> 0 | O6: =COUNTIFS(J4:J48, "On track to meet curriculum-related expectations", $B4:$B48, "m") -> 0 | P6: =COUNTIFS(J4:J48, "On track to meet curriculum-related expectations", $B4:$B48, "f") -> 0 | Q6: =COUNTIFS(J4:J48, "On track to meet curriculum-related expectations", $C4:$C48, "*") -> 0 | R6: =COUNTIFS(J4:J48, "On track to meet curriculum-related expectations", $D4:$D48, "*") -> 0 | S6: =COUNTIFS(J4:J48, "On track to meet curriculum-related expectations", $E4:$E48, "*") -> 0 | T6: =COUNTIFS(J4:J48, "On track to meet curriculum-related expectations", $F4:$F48, "*") -> 0 | U6: =COUNTIFS(J4:J48, "On track to meet curriculum-related expectations", $G4:$G48, "*") -> 0 | V6: =COUNTIFS(J4:J48, "On track to meet curriculum-related expectations", $H4:$H48, "*") -> 0 | W6: =COUNTIFS(J4:J48, "On track to meet curriculum-related expectations", $I4:$I48, "*") -> 0
A7: Pupil name | M7: Percentage | N7: =N6/$B$49 -> 0 | O7: =O6/$B$50 -> 0 | P7: =P6/$B$51 -> 0 | Q7: =Q6/$C$49 -> 0 | R7: =R6/$D$49 -> 0 | S7: =S6/$E$49 -> 0 | T7: =T6/$F$49 -> 0 | U7: =U6/$G$49 -> 0 | V7: =V6/$H$49 -> 0 | W7: =W6/$I$49 -> 0
A8: Pupil name
A9: Pupil name
A10: Pupil name
A11: Pupil name
A12: Pupil name
A13: Pupil name
A14: Pupil name
A15: Pupil name
A16: Pupil name
A17: Pupil name
A18: Pupil name
A19: Pupil name
... A48: Pupil name
A49: TOTALS | B49: =COUNTIF(B4:B48,"*") -> 3 | C49: =COUNTIF(C4:C48,"*") -> 2 | D49: =COUNTIF(D4:D48,"*") -> 1 | E49: =COUNTIF(E4:E48,"*") -> 1 | F49: =COUNTIF(F4:F48,"*") -> 1 | G49: =COUNTIF(G4:G48,"*") -> 1 | H49: =COUNTIF(H4:H48,"*") -> 1 | I49: =COUNTIF(I4:I48,"*") -> 1
A50: BOYS | B50: =COUNTIF(B4:B48,"M") -> 2 | C50: =COUNTIFS(C4:C48, "*", B4:B48, "m") -> 1 | D50: =COUNTIFS(D4:D48, "*", $B4:$B48, "m") -> 1 | E50: =COUNTIFS(E4:E48, "*", $B4:$B48, "m") -> 0 | F50: =COUNTIFS(F4:F48, "*", $B4:$B48, "m") -> 1 | G50: =COUNTIFS(G4:G48, "*", $B4:$B48, "m") -> 0 | H50: =COUNTIFS(H4:H48, "*", $B4:$B48, "m") -> 1 | I50: =COUNTIFS(I4:I48, "*", B4:B48, "m") -> 1
A51: GIRLS | B51: =COUNTIF(B4:B48,"F") -> 1 | C51: =COUNTIFS(C4:C48, "*", B4:B48, "f") -> 1 | D51: =COUNTIFS(D4:D48, "*", $B4:$B48, "f") -> 0 | E51: =COUNTIFS(E4:E48, "*", $B4:$B48, "f") -> 1 | F51: =COUNTIFS(F4:F48, "*", $B4:$B48, "f") -> 0 | G51: =COUNTIFS(G4:G48, "*", $B4:$B48, "f") -> 1 | H51: =COUNTIFS(H4:H48, "*", $B4:$B48, "f") -> 0 | I51: =COUNTIFS(I4:I48, "*", B4:B48, "f") -> 0

Sheet Personal, Social & Emotional D.
A1: TRACK WHAT MATTERS | J1: AREA OF LEARNING | L1: AREA OF LEARNING
B2: PUPIL INFORMATION | J2: PERSONAL, SOCIAL & EMOTIONAL DEVELOPMENT | L2: PERSONAL, SOCIAL & EMOTIONAL DEVELOPMENT
A3: NAME | B3: Gender | C3: DIS | D3: SEND | E3: High attainers | F3: EAL | G3: Autumn born | H3: Spring born | I3: Summer born | J3: Current assessment | L3: Current assessment: Analysis summary | N3: All pupils | O3: Boys | P3: Girls | Q3: DIS | R3: SEND | S3: High attainers | T3: EAL | U3: Autumn born | V3: Spring born | W3: Summer born
A4: =('Communication & Language'!A4) -> Example Child A | B4: =('Communication & Language'!B4) -> M | C4: =('Communication & Language'!C4) -> Y | D4: =('Communication & Language'!D4) -> Y | E4: =('Communication & Language'!E4) -> 0 | F4: ='Communication & Language'!F4 -> Y | G4: =('Communication & Language'!G4) -> 0 | H4: =('Communication & Language'!H4) -> 0 | I4: =('Communication & Language'!I4) -> Y | L4: Monitoring | M4: Tally | N4: =COUNTIF(J4:J48, "Monitoring") -> 0 | O4: =COUNTIFS(J4:J48, "Monitoring",$B4:$B48, "m") -> 0 | P4: =COUNTIFS(J4:J48, "Monitoring",$B4:$B48, "f") -> 0 | Q4: =COUNTIFS(J4:J48, "Monitoring",$C4:$C48, "*") -> 0 | R4: =COUNTIFS(J4:J48, "Monitoring",$D4:$D48, "*") -> 0 | S4: =COUNTIFS(J4:J48, "Monitoring",$E4:$E48, "*") -> 0 | T4: =COUNTIFS(J4:J48, "Monitoring",$F4:$F48, "*") -> 0 | U4: =COUNTIFS(J4:J48, "Monitoring",$G4:$G48, "*") -> 0 | V4: =COUNTIFS(J4:J48, "Monitoring",$H4:$H48, "*") -> 0 | W4: =COUNTIFS(J4:J48, "Monitoring",$I4:$I48, "*") -> 0
A5: =('Communication & Language'!A5) -> Example Child B | B5: =('Communication & Language'!B5) -> F | C5: =('Communication & Language'!C5) -> Y | D5: =('Communication & Language'!D5) -> 0 | E5: =('Communication & Language'!E5) -> Y | F5: ='Communication & Language'!F5 -> 0 | G5: =('Communication & Language'!G5) -> Y | H5: =('Communication & Language'!H5) -> 0 | I5: =('Communication & Language'!I5) -> 0 | M5: Percentage | N5: =N4/$B$49 -> 0 | O5: =O4/$B$50 -> 0 | P5: =P4/$B$51 -> 0 | Q5: =Q4/$C$49 -> 0 | R5: =R4/$D$49 -> 0 | S5: =S4/$E$49 -> 0 | T5: =T4/$F$49 -> 0 | U5: =U4/$G$49 -> 0 | V5: =V4/$H$49 -> 0 | W5: =W4/$I$49 -> 0
A6: =('Communication & Language'!A6) -> Example Child C | B6: =('Communication & Language'!B6) -> M | C6: =('Communication & Language'!C6) -> 0 | D6: =('Communication & Language'!D6) -> 0 | E6: =('Communication & Language'!E6) -> 0 | F6: ='Communication & Language'!F6 -> 0 | G6: =('Communication & Language'!G6) -> 0 | H6: =('Communication & Language'!H6) -> Y | I6: =('Communication & Language'!I6) -> 0 | L6: On track (inc. Aiming high) | M6: Tally | N6: =COUNTIF(J4:J48, "On track to meet curriculum-related expectations") -> 0 | O6: =COUNTIFS(J4:J48, "On track to meet curriculum-related expectations", $B4:$B48, "m") -> 0 | P6: =COUNTIFS(J4:J48, "On track to meet curriculum-related expectations", $B4:$B48, "f") -> 0 | Q6: =COUNTIFS(J4:J48, "On track to meet curriculum-related expectations", $C4:$C48, "*") -> 0 | R6: =COUNTIFS(J4:J48, "On track to meet curriculum-related expectations", $D4:$D48, "*") -> 0 | S6: =COUNTIFS(J4:J48, "On track to meet curriculum-related expectations", $E4:$E48, "*") -> 0 | T6: =COUNTIFS(J4:J48, "On track to meet curriculum-related expectations", $F4:$F48, "*") -> 0 | U6: =COUNTIFS(J4:J48, "On track to meet curriculum-related expectations", $G4:$G48, "*") -> 0 | V6: =COUNTIFS(J4:J48, "On track to meet curriculum-related expectations", $H4:$H48, "*") -> 0 | W6: =COUNTIFS(J4:J48, "On track to meet curriculum-related expectations", $I4:$I48, "*") -> 0
A7: =('Communication & Language'!A7) -> Pupil name | B7: =('Communication & Language'!B7) -> 0 | C7: =('Communication & Language'!C7) -> 0 | D7: =('Communication & Language'!D7) -> 0 | E7: =('Communication & Language'!E7) -> 0 | F7: ='Communication & Language'!F7 -> 0 | G7: =('Communication & Language'!G7) -> 0 | H7: =('Communication & Language'!H7) -> 0 | I7: =('Communication & Language'!I7) -> 0 | M7: Percentage | N7: =N6/$B$49 -> 0 | O7: =O6/$B$50 -> 0 | P7: =P6/$B$51 -> 0 | Q7: =Q6/$C$49 -> 0 | R7: =R6/$D$49 -> 0 | S7: =S6/$E$49 -> 0 | T7: =T6/$F$49 -> 0 | U7: =U6/$G$49 -> 0 | V7: =V6/$H$49 -> 0 | W7: =W6/$I$49 -> 0
A8: =('Communication & Language'!A8) -> Pupil name | B8: =('Communication & Language'!B8) -> 0 | C8: =('Communication & Language'!C8) -> 0 | D8: =('Communication & Language'!D8) -> 0 | E8: =('Communication & Language'!E8) -> 0 | F8: ='Communication & Language'!F8 -> 0 | G8: =('Communication & Language'!G8) -> 0 | H8: =('Communication & Language'!H8) -> 0 | I8: =('Communication & Language'!I8) -> 0
A9: =('Communication & Language'!A9) -> Pupil name | B9: =('Communication & Language'!B9) -> 0 | C9: =('Communication & Language'!C9) -> 0 | D9: =('Communication & Language'!D9) -> 0 | E9: =('Communication & Language'!E9) -> 0 | F9: ='Communication & Language'!F9 -> 0 | G9: =('Communication & Language'!G9) -> 0 | H9: =('Communication & Language'!H9) -> 0 | I9: =('Communication & Language'!I9) -> 0
A10: =('Communication & Language'!A10) -> Pupil name | B10: =('Communication & Language'!B10) -> 0 | C10: =('Communication & Language'!C10) -> 0 | D10: =('Communication & Language'!D10) -> 0 | E10: =('Communication & Language'!E10) -> 0 | F10: ='Communication & Language'!F10 -> 0 | G10: =('Communication & Language'!G10) -> 0 | H10: =('Communication & Language'!H10) -> 0 | I10: =('Communication & Language'!I10) -> 0
A11: =('Communication & Language'!A11) -> Pupil name | B11: =('Communication & Language'!B11) -> 0 | C11: =('Communication & Language'!C11) -> 0 | D11: =('Communication & Language'!D11) -> 0 | E11: =('Communication & Language'!E11) -> 0 | F11: ='Communication & Language'!F11 -> 0 | G11: =('Communication & Language'!G11) -> 0 | H11: =('Communication & Language'!H11) -> 0 | I11: =('Communication & Language'!I11) -> 0
A12: =('Communication & Language'!A12) -> Pupil name | B12: =('Communication & Language'!B12) -> 0 | C12: =('Communication & Language'!C12) -> 0 | D12: =('Communication & Language'!D12) -> 0 | E12: =('Communication & Language'!E12) -> 0 | F12: ='Communication & Language'!F12 -> 0 | G12: =('Communication & Language'!G12) -> 0 | H12: =('Communication & Language'!H12) -> 0 | I12: =('Communication & Language'!I12) -> 0
A13: =('Communication & Language'!A13) -> Pupil name | B13: =('Communication & Language'!B13) -> 0 | C13: =('Communication & Language'!C13) -> 0 | D13: =('Communication & Language'!D13) -> 0 | E13: =('Communication & Language'!E13) -> 0 | F13: ='Communication & Language'!F13 -> 0 | G13: =('Communication & Language'!G13) -> 0 | H13: =('Communication & Language'!H13) -> 0 | I13: =('Communication & Language'!I13) -> 0
A14: =('Communication & Language'!A14) -> Pupil name | B14: =('Communication & Language'!B14) -> 0 | C14: =('Communication & Language'!C14) -> 0 | D14: =('Communication & Language'!D14) -> 0 | E14: =('Communication & Language'!E14) -> 0 | F14: ='Communication & Language'!F14 -> 0 | G14: =('Communication & Language'!G14) -> 0 | H14: =('Communication & Language'!H14) -> 0 | I14: =('Communication & Language'!I14) -> 0
A15: =('Communication & Language'!A15) -> Pupil name | B15: =('Communication & Language'!B15) -> 0 | C15: =('Communication & Language'!C15) -> 0 | D15: =('Communication & Language'!D15) -> 0 | E15: =('Communication & Language'!E15) -> 0 | F15: ='Communication & Language'!F15 -> 0 | G15: =('Communication & Language'!G15) -> 0 | H15: =('Communication & Language'!H15) -> 0 | I15: =('Communication & Language'!I15) -> 0
A16: =('Communication & Language'!A16) -> Pupil name | B16: =('Communication & Language'!B16) -> 0 | C16: =('Communication & Language'!C16) -> 0 | D16: =('Communication & Language'!D16) -> 0 | E16: =('Communication & Language'!E16) -> 0 | F16: ='Communication & Language'!F16 -> 0 | G16: =('Communication & Language'!G16) -> 0 | H16: =('Communication & Language'!H16) -> 0 | I16: =('Communication & Language'!I16) -> 0
A17: =('Communication & Language'!A17) -> Pupil name | B17: =('Communication & Language'!B17) -> 0 | C17: =('Communication & Language'!C17) -> 0 | D17: =('Communication & Language'!D17) -> 0 | E17: =('Communication & Language'!E17) -> 0 | F17: ='Communication & Language'!F17 -> 0 | G17: =('Communication & Language'!G17) -> 0 | H17: =('Communication & Language'!H17) -> 0 | I17: =('Communication & Language'!I17) -> 0
A18: =('Communication & Language'!A18) -> Pupil name | B18: =('Communication & Language'!B18) -> 0 | C18: =('Communication & Language'!C18) -> 0 | D18: =('Communication & Language'!D18) -> 0 | E18: =('Communication & Language'!E18) -> 0 | F18: ='Communication & Language'!F18 -> 0 | G18: =('Communication & Language'!G18) -> 0 | H18: =('Communication & Language'!H18) -> 0 | I18: =('Communication & Language'!I18) -> 0
A19: =('Communication & Language'!A19) -> Pupil name | B19: =('Communication & Language'!B19) -> 0 | C19: =('Communication & Language'!C19) -> 0 | D19: =('Communication & Language'!D19) -> 0 | E19: =('Communication & Language'!E19) -> 0 | F19: ='Communication & Language'!F19 -> 0 | G19: =('Communication & Language'!G19) -> 0 | H19: =('Communication & Language'!H19) -> 0 | I19: =('Communication & Language'!I19) -> 0
... A48: =('Communication & Language'!A48) -> Pupil name | B48: =('Communication & Language'!B48) -> 0 | C48: =('Communication & Language'!C48) -> 0 | D48: =('Communication & Language'!D48) -> 0 | E48: =('Communication & Language'!E48) -> 0 | F48: ='Communication & Language'!F48 -> 0 | G48: =('Communication & Language'!G48) -> 0 | H48: =('Communication & Language'!H48) -> 0 | I48: =('Communication & Language'!I48) -> 0
A49: TOTALS | B49: =COUNTIF(B4:B48,"*") -> 3 | C49: =COUNTIF(C4:C48,"*") -> 2 | D49: =COUNTIF(D4:D48,"*") -> 1 | E49: =COUNTIF(E4:E48,"*") -> 1 | F49: =COUNTIF(F4:F48,"*") -> 1 | G49: =COUNTIF(G4:G48,"*") -> 1 | H49: =COUNTIF(H4:H48,"*") -> 1 | I49: =COUNTIF(I4:I48,"*") -> 1
A50: BOYS | B50: =COUNTIF(B4:B48,"M") -> 2 | C50: =COUNTIFS(C4:C48, "*", B4:B48, "m") -> 1 | D50: =COUNTIFS(D4:D48, "*", $B4:$B48, "m") -> 1 | E50: =COUNTIFS(E4:E48, "*", $B4:$B48, "m") -> 0 | F50: =COUNTIFS(F4:F48, "*", $B4:$B48, "m") -> 1 | G50: =COUNTIFS(G4:G48, "*", $B4:$B48, "m") -> 0 | H50: =COUNTIFS(H4:H48, "*", $B4:$B48, "m") -> 1 | I50: =COUNTIFS(I4:I48, "*", B4:B48, "m") -> 1
A51: GIRLS | B51: =COUNTIF(B4:B48,"F") -> 1 | C51: =COUNTIFS(C4:C48, "*", B4:B48, "f") -> 1 | D51: =COUNTIFS(D4:D48, "*", $B4:$B48, "f") -> 0 | E51: =COUNTIFS(E4:E48, "*", $B4:$B48, "f") -> 1 | F51: =COUNTIFS(F4:F48, "*", $B4:$B48, "f") -> 0 | G51: =COUNTIFS(G4:G48, "*", $B4:$B48, "f") -> 1 | H51: =COUNTIFS(H4:H48, "*", $B4:$B48, "f") -> 0 | I51: =COUNTIFS(I4:I48, "*", B4:B48, "f") -> 0

Sheet Physical Development
A1: TRACK WHAT MATTERS | J1: AREA OF LEARNING | L1: AREA OF LEARNING
B2: PUPIL INFORMATION | J2: PHYSICAL DEVELOPMENT | L2: PHYSICAL DEVELOPMENT
A3: NAME | B3: Gender | C3: DIS | D3: SEND | E3: High attainers | F3: EAL | G3: Autumn born | H3: Spring born | I3: Summer born | J3: Current assessment | L3: Current assessment: Analysis summary | N3: All pupils | O3: Boys | P3: Girls | Q3: DIS | R3: SEND | S3: High attainers | T3: EAL | U3: Autumn born | V3: Spring born | W3: Summer born
A4: =('Communication & Language'!A4) -> Example Child A | B4: =('Communication & Language'!B4) -> M | C4: =('Communication & Language'!C4) -> Y | D4: =('Communication & Language'!D4) -> Y | E4: =('Communication & Language'!E4) -> 0 | F4: ='Communication & Language'!F4 -> Y | G4: =('Communication & Language'!G4) -> 0 | H4: =('Communication & Language'!H4) -> 0 | I4: =('Communication & Language'!I4) -> Y | L4: Monitoring | M4: Tally | N4: =COUNTIF(J4:J48, "Monitoring") -> 0 | O4: =COUNTIFS(J4:J48, "Monitoring",$B4:$B48, "m") -> 0 | P4: =COUNTIFS(J4:J48, "Monitoring",$B4:$B48, "f") -> 0 | Q4: =COUNTIFS(J4:J48, "Monitoring",$C4:$C48, "*") -> 0 | R4: =COUNTIFS(J4:J48, "Monitoring",$D4:$D48, "*") -> 0 | S4: =COUNTIFS(J4:J48, "Monitoring",$E4:$E48, "*") -> 0 | T4: =COUNTIFS(J4:J48, "Monitoring",$F4:$F48, "*") -> 0 | U4: =COUNTIFS(J4:J48, "Monitoring",$G4:$G48, "*") -> 0 | V4: =COUNTIFS(J4:J48, "Monitoring",$H4:$H48, "*") -> 0 | W4: =COUNTIFS(J4:J48, "Monitoring",$I4:$I48, "*") -> 0
A5: =('Communication & Language'!A5) -> Example Child B | B5: =('Communication & Language'!B5) -> F | C5: =('Communication & Language'!C5) -> Y | D5: =('Communication & Language'!D5) -> 0 | E5: =('Communication & Language'!E5) -> Y | F5: ='Communication & Language'!F5 -> 0 | G5: =('Communication & Language'!G5) -> Y | H5: =('Communication & Language'!H5) -> 0 | I5: =('Communication & Language'!I5) -> 0 | M5: Percentage | N5: =N4/$B$49 -> 0 | O5: =O4/$B$50 -> 0 | P5: =P4/$B$51 -> 0 | Q5: =Q4/$C$49 -> 0 | R5: =R4/$D$49 -> 0 | S5: =S4/$E$49 -> 0 | T5: =T4/$F$49 -> 0 | U5: =U4/$G$49 -> 0 | V5: =V4/$H$49 -> 0 | W5: =W4/$I$49 -> 0
A6: =('Communication & Language'!A6) -> Example Child C | B6: =('Communication & Language'!B6) -> M | C6: =('Communication & Language'!C6) -> 0 | D6: =('Communication & Language'!D6) -> 0 | E6: =('Communication & Language'!E6) -> 0 | F6: ='Communication & Language'!F6 -> 0 | G6: =('Communication & Language'!G6) -> 0 | H6: =('Communication & Language'!H6) -> Y | I6: =('Communication & Language'!I6) -> 0 | L6: On track (inc. Aiming high) | M6: Tally | N6: =COUNTIF(J4:J48, "On track to meet curriculum-related expectations") -> 0 | O6: =COUNTIFS(J4:J48, "On track to meet curriculum-related expectations", $B4:$B48, "m") -> 0 | P6: =COUNTIFS(J4:J48, "On track to meet curriculum-related expectations", $B4:$B48, "f") -> 0 | Q6: =COUNTIFS(J4:J48, "On track to meet curriculum-related expectations", $C4:$C48, "*") -> 0 | R6: =COUNTIFS(J4:J48, "On track to meet curriculum-related expectations", $D4:$D48, "*") -> 0 | S6: =COUNTIFS(J4:J48, "On track to meet curriculum-related expectations", $E4:$E48, "*") -> 0 | T6: =COUNTIFS(J4:J48, "On track to meet curriculum-related expectations", $F4:$F48, "*") -> 0 | U6: =COUNTIFS(J4:J48, "On track to meet curriculum-related expectations", $G4:$G48, "*") -> 0 | V6: =COUNTIFS(J4:J48, "On track to meet curriculum-related expectations", $H4:$H48, "*") -> 0 | W6: =COUNTIFS(J4:J48, "On track to meet curriculum-related expectations", $I4:$I48, "*") -> 0
A7: =('Communication & Language'!A7) -> Pupil name | B7: =('Communication & Language'!B7) -> 0 | C7: =('Communication & Language'!C7) -> 0 | D7: =('Communication & Language'!D7) -> 0 | E7: =('Communication & Language'!E7) -> 0 | F7: ='Communication & Language'!F7 -> 0 | G7: =('Communication & Language'!G7) -> 0 | H7: =('Communication & Language'!H7) -> 0 | I7: =('Communication & Language'!I7) -> 0 | M7: Percentage | N7: =N6/$B$49 -> 0 | O7: =O6/$B$50 -> 0 | P7: =P6/$B$51 -> 0 | Q7: =Q6/$C$49 -> 0 | R7: =R6/$D$49 -> 0 | S7: =S6/$E$49 -> 0 | T7: =T6/$F$49 -> 0 | U7: =U6/$G$49 -> 0 | V7: =V6/$H$49 -> 0 | W7: =W6/$I$49 -> 0
A8: =('Communication & Language'!A8) -> Pupil name | B8: =('Communication & Language'!B8) -> 0 | C8: =('Communication & Language'!C8) -> 0 | D8: =('Communication & Language'!D8) -> 0 | E8: =('Communication & Language'!E8) -> 0 | F8: ='Communication & Language'!F8 -> 0 | G8: =('Communication & Language'!G8) -> 0 | H8: =('Communication & Language'!H8) -> 0 | I8: =('Communication & Language'!I8) -> 0
A9: =('Communication & Language'!A9) -> Pupil name | B9: =('Communication & Language'!B9) -> 0 | C9: =('Communication & Language'!C9) -> 0 | D9: =('Communication & Language'!D9) -> 0 | E9: =('Communication & Language'!E9) -> 0 | F9: ='Communication & Language'!F9 -> 0 | G9: =('Communication & Language'!G9) -> 0 | H9: =('Communication & Language'!H9) -> 0 | I9: =('Communication & Language'!I9) -> 0
A10: =('Communication & Language'!A10) -> Pupil name | B10: =('Communication & Language'!B10) -> 0 | C10: =('Communication & Language'!C10) -> 0 | D10: =('Communication & Language'!D10) -> 0 | E10: =('Communication & Language'!E10) -> 0 | F10: ='Communication & Language'!F10 -> 0 | G10: =('Communication & Language'!G10) -> 0 | H10: =('Communication & Language'!H10) -> 0 | I10: =('Communication & Language'!I10) -> 0
A11: =('Communication & Language'!A11) -> Pupil name | B11: =('Communication & Language'!B11) -> 0 | C11: =('Communication & Language'!C11) -> 0 | D11: =('Communication & Language'!D11) -> 0 | E11: =('Communication & Language'!E11) -> 0 | F11: ='Communication & Language'!F11 -> 0 | G11: =('Communication & Language'!G11) -> 0 | H11: =('Communication & Language'!H11) -> 0 | I11: =('Communication & Language'!I11) -> 0
A12: =('Communication & Language'!A12) -> Pupil name | B12: =('Communication & Language'!B12) -> 0 | C12: =('Communication & Language'!C12) -> 0 | D12: =('Communication & Language'!D12) -> 0 | E12: =('Communication & Language'!E12) -> 0 | F12: ='Communication & Language'!F12 -> 0 | G12: =('Communication & Language'!G12) -> 0 | H12: =('Communication & Language'!H12) -> 0 | I12: =('Communication & Language'!I12) -> 0
A13: =('Communication & Language'!A13) -> Pupil name | B13: =('Communication & Language'!B13) -> 0 | C13: =('Communication & Language'!C13) -> 0 | D13: =('Communication & Language'!D13) -> 0 | E13: =('Communication & Language'!E13) -> 0 | F13: ='Communication & Language'!F13 -> 0 | G13: =('Communication & Language'!G13) -> 0 | H13: =('Communication & Language'!H13) -> 0 | I13: =('Communication & Language'!I13) -> 0
A14: =('Communication & Language'!A14) -> Pupil name | B14: =('Communication & Language'!B14) -> 0 | C14: =('Communication & Language'!C14) -> 0 | D14: =('Communication & Language'!D14) -> 0 | E14: =('Communication & Language'!E14) -> 0 | F14: ='Communication & Language'!F14 -> 0 | G14: =('Communication & Language'!G14) -> 0 | H14: =('Communication & Language'!H14) -> 0 | I14: =('Communication & Language'!I14) -> 0
A15: =('Communication & Language'!A15) -> Pupil name | B15: =('Communication & Language'!B15) -> 0 | C15: =('Communication & Language'!C15) -> 0 | D15: =('Communication & Language'!D15) -> 0 | E15: =('Communication & Language'!E15) -> 0 | F15: ='Communication & Language'!F15 -> 0 | G15: =('Communication & Language'!G15) -> 0 | H15: =('Communication & Language'!H15) -> 0 | I15: =('Communication & Language'!I15) -> 0
A16: =('Communication & Language'!A16) -> Pupil name | B16: =('Communication & Language'!B16) -> 0 | C16: =('Communication & Language'!C16) -> 0 | D16: =('Communication & Language'!D16) -> 0 | E16: =('Communication & Language'!E16) -> 0 | F16: ='Communication & Language'!F16 -> 0 | G16: =('Communication & Language'!G16) -> 0 | H16: =('Communication & Language'!H16) -> 0 | I16: =('Communication & Language'!I16) -> 0
A17: =('Communication & Language'!A17) -> Pupil name | B17: =('Communication & Language'!B17) -> 0 | C17: =('Communication & Language'!C17) -> 0 | D17: =('Communication & Language'!D17) -> 0 | E17: =('Communication & Language'!E17) -> 0 | F17: ='Communication & Language'!F17 -> 0 | G17: =('Communication & Language'!G17) -> 0 | H17: =('Communication & Language'!H17) -> 0 | I17: =('Communication & Language'!I17) -> 0
A18: =('Communication & Language'!A18) -> Pupil name | B18: =('Communication & Language'!B18) -> 0 | C18: =('Communication & Language'!C18) -> 0 | D18: =('Communication & Language'!D18) -> 0 | E18: =('Communication & Language'!E18) -> 0 | F18: ='Communication & Language'!F18 -> 0 | G18: =('Communication & Language'!G18) -> 0 | H18: =('Communication & Language'!H18) -> 0 | I18: =('Communication & Language'!I18) -> 0
A19: =('Communication & Language'!A19) -> Pupil name | B19: =('Communication & Language'!B19) -> 0 | C19: =('Communication & Language'!C19) -> 0 | D19: =('Communication & Language'!D19) -> 0 | E19: =('Communication & Language'!E19) -> 0 | F19: ='Communication & Language'!F19 -> 0 | G19: =('Communication & Language'!G19) -> 0 | H19: =('Communication & Language'!H19) -> 0 | I19: =('Communication & Language'!I19) -> 0
... A48: =('Communication & Language'!A48) -> Pupil name | B48: =('Communication & Language'!B48) -> 0 | C48: =('Communication & Language'!C48) -> 0 | D48: =('Communication & Language'!D48) -> 0 | E48: =('Communication & Language'!E48) -> 0 | F48: ='Communication & Language'!F48 -> 0 | G48: =('Communication & Language'!G48) -> 0 | H48: =('Communication & Language'!H48) -> 0 | I48: =('Communication & Language'!I48) -> 0
A49: TOTALS | B49: =COUNTIF(B4:B48,"*") -> 3 | C49: =COUNTIF(C4:C48,"*") -> 2 | D49: =COUNTIF(D4:D48,"*") -> 1 | E49: =COUNTIF(E4:E48,"*") -> 1 | F49: =COUNTIF(F4:F48,"*") -> 1 | G49: =COUNTIF(G4:G48,"*") -> 1 | H49: =COUNTIF(H4:H48,"*") -> 1 | I49: =COUNTIF(I4:I48,"*") -> 1
A50: BOYS | B50: =COUNTIF(B4:B48,"M") -> 2 | C50: =COUNTIFS(C4:C48, "*", B4:B48, "m") -> 1 | D50: =COUNTIFS(D4:D48, "*", $B4:$B48, "m") -> 1 | E50: =COUNTIFS(E4:E48, "*", $B4:$B48, "m") -> 0 | F50: =COUNTIFS(F4:F48, "*", $B4:$B48, "m") -> 1 | G50: =COUNTIFS(G4:G48, "*", $B4:$B48, "m") -> 0 | H50: =COUNTIFS(H4:H48, "*", $B4:$B48, "m") -> 1 | I50: =COUNTIFS(I4:I48, "*", B4:B48, "m") -> 1
A51: GIRLS | B51: =COUNTIF(B4:B48,"F") -> 1 | C51: =COUNTIFS(C4:C48, "*", B4:B48, "f") -> 1 | D51: =COUNTIFS(D4:D48, "*", $B4:$B48, "f") -> 0 | E51: =COUNTIFS(E4:E48, "*", $B4:$B48, "f") -> 1 | F51: =COUNTIFS(F4:F48, "*", $B4:$B48, "f") -> 0 | G51: =COUNTIFS(G4:G48, "*", $B4:$B48, "f") -> 1 | H51: =COUNTIFS(H4:H48, "*", $B4:$B48, "f") -> 0 | I51: =COUNTIFS(I4:I48, "*", B4:B48, "f") -> 0

Sheet Literacy
A1: TRACK WHAT MATTERS | J1: AREA OF LEARNING | L1: AREA OF LEARNING
B2: PUPIL INFORMATION | J2: LITERACY | L2: LITERACY
A3: NAME | B3: Gender | C3: DIS | D3: SENDD | E3: High attainers | F3: EAL | G3: Autumn born | H3: Spring born | I3: Summer born | J3: Current assessment | L3: Current assessment: Analysis summary | N3: All pupils | O3: Boys | P3: Girls | Q3: DIS | R3: SEND | S3: High attainers | T3: EAL | U3: Autumn born | V3: Spring born | W3: Summer born
A4: =('Communication & Language'!A4) -> Example Child A | B4: =('Communication & Language'!B4) -> M | C4: =('Communication & Language'!C4) -> Y | D4: =('Communication & Language'!D4) -> Y | E4: =('Communication & Language'!E4) -> 0 | F4: ='Communication & Language'!F4 -> Y | G4: =('Communication & Language'!G4) -> 0 | H4: =('Communication & Language'!H4) -> 0 | I4: =('Communication & Language'!I4) -> Y | L4: Monitoring | M4: Tally | N4: =COUNTIF(J4:J48, "Monitoring") -> 0 | O4: =COUNTIFS(J4:J48, "Monitoring",$B4:$B48, "m") -> 0 | P4: =COUNTIFS(J4:J48, "Monitoring",$B4:$B48, "f") -> 0 | Q4: =COUNTIFS(J4:J48, "Monitoring",$C4:$C48, "*") -> 0 | R4: =COUNTIFS(J4:J48, "Monitoring",$D4:$D48, "*") -> 0 | S4: =COUNTIFS(J4:J48, "Monitoring",$E4:$E48, "*") -> 0 | T4: =COUNTIFS(J4:J48, "Monitoring",$F4:$F48, "*") -> 0 | U4: =COUNTIFS(J4:J48, "Monitoring",$G4:$G48, "*") -> 0 | V4: =COUNTIFS(J4:J48, "Monitoring",$H4:$H48, "*") -> 0 | W4: =COUNTIFS(J4:J48, "Monitoring",$I4:$I48, "*") -> 0
A5: =('Communication & Language'!A5) -> Example Child B | B5: =('Communication & Language'!B5) -> F | C5: =('Communication & Language'!C5) -> Y | D5: =('Communication & Language'!D5) -> 0 | E5: =('Communication & Language'!E5) -> Y | F5: ='Communication & Language'!F5 -> 0 | G5: =('Communication & Language'!G5) -> Y | H5: =('Communication & Language'!H5) -> 0 | I5: =('Communication & Language'!I5) -> 0 | M5: Percentage | N5: =N4/$B$49 -> 0 | O5: =O4/$B$50 -> 0 | P5: =P4/$B$51 -> 0 | Q5: =Q4/$C$49 -> 0 | R5: =R4/$D$49 -> 0 | S5: =S4/$E$49 -> 0 | T5: =T4/$F$49 -> 0 | U5: =U4/$G$49 -> 0 | V5: =V4/$H$49 -> 0 | W5: =W4/$I$49 -> 0
A6: =('Communication & Language'!A6) -> Example Child C | B6: =('Communication & Language'!B6) -> M | C6: =('Communication & Language'!C6) -> 0 | D6: =('Communication & Language'!D6) -> 0 | E6: =('Communication & Language'!E6) -> 0 | F6: ='Communication & Language'!F6 -> 0 | G6: =('Communication & Language'!G6) -> 0 | H6: =('Communication & Language'!H6) -> Y | I6: =('Communication & Language'!I6) -> 0 | L6: On track (inc. Aiming high) | M6: Tally | N6: =COUNTIF(J4:J48, "On track to meet curriculum-related expectations") -> 0 | O6: =COUNTIFS(J4:J48, "On track to meet curriculum-related expectations", $B4:$B48, "m") -> 0 | P6: =COUNTIFS(J4:J48, "On track to meet curriculum-related expectations", $B4:$B48, "f") -> 0 | Q6: =COUNTIFS(J4:J48, "On track to meet curriculum-related expectations", $C4:$C48, "*") -> 0 | R6: =COUNTIFS(J4:J48, "On track to meet curriculum-related expectations", $D4:$D48, "*") -> 0 | S6: =COUNTIFS(J4:J48, "On track to meet curriculum-related expectations", $E4:$E48, "*") -> 0 | T6: =COUNTIFS(J4:J48, "On track to meet curriculum-related expectations", $F4:$F48, "*") -> 0 | U6: =COUNTIFS(J4:J48, "On track to meet curriculum-related expectations", $G4:$G48, "*") -> 0 | V6: =COUNTIFS(J4:J48, "On track to meet curriculum-related expectations", $H4:$H48, "*") -> 0 | W6: =COUNTIFS(J4:J48, "On track to meet curriculum-related expectations", $I4:$I48, "*") -> 0
A7: =('Communication & Language'!A7) -> Pupil name | B7: =('Communication & Language'!B7) -> 0 | C7: =('Communication & Language'!C7) -> 0 | D7: =('Communication & Language'!D7) -> 0 | E7: =('Communication & Language'!E7) -> 0 | F7: ='Communication & Language'!F7 -> 0 | G7: =('Communication & Language'!G7) -> 0 | H7: =('Communication & Language'!H7) -> 0 | I7: =('Communication & Language'!I7) -> 0 | M7: Percentage | N7: =N6/$B$49 -> 0 | O7: =O6/$B$50 -> 0 | P7: =P6/$B$51 -> 0 | Q7: =Q6/$C$49 -> 0 | R7: =R6/$D$49 -> 0 | S7: =S6/$E$49 -> 0 | T7: =T6/$F$49 -> 0 | U7: =U6/$G$49 -> 0 | V7: =V6/$H$49 -> 0 | W7: =W6/$I$49 -> 0
A8: =('Communication & Language'!A8) -> Pupil name | B8: =('Communication & Language'!B8) -> 0 | C8: =('Communication & Language'!C8) -> 0 | D8: =('Communication & Language'!D8) -> 0 | E8: =('Communication & Language'!E8) -> 0 | F8: ='Communication & Language'!F8 -> 0 | G8: =('Communication & Language'!G8) -> 0 | H8: =('Communication & Language'!H8) -> 0 | I8: =('Communication & Language'!I8) -> 0
A9: =('Communication & Language'!A9) -> Pupil name | B9: =('Communication & Language'!B9) -> 0 | C9: =('Communication & Language'!C9) -> 0 | D9: =('Communication & Language'!D9) -> 0 | E9: =('Communication & Language'!E9) -> 0 | F9: ='Communication & Language'!F9 -> 0 | G9: =('Communication & Language'!G9) -> 0 | H9: =('Communication & Language'!H9) -> 0 | I9: =('Communication & Language'!I9) -> 0
A10: =('Communication & Language'!A10) -> Pupil name | B10: =('Communication & Language'!B10) -> 0 | C10: =('Communication & Language'!C10) -> 0 | D10: =('Communication & Language'!D10) -> 0 | E10: =('Communication & Language'!E10) -> 0 | F10: ='Communication & Language'!F10 -> 0 | G10: =('Communication & Language'!G10) -> 0 | H10: =('Communication & Language'!H10) -> 0 | I10: =('Communication & Language'!I10) -> 0
A11: =('Communication & Language'!A11) -> Pupil name | B11: =('Communication & Language'!B11) -> 0 | C11: =('Communication & Language'!C11) -> 0 | D11: =('Communication & Language'!D11) -> 0 | E11: =('Communication & Language'!E11) -> 0 | F11: ='Communication & Language'!F11 -> 0 | G11: =('Communication & Language'!G11) -> 0 | H11: =('Communication & Language'!H11) -> 0 | I11: =('Communication & Language'!I11) -> 0
A12: =('Communication & Language'!A12) -> Pupil name | B12: =('Communication & Language'!B12) -> 0 | C12: =('Communication & Language'!C12) -> 0 | D12: =('Communication & Language'!D12) -> 0 | E12: =('Communication & Language'!E12) -> 0 | F12: ='Communication & Language'!F12 -> 0 | G12: =('Communication & Language'!G12) -> 0 | H12: =('Communication & Language'!H12) -> 0 | I12: =('Communication & Language'!I12) -> 0
A13: =('Communication & Language'!A13) -> Pupil name | B13: =('Communication & Language'!B13) -> 0 | C13: =('Communication & Language'!C13) -> 0 | D13: =('Communication & Language'!D13) -> 0 | E13: =('Communication & Language'!E13) -> 0 | F13: ='Communication & Language'!F13 -> 0 | G13: =('Communication & Language'!G13) -> 0 | H13: =('Communication & Language'!H13) -> 0 | I13: =('Communication & Language'!I13) -> 0
A14: =('Communication & Language'!A14) -> Pupil name | B14: =('Communication & Language'!B14) -> 0 | C14: =('Communication & Language'!C14) -> 0 | D14: =('Communication & Language'!D14) -> 0 | E14: =('Communication & Language'!E14) -> 0 | F14: ='Communication & Language'!F14 -> 0 | G14: =('Communication & Language'!G14) -> 0 | H14: =('Communication & Language'!H14) -> 0 | I14: =('Communication & Language'!I14) -> 0
A15: =('Communication & Language'!A15) -> Pupil name | B15: =('Communication & Language'!B15) -> 0 | C15: =('Communication & Language'!C15) -> 0 | D15: =('Communication & Language'!D15) -> 0 | E15: =('Communication & Language'!E15) -> 0 | F15: ='Communication & Language'!F15 -> 0 | G15: =('Communication & Language'!G15) -> 0 | H15: =('Communication & Language'!H15) -> 0 | I15: =('Communication & Language'!I15) -> 0
A16: =('Communication & Language'!A16) -> Pupil name | B16: =('Communication & Language'!B16) -> 0 | C16: =('Communication & Language'!C16) -> 0 | D16: =('Communication & Language'!D16) -> 0 | E16: =('Communication & Language'!E16) -> 0 | F16: ='Communication & Language'!F16 -> 0 | G16: =('Communication & Language'!G16) -> 0 | H16: =('Communication & Language'!H16) -> 0 | I16: =('Communication & Language'!I16) -> 0
A17: =('Communication & Language'!A17) -> Pupil name | B17: =('Communication & Language'!B17) -> 0 | C17: =('Communication & Language'!C17) -> 0 | D17: =('Communication & Language'!D17) -> 0 | E17: =('Communication & Language'!E17) -> 0 | F17: ='Communication & Language'!F17 -> 0 | G17: =('Communication & Language'!G17) -> 0 | H17: =('Communication & Language'!H17) -> 0 | I17: =('Communication & Language'!I17) -> 0
A18: =('Communication & Language'!A18) -> Pupil name | B18: =('Communication & Language'!B18) -> 0 | C18: =('Communication & Language'!C18) -> 0 | D18: =('Communication & Language'!D18) -> 0 | E18: =('Communication & Language'!E18) -> 0 | F18: ='Communication & Language'!F18 -> 0 | G18: =('Communication & Language'!G18) -> 0 | H18: =('Communication & Language'!H18) -> 0 | I18: =('Communication & Language'!I18) -> 0
A19: =('Communication & Language'!A19) -> Pupil name | B19: =('Communication & Language'!B19) -> 0 | C19: =('Communication & Language'!C19) -> 0 | D19: =('Communication & Language'!D19) -> 0 | E19: =('Communication & Language'!E19) -> 0 | F19: ='Communication & Language'!F19 -> 0 | G19: =('Communication & Language'!G19) -> 0 | H19: =('Communication & Language'!H19) -> 0 | I19: =('Communication & Language'!I19) -> 0
... A48: =('Communication & Language'!A48) -> Pupil name | B48: =('Communication & Language'!B48) -> 0 | C48: =('Communication & Language'!C48) -> 0 | D48: =('Communication & Language'!D48) -> 0 | E48: =('Communication & Language'!E48) -> 0 | F48: ='Communication & Language'!F48 -> 0 | G48: =('Communication & Language'!G48) -> 0 | H48: =('Communication & Language'!H48) -> 0 | I48: =('Communication & Language'!I48) -> 0
A49: TOTALS | B49: =COUNTIF(B4:B48,"*") -> 3 | C49: =COUNTIF(C4:C48,"*") -> 2 | D49: =COUNTIF(D4:D48,"*") -> 1 | E49: =COUNTIF(E4:E48,"*") -> 1 | F49: =COUNTIF(F4:F48,"*") -> 1 | G49: =COUNTIF(G4:G48,"*") -> 1 | H49: =COUNTIF(H4:H48,"*") -> 1 | I49: =COUNTIF(I4:I48,"*") -> 1
A50: BOYS | B50: =COUNTIF(B4:B48,"M") -> 2 | C50: =COUNTIFS(C4:C48, "*", B4:B48, "m") -> 1 | D50: =COUNTIFS(D4:D48, "*", $B4:$B48, "m") -> 1 | E50: =COUNTIFS(E4:E48, "*", $B4:$B48, "m") -> 0 | F50: =COUNTIFS(F4:F48, "*", $B4:$B48, "m") -> 1 | G50: =COUNTIFS(G4:G48, "*", $B4:$B48, "m") -> 0 | H50: =COUNTIFS(H4:H48, "*", $B4:$B48, "m") -> 1 | I50: =COUNTIFS(I4:I48, "*", B4:B48, "m") -> 1
A51: GIRLS | B51: =COUNTIF(B4:B48,"F") -> 1 | C51: =COUNTIFS(C4:C48, "*", B4:B48, "f") -> 1 | D51: =COUNTIFS(D4:D48, "*", $B4:$B48, "f") -> 0 | E51: =COUNTIFS(E4:E48, "*", $B4:$B48, "f") -> 1 | F51: =COUNTIFS(F4:F48, "*", $B4:$B48, "f") -> 0 | G51: =COUNTIFS(G4:G48, "*", $B4:$B48, "f") -> 1 | H51: =COUNTIFS(H4:H48, "*", $B4:$B48, "f") -> 0 | I51: =COUNTIFS(I4:I48, "*", B4:B48, "f") -> 0

Sheet Mathematics
A1: TRACK WHAT MATTERS | J1: AREA OF LEARNING | L1: AREA OF LEARNING
B2: PUPIL INFORMATION | J2: MATHEMATICS | L2: MATHEMATICS
A3: NAME | B3: Gender | C3: DIS | D3: SEND | E3: High attainers | F3: EAL | G3: Autumn born | H3: Spring born | I3: Summer born | J3: Current assessment | L3: Current assessment: Analysis summary | N3: All pupils | O3: Boys | P3: Girls | Q3: DIS | R3: SEND | S3: High attainers | T3: EAL | U3: Autumn born | V3: Spring born | W3: Summer born
A4: =('Communication & Language'!A4) -> Example Child A | B4: =('Communication & Language'!B4) -> M | C4: =('Communication & Language'!C4) -> Y | D4: =('Communication & Language'!D4) -> Y | E4: =('Communication & Language'!E4) -> 0 | F4: ='Communication & Language'!F4 -> Y | G4: =('Communication & Language'!G4) -> 0 | H4: =('Communication & Language'!H4) -> 0 | I4: =('Communication & Language'!I4) -> Y | L4: Monitoring | M4: Tally | N4: =COUNTIF(J4:J48, "Monitoring") -> 0 | O4: =COUNTIFS(J4:J48, "Monitoring",$B4:$B48, "m") -> 0 | P4: =COUNTIFS(J4:J48, "Monitoring",$B4:$B48, "f") -> 0 | Q4: =COUNTIFS(J4:J48, "Monitoring",$C4:$C48, "*") -> 0 | R4: =COUNTIFS(J4:J48, "Monitoring",$D4:$D48, "*") -> 0 | S4: =COUNTIFS(J4:J48, "Monitoring",$E4:$E48, "*") -> 0 | T4: =COUNTIFS(J4:J48, "Monitoring",$F4:$F48, "*") -> 0 | U4: =COUNTIFS(J4:J48, "Monitoring",$G4:$G48, "*") -> 0 | V4: =COUNTIFS(J4:J48, "Monitoring",$H4:$H48, "*") -> 0 | W4: =COUNTIFS(J4:J48, "Monitoring",$I4:$I48, "*") -> 0
A5: =('Communication & Language'!A5) -> Example Child B | B5: =('Communication & Language'!B5) -> F | C5: =('Communication & Language'!C5) -> Y | D5: =('Communication & Language'!D5) -> 0 | E5: =('Communication & Language'!E5) -> Y | F5: ='Communication & Language'!F5 -> 0 | G5: =('Communication & Language'!G5) -> Y | H5: =('Communication & Language'!H5) -> 0 | I5: =('Communication & Language'!I5) -> 0 | M5: Percentage | N5: =N4/$B$49 -> 0 | O5: =O4/$B$50 -> 0 | P5: =P4/$B$51 -> 0 | Q5: =Q4/$C$49 -> 0 | R5: =R4/$D$49 -> 0 | S5: =S4/$E$49 -> 0 | T5: =T4/$F$49 -> 0 | U5: =U4/$G$49 -> 0 | V5: =V4/$H$49 -> 0 | W5: =W4/$I$49 -> 0
A6: =('Communication & Language'!A6) -> Example Child C | B6: =('Communication & Language'!B6) -> M | C6: =('Communication & Language'!C6) -> 0 | D6: =('Communication & Language'!D6) -> 0 | E6: =('Communication & Language'!E6) -> 0 | F6: ='Communication & Language'!F6 -> 0 | G6: =('Communication & Language'!G6) -> 0 | H6: =('Communication & Language'!H6) -> Y | I6: =('Communication & Language'!I6) -> 0 | L6: On track (inc. Aiming high) | M6: Tally | N6: =COUNTIF(J4:J48, "On track to meet curriculum-related expectations") -> 0 | O6: =COUNTIFS(J4:J48, "On track to meet curriculum-related expectations", $B4:$B48, "m") -> 0 | P6: =COUNTIFS(J4:J48, "On track to meet curriculum-related expectations", $B4:$B48, "f") -> 0 | Q6: =COUNTIFS(J4:J48, "On track to meet curriculum-related expectations", $C4:$C48, "*") -> 0 | R6: =COUNTIFS(J4:J48, "On track to meet curriculum-related expectations", $D4:$D48, "*") -> 0 | S6: =COUNTIFS(J4:J48, "On track to meet curriculum-related expectations", $E4:$E48, "*") -> 0 | T6: =COUNTIFS(J4:J48, "On track to meet curriculum-related expectations", $F4:$F48, "*") -> 0 | U6: =COUNTIFS(J4:J48, "On track to meet curriculum-related expectations", $G4:$G48, "*") -> 0 | V6: =COUNTIFS(J4:J48, "On track to meet curriculum-related expectations", $H4:$H48, "*") -> 0 | W6: =COUNTIFS(J4:J48, "On track to meet curriculum-related expectations", $I4:$I48, "*") -> 0
A7: =('Communication & Language'!A7) -> Pupil name | B7: =('Communication & Language'!B7) -> 0 | C7: =('Communication & Language'!C7) -> 0 | D7: =('Communication & Language'!D7) -> 0 | E7: =('Communication & Language'!E7) -> 0 | F7: ='Communication & Language'!F7 -> 0 | G7: =('Communication & Language'!G7) -> 0 | H7: =('Communication & Language'!H7) -> 0 | I7: =('Communication & Language'!I7) -> 0 | M7: Percentage | N7: =N6/$B$49 -> 0 | O7: =O6/$B$50 -> 0 | P7: =P6/$B$51 -> 0 | Q7: =Q6/$C$49 -> 0 | R7: =R6/$D$49 -> 0 | S7: =S6/$E$49 -> 0 | T7: =T6/$F$49 -> 0 | U7: =U6/$G$49 -> 0 | V7: =V6/$H$49 -> 0 | W7: =W6/$I$49 -> 0
A8: =('Communication & Language'!A8) -> Pupil name | B8: =('Communication & Language'!B8) -> 0 | C8: =('Communication & Language'!C8) -> 0 | D8: =('Communication & Language'!D8) -> 0 | E8: =('Communication & Language'!E8) -> 0 | F8: ='Communication & Language'!F8 -> 0 | G8: =('Communication & Language'!G8) -> 0 | H8: =('Communication & Language'!H8) -> 0 | I8: =('Communication & Language'!I8) -> 0
A9: =('Communication & Language'!A9) -> Pupil name | B9: =('Communication & Language'!B9) -> 0 | C9: =('Communication & Language'!C9) -> 0 | D9: =('Communication & Language'!D9) -> 0 | E9: =('Communication & Language'!E9) -> 0 | F9: ='Communication & Language'!F9 -> 0 | G9: =('Communication & Language'!G9) -> 0 | H9: =('Communication & Language'!H9) -> 0 | I9: =('Communication & Language'!I9) -> 0
A10: =('Communication & Language'!A10) -> Pupil name | B10: =('Communication & Language'!B10) -> 0 | C10: =('Communication & Language'!C10) -> 0 | D10: =('Communication & Language'!D10) -> 0 | E10: =('Communication & Language'!E10) -> 0 | F10: ='Communication & Language'!F10 -> 0 | G10: =('Communication & Language'!G10) -> 0 | H10: =('Communication & Language'!H10) -> 0 | I10: =('Communication & Language'!I10) -> 0
A11: =('Communication & Language'!A11) -> Pupil name | B11: =('Communication & Language'!B11) -> 0 | C11: =('Communication & Language'!C11) -> 0 | D11: =('Communication & Language'!D11) -> 0 | E11: =('Communication & Language'!E11) -> 0 | F11: ='Communication & Language'!F11 -> 0 | G11: =('Communication & Language'!G11) -> 0 | H11: =('Communication & Language'!H11) -> 0 | I11: =('Communication & Language'!I11) -> 0
A12: =('Communication & Language'!A12) -> Pupil name | B12: =('Communication & Language'!B12) -> 0 | C12: =('Communication & Language'!C12) -> 0 | D12: =('Communication & Language'!D12) -> 0 | E12: =('Communication & Language'!E12) -> 0 | F12: ='Communication & Language'!F12 -> 0 | G12: =('Communication & Language'!G12) -> 0 | H12: =('Communication & Language'!H12) -> 0 | I12: =('Communication & Language'!I12) -> 0
A13: =('Communication & Language'!A13) -> Pupil name | B13: =('Communication & Language'!B13) -> 0 | C13: =('Communication & Language'!C13) -> 0 | D13: =('Communication & Language'!D13) -> 0 | E13: =('Communication & Language'!E13) -> 0 | F13: ='Communication & Language'!F13 -> 0 | G13: =('Communication & Language'!G13) -> 0 | H13: =('Communication & Language'!H13) -> 0 | I13: =('Communication & Language'!I13) -> 0
A14: =('Communication & Language'!A14) -> Pupil name | B14: =('Communication & Language'!B14) -> 0 | C14: =('Communication & Language'!C14) -> 0 | D14: =('Communication & Language'!D14) -> 0 | E14: =('Communication & Language'!E14) -> 0 | F14: ='Communication & Language'!F14 -> 0 | G14: =('Communication & Language'!G14) -> 0 | H14: =('Communication & Language'!H14) -> 0 | I14: =('Communication & Language'!I14) -> 0
A15: =('Communication & Language'!A15) -> Pupil name | B15: =('Communication & Language'!B15) -> 0 | C15: =('Communication & Language'!C15) -> 0 | D15: =('Communication & Language'!D15) -> 0 | E15: =('Communication & Language'!E15) -> 0 | F15: ='Communication & Language'!F15 -> 0 | G15: =('Communication & Language'!G15) -> 0 | H15: =('Communication & Language'!H15) -> 0 | I15: =('Communication & Language'!I15) -> 0
A16: =('Communication & Language'!A16) -> Pupil name | B16: =('Communication & Language'!B16) -> 0 | C16: =('Communication & Language'!C16) -> 0 | D16: =('Communication & Language'!D16) -> 0 | E16: =('Communication & Language'!E16) -> 0 | F16: ='Communication & Language'!F16 -> 0 | G16: =('Communication & Language'!G16) -> 0 | H16: =('Communication & Language'!H16) -> 0 | I16: =('Communication & Language'!I16) -> 0
A17: =('Communication & Language'!A17) -> Pupil name | B17: =('Communication & Language'!B17) -> 0 | C17: =('Communication & Language'!C17) -> 0 | D17: =('Communication & Language'!D17) -> 0 | E17: =('Communication & Language'!E17) -> 0 | F17: ='Communication & Language'!F17 -> 0 | G17: =('Communication & Language'!G17) -> 0 | H17: =('Communication & Language'!H17) -> 0 | I17: =('Communication & Language'!I17) -> 0
A18: =('Communication & Language'!A18) -> Pupil name | B18: =('Communication & Language'!B18) -> 0 | C18: =('Communication & Language'!C18) -> 0 | D18: =('Communication & Language'!D18) -> 0 | E18: =('Communication & Language'!E18) -> 0 | F18: ='Communication & Language'!F18 -> 0 | G18: =('Communication & Language'!G18) -> 0 | H18: =('Communication & Language'!H18) -> 0 | I18: =('Communication & Language'!I18) -> 0
A19: =('Communication & Language'!A19) -> Pupil name | B19: =('Communication & Language'!B19) -> 0 | C19: =('Communication & Language'!C19) -> 0 | D19: =('Communication & Language'!D19) -> 0 | E19: =('Communication & Language'!E19) -> 0 | F19: ='Communication & Language'!F19 -> 0 | G19: =('Communication & Language'!G19) -> 0 | H19: =('Communication & Language'!H19) -> 0 | I19: =('Communication & Language'!I19) -> 0
... A48: =('Communication & Language'!A48) -> Pupil name | B48: =('Communication & Language'!B48) -> 0 | C48: =('Communication & Language'!C48) -> 0 | D48: =('Communication & Language'!D48) -> 0 | E48: =('Communication & Language'!E48) -> 0 | F48: ='Communication & Language'!F48 -> 0 | G48: =('Communication & Language'!G48) -> 0 | H48: =('Communication & Language'!H48) -> 0 | I48: =('Communication & Language'!I48) -> 0
A49: TOTALS | B49: =COUNTIF(B4:B48,"*") -> 3 | C49: =COUNTIF(C4:C48,"*") -> 2 | D49: =COUNTIF(D4:D48,"*") -> 1 | E49: =COUNTIF(E4:E48,"*") -> 1 | F49: =COUNTIF(F4:F48,"*") -> 1 | G49: =COUNTIF(G4:G48,"*") -> 1 | H49: =COUNTIF(H4:H48,"*") -> 1 | I49: =COUNTIF(I4:I48,"*") -> 1
A50: BOYS | B50: =COUNTIF(B4:B48,"M") -> 2 | C50: =COUNTIFS(C4:C48, "*", B4:B48, "m") -> 1 | D50: =COUNTIFS(D4:D48, "*", $B4:$B48, "m") -> 1 | E50: =COUNTIFS(E4:E48, "*", $B4:$B48, "m") -> 0 | F50: =COUNTIFS(F4:F48, "*", $B4:$B48, "m") -> 1 | G50: =COUNTIFS(G4:G48, "*", $B4:$B48, "m") -> 0 | H50: =COUNTIFS(H4:H48, "*", $B4:$B48, "m") -> 1 | I50: =COUNTIFS(I4:I48, "*", B4:B48, "m") -> 1
A51: GIRLS | B51: =COUNTIF(B4:B48,"F") -> 1 | C51: =COUNTIFS(C4:C48, "*", B4:B48, "f") -> 1 | D51: =COUNTIFS(D4:D48, "*", $B4:$B48, "f") -> 0 | E51: =COUNTIFS(E4:E48, "*", $B4:$B48, "f") -> 1 | F51: =COUNTIFS(F4:F48, "*", $B4:$B48, "f") -> 0 | G51: =COUNTIFS(G4:G48, "*", $B4:$B48, "f") -> 1 | H51: =COUNTIFS(H4:H48, "*", $B4:$B48, "f") -> 0 | I51: =COUNTIFS(I4:I48, "*", B4:B48, "f") -> 0

Sheet Understanding the World
A1: TRACK WHAT MATTERS | J1: AREA OF LEARNING | L1: AREA OF LEARNING
B2: PUPIL INFORMATION | J2: UNDERSTANDING THE WORLD | L2: UNDERSTANDING THE WORLD
A3: NAME | B3: Gender | C3: DIS | D3: SEND | E3: High attainers | F3: EAL | G3: Autumn born | H3: Spring born | I3: Summer born | J3: Current assessment | L3: Current assessment: Analysis summary | N3: All pupils | O3: Boys | P3: Girls | Q3: DIS | R3: SEND | S3: High attainers | T3: EAL | U3: Autumn born | V3: Spring born | W3: Summer born
A4: =('Communication & Language'!A4) -> Example Child A | B4: =('Communication & Language'!B4) -> M | C4: =('Communication & Language'!C4) -> Y | D4: =('Communication & Language'!D4) -> Y | E4: =('Communication & Language'!E4) -> 0 | F4: ='Communication & Language'!F4 -> Y | G4: =('Communication & Language'!G4) -> 0 | H4: =('Communication & Language'!H4) -> 0 | I4: =('Communication & Language'!I4) -> Y | L4: Monitoring | M4: Tally | N4: =COUNTIF(J4:J48, "Monitoring") -> 0 | O4: =COUNTIFS(J4:J48, "Monitoring",$B4:$B48, "m") -> 0 | P4: =COUNTIFS(J4:J48, "Monitoring",$B4:$B48, "f") -> 0 | Q4: =COUNTIFS(J4:J48, "Monitoring",$C4:$C48, "*") -> 0 | R4: =COUNTIFS(J4:J48, "Monitoring",$D4:$D48, "*") -> 0 | S4: =COUNTIFS(J4:J48, "Monitoring",$E4:$E48, "*") -> 0 | T4: =COUNTIFS(J4:J48, "Monitoring",$F4:$F48, "*") -> 0 | U4: =COUNTIFS(J4:J48, "Monitoring",$G4:$G48, "*") -> 0 | V4: =COUNTIFS(J4:J48, "Monitoring",$H4:$H48, "*") -> 0 | W4: =COUNTIFS(J4:J48, "Monitoring",$I4:$I48, "*") -> 0
A5: =('Communication & Language'!A5) -> Example Child B | B5: =('Communication & Language'!B5) -> F | C5: =('Communication & Language'!C5) -> Y | D5: =('Communication & Language'!D5) -> 0 | E5: =('Communication & Language'!E5) -> Y | F5: ='Communication & Language'!F5 -> 0 | G5: =('Communication & Language'!G5) -> Y | H5: =('Communication & Language'!H5) -> 0 | I5: =('Communication & Language'!I5) -> 0 | M5: Percentage | N5: =N4/$B$49 -> 0 | O5: =O4/$B$50 -> 0 | P5: =P4/$B$51 -> 0 | Q5: =Q4/$C$49 -> 0 | R5: =R4/$D$49 -> 0 | S5: =S4/$E$49 -> 0 | T5: =T4/$F$49 -> 0 | U5: =U4/$G$49 -> 0 | V5: =V4/$H$49 -> 0 | W5: =W4/$I$49 -> 0
A6: =('Communication & Language'!A6) -> Example Child C | B6: =('Communication & Language'!B6) -> M | C6: =('Communication & Language'!C6) -> 0 | D6: =('Communication & Language'!D6) -> 0 | E6: =('Communication & Language'!E6) -> 0 | F6: ='Communication & Language'!F6 -> 0 | G6: =('Communication & Language'!G6) -> 0 | H6: =('Communication & Language'!H6) -> Y | I6: =('Communication & Language'!I6) -> 0 | L6: On track (inc. Aiming high) | M6: Tally | N6: =COUNTIF(J4:J48, "On track to meet curriculum-related expectations") -> 0 | O6: =COUNTIFS(J4:J48, "On track to meet curriculum-related expectations", $B4:$B48, "m") -> 0 | P6: =COUNTIFS(J4:J48, "On track to meet curriculum-related expectations", $B4:$B48, "f") -> 0 | Q6: =COUNTIFS(J4:J48, "On track to meet curriculum-related expectations", $C4:$C48, "*") -> 0 | R6: =COUNTIFS(J4:J48, "On track to meet curriculum-related expectations", $D4:$D48, "*") -> 0 | S6: =COUNTIFS(J4:J48, "On track to meet curriculum-related expectations", $E4:$E48, "*") -> 0 | T6: =COUNTIFS(J4:J48, "On track to meet curriculum-related expectations", $F4:$F48, "*") -> 0 | U6: =COUNTIFS(J4:J48, "On track to meet curriculum-related expectations", $G4:$G48, "*") -> 0 | V6: =COUNTIFS(J4:J48, "On track to meet curriculum-related expectations", $H4:$H48, "*") -> 0 | W6: =COUNTIFS(J4:J48, "On track to meet curriculum-related expectations", $I4:$I48, "*") -> 0
A7: =('Communication & Language'!A7) -> Pupil name | B7: =('Communication & Language'!B7) -> 0 | C7: =('Communication & Language'!C7) -> 0 | D7: =('Communication & Language'!D7) -> 0 | E7: =('Communication & Language'!E7) -> 0 | F7: ='Communication & Language'!F7 -> 0 | G7: =('Communication & Language'!G7) -> 0 | H7: =('Communication & Language'!H7) -> 0 | I7: =('Communication & Language'!I7) -> 0 | M7: Percentage | N7: =N6/$B$49 -> 0 | O7: =O6/$B$50 -> 0 | P7: =P6/$B$51 -> 0 | Q7: =Q6/$C$49 -> 0 | R7: =R6/$D$49 -> 0 | S7: =S6/$E$49 -> 0 | T7: =T6/$F$49 -> 0 | U7: =U6/$G$49 -> 0 | V7: =V6/$H$49 -> 0 | W7: =W6/$I$49 -> 0
A8: =('Communication & Language'!A8) -> Pupil name | B8: =('Communication & Language'!B8) -> 0 | C8: =('Communication & Language'!C8) -> 0 | D8: =('Communication & Language'!D8) -> 0 | E8: =('Communication & Language'!E8) -> 0 | F8: ='Communication & Language'!F8 -> 0 | G8: =('Communication & Language'!G8) -> 0 | H8: =('Communication & Language'!H8) -> 0 | I8: =('Communication & Language'!I8) -> 0
A9: =('Communication & Language'!A9) -> Pupil name | B9: =('Communication & Language'!B9) -> 0 | C9: =('Communication & Language'!C9) -> 0 | D9: =('Communication & Language'!D9) -> 0 | E9: =('Communication & Language'!E9) -> 0 | F9: ='Communication & Language'!F9 -> 0 | G9: =('Communication & Language'!G9) -> 0 | H9: =('Communication & Language'!H9) -> 0 | I9: =('Communication & Language'!I9) -> 0
A10: =('Communication & Language'!A10) -> Pupil name | B10: =('Communication & Language'!B10) -> 0 | C10: =('Communication & Language'!C10) -> 0 | D10: =('Communication & Language'!D10) -> 0 | E10: =('Communication & Language'!E10) -> 0 | F10: ='Communication & Language'!F10 -> 0 | G10: =('Communication & Language'!G10) -> 0 | H10: =('Communication & Language'!H10) -> 0 | I10: =('Communication & Language'!I10) -> 0
A11: =('Communication & Language'!A11) -> Pupil name | B11: =('Communication & Language'!B11) -> 0 | C11: =('Communication & Language'!C11) -> 0 | D11: =('Communication & Language'!D11) -> 0 | E11: =('Communication & Language'!E11) -> 0 | F11: ='Communication & Language'!F11 -> 0 | G11: =('Communication & Language'!G11) -> 0 | H11: =('Communication & Language'!H11) -> 0 | I11: =('Communication & Language'!I11) -> 0
A12: =('Communication & Language'!A12) -> Pupil name | B12: =('Communication & Language'!B12) -> 0 | C12: =('Communication & Language'!C12) -> 0 | D12: =('Communication & Language'!D12) -> 0 | E12: =('Communication & Language'!E12) -> 0 | F12: ='Communication & Language'!F12 -> 0 | G12: =('Communication & Language'!G12) -> 0 | H12: =('Communication & Language'!H12) -> 0 | I12: =('Communication & Language'!I12) -> 0
A13: =('Communication & Language'!A13) -> Pupil name | B13: =('Communication & Language'!B13) -> 0 | C13: =('Communication & Language'!C13) -> 0 | D13: =('Communication & Language'!D13) -> 0 | E13: =('Communication & Language'!E13) -> 0 | F13: ='Communication & Language'!F13 -> 0 | G13: =('Communication & Language'!G13) -> 0 | H13: =('Communication & Language'!H13) -> 0 | I13: =('Communication & Language'!I13) -> 0
A14: =('Communication & Language'!A14) -> Pupil name | B14: =('Communication & Language'!B14) -> 0 | C14: =('Communication & Language'!C14) -> 0 | D14: =('Communication & Language'!D14) -> 0 | E14: =('Communication & Language'!E14) -> 0 | F14: ='Communication & Language'!F14 -> 0 | G14: =('Communication & Language'!G14) -> 0 | H14: =('Communication & Language'!H14) -> 0 | I14: =('Communication & Language'!I14) -> 0
A15: =('Communication & Language'!A15) -> Pupil name | B15: =('Communication & Language'!B15) -> 0 | C15: =('Communication & Language'!C15) -> 0 | D15: =('Communication & Language'!D15) -> 0 | E15: =('Communication & Language'!E15) -> 0 | F15: ='Communication & Language'!F15 -> 0 | G15: =('Communication & Language'!G15) -> 0 | H15: =('Communication & Language'!H15) -> 0 | I15: =('Communication & Language'!I15) -> 0
A16: =('Communication & Language'!A16) -> Pupil name | B16: =('Communication & Language'!B16) -> 0 | C16: =('Communication & Language'!C16) -> 0 | D16: =('Communication & Language'!D16) -> 0 | E16: =('Communication & Language'!E16) -> 0 | F16: ='Communication & Language'!F16 -> 0 | G16: =('Communication & Language'!G16) -> 0 | H16: =('Communication & Language'!H16) -> 0 | I16: =('Communication & Language'!I16) -> 0
A17: =('Communication & Language'!A17) -> Pupil name | B17: =('Communication & Language'!B17) -> 0 | C17: =('Communication & Language'!C17) -> 0 | D17: =('Communication & Language'!D17) -> 0 | E17: =('Communication & Language'!E17) -> 0 | F17: ='Communication & Language'!F17 -> 0 | G17: =('Communication & Language'!G17) -> 0 | H17: =('Communication & Language'!H17) -> 0 | I17: =('Communication & Language'!I17) -> 0
A18: =('Communication & Language'!A18) -> Pupil name | B18: =('Communication & Language'!B18) -> 0 | C18: =('Communication & Language'!C18) -> 0 | D18: =('Communication & Language'!D18) -> 0 | E18: =('Communication & Language'!E18) -> 0 | F18: ='Communication & Language'!F18 -> 0 | G18: =('Communication & Language'!G18) -> 0 | H18: =('Communication & Language'!H18) -> 0 | I18: =('Communication & Language'!I18) -> 0
A19: =('Communication & Language'!A19) -> Pupil name | B19: =('Communication & Language'!B19) -> 0 | C19: =('Communication & Language'!C19) -> 0 | D19: =('Communication & Language'!D19) -> 0 | E19: =('Communication & Language'!E19) -> 0 | F19: ='Communication & Language'!F19 -> 0 | G19: =('Communication & Language'!G19) -> 0 | H19: =('Communication & Language'!H19) -> 0 | I19: =('Communication & Language'!I19) -> 0
... A48: =('Communication & Language'!A48) -> Pupil name | B48: =('Communication & Language'!B48) -> 0 | C48: =('Communication & Language'!C48) -> 0 | D48: =('Communication & Language'!D48) -> 0 | E48: =('Communication & Language'!E48) -> 0 | F48: ='Communication & Language'!F48 -> 0 | G48: =('Communication & Language'!G48) -> 0 | H48: =('Communication & Language'!H48) -> 0 | I48: =('Communication & Language'!I48) -> 0
A49: TOTALS | B49: =COUNTIF(B4:B48,"*") -> 3 | C49: =COUNTIF(C4:C48,"*") -> 2 | D49: =COUNTIF(D4:D48,"*") -> 1 | E49: =COUNTIF(E4:E48,"*") -> 1 | F49: =COUNTIF(F4:F48,"*") -> 1 | G49: =COUNTIF(G4:G48,"*") -> 1 | H49: =COUNTIF(H4:H48,"*") -> 1 | I49: =COUNTIF(I4:I48,"*") -> 1
A50: BOYS | B50: =COUNTIF(B4:B48,"M") -> 2 | C50: =COUNTIFS(C4:C48, "*", B4:B48, "m") -> 1 | D50: =COUNTIFS(D4:D48, "*", $B4:$B48, "m") -> 1 | E50: =COUNTIFS(E4:E48, "*", $B4:$B48, "m") -> 0 | F50: =COUNTIFS(F4:F48, "*", $B4:$B48, "m") -> 1 | G50: =COUNTIFS(G4:G48, "*", $B4:$B48, "m") -> 0 | H50: =COUNTIFS(H4:H48, "*", $B4:$B48, "m") -> 1 | I50: =COUNTIFS(I4:I48, "*", B4:B48, "m") -> 1
A51: GIRLS | B51: =COUNTIF(B4:B48,"F") -> 1 | C51: =COUNTIFS(C4:C48, "*", B4:B48, "f") -> 1 | D51: =COUNTIFS(D4:D48, "*", $B4:$B48, "f") -> 0 | E51: =COUNTIFS(E4:E48, "*", $B4:$B48, "f") -> 1 | F51: =COUNTIFS(F4:F48, "*", $B4:$B48, "f") -> 0 | G51: =COUNTIFS(G4:G48, "*", $B4:$B48, "f") -> 1 | H51: =COUNTIFS(H4:H48, "*", $B4:$B48, "f") -> 0 | I51: =COUNTIFS(I4:I48, "*", B4:B48, "f") -> 0

Sheet Expressive Arts & Design
A1: TRACK WHAT MATTERS | J1: AREA OF LEARNING | L1: AREA OF LEARNING
B2: PUPIL INFORMATION | J2: EXPRESSIVE ARTS AND DESIGN | L2: EXPRESSIVE ARTS AND DESIGN
A3: NAME | B3: Gender | C3: DIS | D3: SEND | E3: High attainers | F3: EAL | G3: Autumn born | H3: Spring born | I3: Summer born | J3: Current assessment | L3: Current assessment: Analysis summary | N3: All pupils | O3: Boys | P3: Girls | Q3: DIS | R3: SEND | S3: High attainers | T3: EAL | U3: Autumn born | V3: Spring born | W3: Summer born
A4: =('Communication & Language'!A4) -> Example Child A | B4: =('Communication & Language'!B4) -> M | C4: =('Communication & Language'!C4) -> Y | D4: =('Communication & Language'!D4) -> Y | E4: =('Communication & Language'!E4) -> 0 | F4: ='Communication & Language'!F4 -> Y | G4: =('Communication & Language'!G4) -> 0 | H4: =('Communication & Language'!H4) -> 0 | I4: =('Communication & Language'!I4) -> Y | L4: Monitoring | M4: Tally | N4: =COUNTIF(J4:J48, "Monitoring") -> 0 | O4: =COUNTIFS(J4:J48, "Monitoring",$B4:$B48, "m") -> 0 | P4: =COUNTIFS(J4:J48, "Monitoring",$B4:$B48, "f") -> 0 | Q4: =COUNTIFS(J4:J48, "Monitoring",$C4:$C48, "*") -> 0 | R4: =COUNTIFS(J4:J48, "Monitoring",$D4:$D48, "*") -> 0 | S4: =COUNTIFS(J4:J48, "Monitoring",$E4:$E48, "*") -> 0 | T4: =COUNTIFS(J4:J48, "Monitoring",$F4:$F48, "*") -> 0 | U4: =COUNTIFS(J4:J48, "Monitoring",$G4:$G48, "*") -> 0 | V4: =COUNTIFS(J4:J48, "Monitoring",$H4:$H48, "*") -> 0 | W4: =COUNTIFS(J4:J48, "Monitoring",$I4:$I48, "*") -> 0
A5: =('Communication & Language'!A5) -> Example Child B | B5: =('Communication & Language'!B5) -> F | C5: =('Communication & Language'!C5) -> Y | D5: =('Communication & Language'!D5) -> 0 | E5: =('Communication & Language'!E5) -> Y | F5: ='Communication & Language'!F5 -> 0 | G5: =('Communication & Language'!G5) -> Y | H5: =('Communication & Language'!H5) -> 0 | I5: =('Communication & Language'!I5) -> 0 | M5: Percentage | N5: =N4/$B$49 -> 0 | O5: =O4/$B$50 -> 0 | P5: =P4/$B$51 -> 0 | Q5: =Q4/$C$49 -> 0 | R5: =R4/$D$49 -> 0 | S5: =S4/$E$49 -> 0 | T5: =T4/$F$49 -> 0 | U5: =U4/$G$49 -> 0 | V5: =V4/$H$49 -> 0 | W5: =W4/$I$49 -> 0
A6: =('Communication & Language'!A6) -> Example Child C | B6: =('Communication & Language'!B6) -> M | C6: =('Communication & Language'!C6) -> 0 | D6: =('Communication & Language'!D6) -> 0 | E6: =('Communication & Language'!E6) -> 0 | F6: ='Communication & Language'!F6 -> 0 | G6: =('Communication & Language'!G6) -> 0 | H6: =('Communication & Language'!H6) -> Y | I6: =('Communication & Language'!I6) -> 0 | L6: On track (inc. Aiming high) | M6: Tally | N6: =COUNTIF(J4:J48, "On track to meet curriculum-related expectations") -> 0 | O6: =COUNTIFS(J4:J48, "On track to meet curriculum-related expectations", $B4:$B48, "m") -> 0 | P6: =COUNTIFS(J4:J48, "On track to meet curriculum-related expectations", $B4:$B48, "f") -> 0 | Q6: =COUNTIFS(J4:J48, "On track to meet curriculum-related expectations", $C4:$C48, "*") -> 0 | R6: =COUNTIFS(J4:J48, "On track to meet curriculum-related expectations", $D4:$D48, "*") -> 0 | S6: =COUNTIFS(J4:J48, "On track to meet curriculum-related expectations", $E4:$E48, "*") -> 0 | T6: =COUNTIFS(J4:J48, "On track to meet curriculum-related expectations", $F4:$F48, "*") -> 0 | U6: =COUNTIFS(J4:J48, "On track to meet curriculum-related expectations", $G4:$G48, "*") -> 0 | V6: =COUNTIFS(J4:J48, "On track to meet curriculum-related expectations", $H4:$H48, "*") -> 0 | W6: =COUNTIFS(J4:J48, "On track to meet curriculum-related expectations", $I4:$I48, "*") -> 0
A7: =('Communication & Language'!A7) -> Pupil name | B7: =('Communication & Language'!B7) -> 0 | C7: =('Communication & Language'!C7) -> 0 | D7: =('Communication & Language'!D7) -> 0 | E7: =('Communication & Language'!E7) -> 0 | F7: ='Communication & Language'!F7 -> 0 | G7: =('Communication & Language'!G7) -> 0 | H7: =('Communication & Language'!H7) -> 0 | I7: =('Communication & Language'!I7) -> 0 | M7: Percentage | N7: =N6/$B$49 -> 0 | O7: =O6/$B$50 -> 0 | P7: =P6/$B$51 -> 0 | Q7: =Q6/$C$49 -> 0 | R7: =R6/$D$49 -> 0 | S7: =S6/$E$49 -> 0 | T7: =T6/$F$49 -> 0 | U7: =U6/$G$49 -> 0 | V7: =V6/$H$49 -> 0 | W7: =W6/$I$49 -> 0
A8: =('Communication & Language'!A8) -> Pupil name | B8: =('Communication & Language'!B8) -> 0 | C8: =('Communication & Language'!C8) -> 0 | D8: =('Communication & Language'!D8) -> 0 | E8: =('Communication & Language'!E8) -> 0 | F8: ='Communication & Language'!F8 -> 0 | G8: =('Communication & Language'!G8) -> 0 | H8: =('Communication & Language'!H8) -> 0 | I8: =('Communication & Language'!I8) -> 0
A9: =('Communication & Language'!A9) -> Pupil name | B9: =('Communication & Language'!B9) -> 0 | C9: =('Communication & Language'!C9) -> 0 | D9: =('Communication & Language'!D9) -> 0 | E9: =('Communication & Language'!E9) -> 0 | F9: ='Communication & Language'!F9 -> 0 | G9: =('Communication & Language'!G9) -> 0 | H9: =('Communication & Language'!H9) -> 0 | I9: =('Communication & Language'!I9) -> 0
A10: =('Communication & Language'!A10) -> Pupil name | B10: =('Communication & Language'!B10) -> 0 | C10: =('Communication & Language'!C10) -> 0 | D10: =('Communication & Language'!D10) -> 0 | E10: =('Communication & Language'!E10) -> 0 | F10: ='Communication & Language'!F10 -> 0 | G10: =('Communication & Language'!G10) -> 0 | H10: =('Communication & Language'!H10) -> 0 | I10: =('Communication & Language'!I10) -> 0
A11: =('Communication & Language'!A11) -> Pupil name | B11: =('Communication & Language'!B11) -> 0 | C11: =('Communication & Language'!C11) -> 0 | D11: =('Communication & Language'!D11) -> 0 | E11: =('Communication & Language'!E11) -> 0 | F11: ='Communication & Language'!F11 -> 0 | G11: =('Communication & Language'!G11) -> 0 | H11: =('Communication & Language'!H11) -> 0 | I11: =('Communication & Language'!I11) -> 0
A12: =('Communication & Language'!A12) -> Pupil name | B12: =('Communication & Language'!B12) -> 0 | C12: =('Communication & Language'!C12) -> 0 | D12: =('Communication & Language'!D12) -> 0 | E12: =('Communication & Language'!E12) -> 0 | F12: ='Communication & Language'!F12 -> 0 | G12: =('Communication & Language'!G12) -> 0 | H12: =('Communication & Language'!H12) -> 0 | I12: =('Communication & Language'!I12) -> 0
A13: =('Communication & Language'!A13) -> Pupil name | B13: =('Communication & Language'!B13) -> 0 | C13: =('Communication & Language'!C13) -> 0 | D13: =('Communication & Language'!D13) -> 0 | E13: =('Communication & Language'!E13) -> 0 | F13: ='Communication & Language'!F13 -> 0 | G13: =('Communication & Language'!G13) -> 0 | H13: =('Communication & Language'!H13) -> 0 | I13: =('Communication & Language'!I13) -> 0
A14: =('Communication & Language'!A14) -> Pupil name | B14: =('Communication & Language'!B14) -> 0 | C14: =('Communication & Language'!C14) -> 0 | D14: =('Communication & Language'!D14) -> 0 | E14: =('Communication & Language'!E14) -> 0 | F14: ='Communication & Language'!F14 -> 0 | G14: =('Communication & Language'!G14) -> 0 | H14: =('Communication & Language'!H14) -> 0 | I14: =('Communication & Language'!I14) -> 0
A15: =('Communication & Language'!A15) -> Pupil name | B15: =('Communication & Language'!B15) -> 0 | C15: =('Communication & Language'!C15) -> 0 | D15: =('Communication & Language'!D15) -> 0 | E15: =('Communication & Language'!E15) -> 0 | F15: ='Communication & Language'!F15 -> 0 | G15: =('Communication & Language'!G15) -> 0 | H15: =('Communication & Language'!H15) -> 0 | I15: =('Communication & Language'!I15) -> 0
A16: =('Communication & Language'!A16) -> Pupil name | B16: =('Communication & Language'!B16) -> 0 | C16: =('Communication & Language'!C16) -> 0 | D16: =('Communication & Language'!D16) -> 0 | E16: =('Communication & Language'!E16) -> 0 | F16: ='Communication & Language'!F16 -> 0 | G16: =('Communication & Language'!G16) -> 0 | H16: =('Communication & Language'!H16) -> 0 | I16: =('Communication & Language'!I16) -> 0
A17: =('Communication & Language'!A17) -> Pupil name | B17: =('Communication & Language'!B17) -> 0 | C17: =('Communication & Language'!C17) -> 0 | D17: =('Communication & Language'!D17) -> 0 | E17: =('Communication & Language'!E17) -> 0 | F17: ='Communication & Language'!F17 -> 0 | G17: =('Communication & Language'!G17) -> 0 | H17: =('Communication & Language'!H17) -> 0 | I17: =('Communication & Language'!I17) -> 0
A18: =('Communication & Language'!A18) -> Pupil name | B18: =('Communication & Language'!B18) -> 0 | C18: =('Communication & Language'!C18) -> 0 | D18: =('Communication & Language'!D18) -> 0 | E18: =('Communication & Language'!E18) -> 0 | F18: ='Communication & Language'!F18 -> 0 | G18: =('Communication & Language'!G18) -> 0 | H18: =('Communication & Language'!H18) -> 0 | I18: =('Communication & Language'!I18) -> 0
A19: =('Communication & Language'!A19) -> Pupil name | B19: =('Communication & Language'!B19) -> 0 | C19: =('Communication & Language'!C19) -> 0 | D19: =('Communication & Language'!D19) -> 0 | E19: =('Communication & Language'!E19) -> 0 | F19: ='Communication & Language'!F19 -> 0 | G19: =('Communication & Language'!G19) -> 0 | H19: =('Communication & Language'!H19) -> 0 | I19: =('Communication & Language'!I19) -> 0
... A48: =('Communication & Language'!A48) -> Pupil name | B48: =('Communication & Language'!B48) -> 0 | C48: =('Communication & Language'!C48) -> 0 | D48: =('Communication & Language'!D48) -> 0 | E48: =('Communication & Language'!E48) -> 0 | F48: ='Communication & Language'!F48 -> 0 | G48: =('Communication & Language'!G48) -> 0 | H48: =('Communication & Language'!H48) -> 0 | I48: =('Communication & Language'!I48) -> 0
A49: TOTALS | B49: =COUNTIF(B4:B48,"*") -> 3 | C49: =COUNTIF(C4:C48,"*") -> 2 | D49: =COUNTIF(D4:D48,"*") -> 1 | E49: =COUNTIF(E4:E48,"*") -> 1 | F49: =COUNTIF(F4:F48,"*") -> 1 | G49: =COUNTIF(G4:G48,"*") -> 1 | H49: =COUNTIF(H4:H48,"*") -> 1 | I49: =COUNTIF(I4:I48,"*") -> 1
A50: BOYS | B50: =COUNTIF(B4:B48,"M") -> 2 | C50: =COUNTIFS(C4:C48, "*", B4:B48, "m") -> 1 | D50: =COUNTIFS(D4:D48, "*", $B4:$B48, "m") -> 1 | E50: =COUNTIFS(E4:E48, "*", $B4:$B48, "m") -> 0 | F50: =COUNTIFS(F4:F48, "*", $B4:$B48, "m") -> 1 | G50: =COUNTIFS(G4:G48, "*", $B4:$B48, "m") -> 0 | H50: =COUNTIFS(H4:H48, "*", $B4:$B48, "m") -> 1 | I50: =COUNTIFS(I4:I48, "*", B4:B48, "m") -> 1
A51: GIRLS | B51: =COUNTIF(B4:B48,"F") -> 1 | C51: =COUNTIFS(C4:C48, "*", B4:B48, "f") -> 1 | D51: =COUNTIFS(D4:D48, "*", $B4:$B48, "f") -> 0 | E51: =COUNTIFS(E4:E48, "*", $B4:$B48, "f") -> 1 | F51: =COUNTIFS(F4:F48, "*", $B4:$B48, "f") -> 0 | G51: =COUNTIFS(G4:G48, "*", $B4:$B48, "f") -> 1 | H51: =COUNTIFS(H4:H48, "*", $B4:$B48, "f") -> 0 | I51: =COUNTIFS(I4:I48, "*", B4:B48, "f") -> 0

Sheet MONITORING
A1: TRACK WHAT MATTERS | B1: PRIME AREAS | E1: SPECIFIC AREAS
A2: ADDITIONAL MONITORING | B2: Communication and language | C2: Personal, social and emotional development | D2: Physical development | E2: Literacy | F2: Mathematics | G2: Understanding the world | H2: Expressive arts and design
A4: ENTER PUPIL NAME | B4: ☓ Not Monitoring | C4: ☓ Not Monitoring | D4: ☓ Not Monitoring | E4: ☓ Not Monitoring | F4: ☓ Not Monitoring | G4: ☓ Not Monitoring | H4: ☓ Not Monitoring
B5: Next steps: | C5: Next steps: | D5: Next steps: | E5: Next steps: | F5: Next steps: | G5: Next steps: | H5: Next steps:
B6: Actions: | C6: Actions: | D6: Actions: | E6: Actions: | F6: Actions: | G6: Actions: | H6: Actions:
A7: ENTER PUPIL NAME | B7: ☓ Not Monitoring | C7: ☓ Not Monitoring | D7: ☓ Not Monitoring | E7: ☓ Not Monitoring | F7: ☓ Not Monitoring | G7: ☓ Not Monitoring | H7: ☓ Not Monitoring
B8: Next steps: | C8: Next steps: | D8: Next steps: | E8: Next steps: | F8: Next steps: | G8: Next steps: | H8: Next steps:
B9: Actions: | C9: Actions: | D9: Actions: | E9: Actions: | F9: Actions: | G9: Actions: | H9: Actions:
A10: ENTER PUPIL NAME | B10: ☓ Not Monitoring | C10: ☓ Not Monitoring | D10: ☓ Not Monitoring | E10: ☓ Not Monitoring | F10: ☓ Not Monitoring | G10: ☓ Not Monitoring | H10: ☓ Not Monitoring
B11: Next steps: | C11: Next steps: | D11: Next steps: | E11: Next steps: | F11: Next steps: | G11: Next steps: | H11: Next steps:
B12: Actions: | C12: Actions: | D12: Actions: | E12: Actions: | F12: Actions: | G12: Actions: | H12: Actions:
A13: ENTER PUPIL NAME | B13: ☓ Not Monitoring | C13: ☓ Not Monitoring | D13: ☓ Not Monitoring | E13: ☓ Not Monitoring | F13: ☓ Not Monitoring | G13: ☓ Not Monitoring | H13: ☓ Not Monitoring
B14: Next steps: | C14: Next steps: | D14: Next steps: | E14: Next steps: | F14: Next steps: | G14: Next steps: | H14: Next steps:
B15: Actions: | C15: Actions: | D15: Actions: | E15: Actions: | F15: Actions: | G15: Actions: | H15: Actions:
A16: ENTER PUPIL NAME | B16: ☓ Not Monitoring | C16: ☓ Not Monitoring | D16: ☓ Not Monitoring | E16: ☓ Not Monitoring | F16: ☓ Not Monitoring | G16: ☓ Not Monitoring | H16: ☓ Not Monitoring
B17: Next steps: | C17: Next steps: | D17: Next steps: | E17: Next steps: | F17: Next steps: | G17: Next steps: | H17: Next steps:
B18: Actions: | C18: Actions: | D18: Actions: | E18: Actions: | F18: Actions: | G18: Actions: | H18: Actions:
A19: ENTER PUPIL NAME | B19: ☓ Not Monitoring | C19: ☓ Not Monitoring | D19: ☓ Not Monitoring | E19: ☓ Not Monitoring | F19: ☓ Not Monitoring | G19: ☓ Not Monitoring | H19: ☓ Not Monitoring
B20: Next steps: | C20: Next steps: | D20: Next steps: | E20: Next steps: | F20: Next steps: | G20: Next steps: | H20: Next steps:
B21: Actions: | C21: Actions: | D21: Actions: | E21: Actions: | F21: Actions: | G21: Actions: | H21: Actions:
A22: ENTER PUPIL NAME | B22: ☓ Not Monitoring | C22: ☓ Not Monitoring | D22: ☓ Not Monitoring | E22: ☓ Not Monitoring | F22: ☓ Not Monitoring | G22: ☓ Not Monitoring | H22: ☓ Not Monitoring
B23: Next steps: | C23: Next steps: | D23: Next steps: | E23: Next steps: | F23: Next steps: | G23: Next steps: | H23: Next steps:
B24: Actions: | C24: Actions: | D24: Actions: | E24: Actions: | F24: Actions: | G24: Actions: | H24: Actions:
A25: ENTER PUPIL NAME | B25: ☓ Not Monitoring | C25: ☓ Not Monitoring | D25: ☓ Not Monitoring | E25: ☓ Not Monitoring | F25: ☓ Not Monitoring | G25: ☓ Not Monitoring | H25: ☓ Not Monitoring
B26: Next steps: | C26: Next steps: | D26: Next steps: | E26: Next steps: | F26: Next steps: | G26: Next steps: | H26: Next steps:
B27: Actions: | C27: Actions: | D27: Actions: | E27: Actions: | F27: Actions: | G27: Actions: | H27: Actions:
A28: ENTER PUPIL NAME | B28: ☓ Not Monitoring | C28: ☓ Not Monitoring | D28: ☓ Not Monitoring | E28: ☓ Not Monitoring | F28: ☓ Not Monitoring | G28: ☓ Not Monitoring | H28: ☓ Not Monitoring
B29: Next steps: | C29: Next steps: | D29: Next steps: | E29: Next steps: | F29: Next steps: | G29: Next steps: | H29: Next steps:
B30: Actions: | C30: Actions: | D30: Actions: | E30: Actions: | F30: Actions: | G30: Actions: | H30: Actions:
A31: ENTER PUPIL NAME | B31: ☓ Not Monitoring | C31: ☓ Not Monitoring | D31: ☓ Not Monitoring | E31: ☓ Not Monitoring | F31: ☓ Not Monitoring | G31: ☓ Not Monitoring | H31: ☓ Not Monitoring
B32: Next steps: | C32: Next steps: | D32: Next steps: | E32: Next steps: | F32: Next steps: | G32: Next steps: | H32: Next steps:
B33: Actions: | C33: Actions: | D33: Actions: | E33: Actions: | F33: Actions: | G33: Actions: | H33: Actions:
A34: ENTER PUPIL NAME | B34: ☓ Not Monitoring | C34: ☓ Not Monitoring | D34: ☓ Not Monitoring | E34: ☓ Not Monitoring | F34: ☓ Not Monitoring | G34: ☓ Not Monitoring | H34: ☓ Not Monitoring
B35: Next steps: | C35: Next steps: | D35: Next steps: | E35: Next steps: | F35: Next steps: | G35: Next steps: | H35: Next steps:
B36: Actions: | C36: Actions: | D36: Actions: | E36: Actions: | F36: Actions: | G36: Actions: | H36: Actions:
A37: ENTER PUPIL NAME | B37: ☓ Not Monitoring | C37: ☓ Not Monitoring | D37: ☓ Not Monitoring | E37: ☓ Not Monitoring | F37: ☓ Not Monitoring | G37: ☓ Not Monitoring | H37: ☓ Not Monitoring
B38: Next steps: | C38: Next steps: | D38: Next steps: | E38: Next steps: | F38: Next steps: | G38: Next steps: | H38: Next steps:
B39: Actions: | C39: Actions: | D39: Actions: | E39: Actions: | F39: Actions: | G39: Actions: | H39: Actions:
A40: ENTER PUPIL NAME | B40: ☓ Not Monitoring | C40: ☓ Not Monitoring | D40: ☓ Not Monitoring | E40: ☓ Not Monitoring | F40: ☓ Not Monitoring | G40: ☓ Not Monitoring | H40: ☓ Not Monitoring
B41: Next steps: | C41: Next steps: | D41: Next steps: | E41: Next steps: | F41: Next steps: | G41: Next steps: | H41: Next steps:
B42: Actions: | C42: Actions: | D42: Actions: | E42: Actions: | F42: Actions: | G42: Actions: | H42: Actions:

Sheet Summer Data
A1: TRACK WHAT MATTERS | J1: PRIME AREAS | Q1: SPECIFIC AREAS
B2: PUPIL INFORMATION | J2: COMM. & LANG. | L2: PSED | O2: PHYSICAL DEV. | Q2: LITERACY | T2: MATHEMATICS | V2: UNDERSTANDING THE WORLD | Y2: EA & D
A3: NAME | B3: Gender | C3: DIS | D3: SEND | E3: High attainers | F3: EAL | G3: Autumn born | H3: Spring born | I3: Summer born | J3: Listening, attention and understanding | K3: Speaking | L3: Self-regulation | M3: Managing self | N3: Building relationships | O3: Gross motor skills | P3: Fine motor skills | Q3: Comp. | R3: Word reading | S3: Writing | T3: Number | U3: Numerical patterns | V3: Past and present | W3: People, culture and communities | X3: The natural world | Y3: Creating with materials | Z3: Being imaginative and expressive
A4: =('Communication & Language'!A4) -> Example Child A | B4: =('Communication & Language'!B4) -> M | C4: =('Communication & Language'!C4) -> Y | D4: =('Communication & Language'!D4) -> Y | E4: =('Communication & Language'!E4) -> 0 | F4: ='Communication & Language'!F4 -> Y | G4: =('Communication & Language'!G4) -> 0 | H4: =('Communication & Language'!H4) -> 0 | I4: =('Communication & Language'!I4) -> Y | J4: 2 | K4: 2 | L4: 2 | M4: 2 | N4: 2 | O4: 2 | P4: 2 | Q4: 2 | R4: 2 | S4: 2 | T4: 2 | U4: 2 | V4: 2 | W4: 2 | X4: 2 | Y4: 2 | Z4: 2
A5: =('Communication & Language'!A5) -> Example Child B | B5: =('Communication & Language'!B5) -> F | C5: =('Communication & Language'!C5) -> Y | D5: =('Communication & Language'!D5) -> 0 | E5: =('Communication & Language'!E5) -> Y | F5: ='Communication & Language'!F5 -> 0 | G5: =('Communication & Language'!G5) -> Y | H5: =('Communication & Language'!H5) -> 0 | I5: =('Communication & Language'!I5) -> 0 | J5: 2 | K5: 2 | L5: 2 | M5: 1 | N5: 2 | O5: 1 | P5: 2 | Q5: 2 | R5: 2 | S5: 2 | T5: 2 | U5: 2 | V5: 2 | W5: 2 | X5: 2 | Y5: 1 | Z5: 1
A6: =('Communication & Language'!A6) -> Example Child C | B6: =('Communication & Language'!B6) -> M | C6: =('Communication & Language'!C6) -> 0 | D6: =('Communication & Language'!D6) -> 0 | E6: =('Communication & Language'!E6) -> 0 | F6: ='Communication & Language'!F6 -> 0 | G6: =('Communication & Language'!G6) -> 0 | H6: =('Communication & Language'!H6) -> Y | I6: =('Communication & Language'!I6) -> 0 | J6: 1 | K6: 2 | L6: 2 | M6: 1 | N6: 2 | O6: 1 | P6: 1 | Q6: 2 | R6: 2 | S6: 2 | T6: 1 | U6: 1 | V6: 2 | W6: 1 | X6: 2 | Y6: 1 | Z6: 2
A7: =('Communication & Language'!A7) -> Pupil name | B7: =('Communication & Language'!B7) -> 0 | C7: =('Communication & Language'!C7) -> 0 | D7: =('Communication & Language'!D7) -> 0 | E7: =('Communication & Language'!E7) -> 0 | F7: ='Communication & Language'!F7 -> 0 | G7: =('Communication & Language'!G7) -> 0 | H7: =('Communication & Language'!H7) -> 0 | I7: =('Communication & Language'!I7) -> 0
A8: =('Communication & Language'!A8) -> Pupil name | B8: =('Communication & Language'!B8) -> 0 | C8: =('Communication & Language'!C8) -> 0 | D8: =('Communication & Language'!D8) -> 0 | E8: =('Communication & Language'!E8) -> 0 | F8: ='Communication & Language'!F8 -> 0 | G8: =('Communication & Language'!G8) -> 0 | H8: =('Communication & Language'!H8) -> 0 | I8: =('Communication & Language'!I8) -> 0
A9: =('Communication & Language'!A9) -> Pupil name | B9: =('Communication & Language'!B9) -> 0 | C9: =('Communication & Language'!C9) -> 0 | D9: =('Communication & Language'!D9) -> 0 | E9: =('Communication & Language'!E9) -> 0 | F9: ='Communication & Language'!F9 -> 0 | G9: =('Communication & Language'!G9) -> 0 | H9: =('Communication & Language'!H9) -> 0 | I9: =('Communication & Language'!I9) -> 0
A10: =('Communication & Language'!A10) -> Pupil name | B10: =('Communication & Language'!B10) -> 0 | C10: =('Communication & Language'!C10) -> 0 | D10: =('Communication & Language'!D10) -> 0 | E10: =('Communication & Language'!E10) -> 0 | F10: ='Communication & Language'!F10 -> 0 | G10: =('Communication & Language'!G10) -> 0 | H10: =('Communication & Language'!H10) -> 0 | I10: =('Communication & Language'!I10) -> 0
A11: =('Communication & Language'!A11) -> Pupil name | B11: =('Communication & Language'!B11) -> 0 | C11: =('Communication & Language'!C11) -> 0 | D11: =('Communication & Language'!D11) -> 0 | E11: =('Communication & Language'!E11) -> 0 | F11: ='Communication & Language'!F11 -> 0 | G11: =('Communication & Language'!G11) -> 0 | H11: =('Communication & Language'!H11) -> 0 | I11: =('Communication & Language'!I11) -> 0
A12: =('Communication & Language'!A12) -> Pupil name | B12: =('Communication & Language'!B12) -> 0 | C12: =('Communication & Language'!C12) -> 0 | D12: =('Communication & Language'!D12) -> 0 | E12: =('Communication & Language'!E12) -> 0 | F12: ='Communication & Language'!F12 -> 0 | G12: =('Communication & Language'!G12) -> 0 | H12: =('Communication & Language'!H12) -> 0 | I12: =('Communication & Language'!I12) -> 0
A13: =('Communication & Language'!A13) -> Pupil name | B13: =('Communication & Language'!B13) -> 0 | C13: =('Communication & Language'!C13) -> 0 | D13: =('Communication & Language'!D13) -> 0 | E13: =('Communication & Language'!E13) -> 0 | F13: ='Communication & Language'!F13 -> 0 | G13: =('Communication & Language'!G13) -> 0 | H13: =('Communication & Language'!H13) -> 0 | I13: =('Communication & Language'!I13) -> 0
A14: =('Communication & Language'!A14) -> Pupil name | B14: =('Communication & Language'!B14) -> 0 | C14: =('Communication & Language'!C14) -> 0 | D14: =('Communication & Language'!D14) -> 0 | E14: =('Communication & Language'!E14) -> 0 | F14: ='Communication & Language'!F14 -> 0 | G14: =('Communication & Language'!G14) -> 0 | H14: =('Communication & Language'!H14) -> 0 | I14: =('Communication & Language'!I14) -> 0
A15: =('Communication & Language'!A15) -> Pupil name | B15: =('Communication & Language'!B15) -> 0 | C15: =('Communication & Language'!C15) -> 0 | D15: =('Communication & Language'!D15) -> 0 | E15: =('Communication & Language'!E15) -> 0 | F15: ='Communication & Language'!F15 -> 0 | G15: =('Communication & Language'!G15) -> 0 | H15: =('Communication & Language'!H15) -> 0 | I15: =('Communication & Language'!I15) -> 0
A16: =('Communication & Language'!A16) -> Pupil name | B16: =('Communication & Language'!B16) -> 0 | C16: =('Communication & Language'!C16) -> 0 | D16: =('Communication & Language'!D16) -> 0 | E16: =('Communication & Language'!E16) -> 0 | F16: ='Communication & Language'!F16 -> 0 | G16: =('Communication & Language'!G16) -> 0 | H16: =('Communication & Language'!H16) -> 0 | I16: =('Communication & Language'!I16) -> 0
A17: =('Communication & Language'!A17) -> Pupil name | B17: =('Communication & Language'!B17) -> 0 | C17: =('Communication & Language'!C17) -> 0 | D17: =('Communication & Language'!D17) -> 0 | E17: =('Communication & Language'!E17) -> 0 | F17: ='Communication & Language'!F17 -> 0 | G17: =('Communication & Language'!G17) -> 0 | H17: =('Communication & Language'!H17) -> 0 | I17: =('Communication & Language'!I17) -> 0
A18: =('Communication & Language'!A18) -> Pupil name | B18: =('Communication & Language'!B18) -> 0 | C18: =('Communication & Language'!C18) -> 0 | D18: =('Communication & Language'!D18) -> 0 | E18: =('Communication & Language'!E18) -> 0 | F18: ='Communication & Language'!F18 -> 0 | G18: =('Communication & Language'!G18) -> 0 | H18: =('Communication & Language'!H18) -> 0 | I18: =('Communication & Language'!I18) -> 0
... A48: =('Communication & Language'!A48) -> Pupil name | B48: =('Communication & Language'!B48) -> 0 | C48: =('Communication & Language'!C48) -> 0 | D48: =('Communication & Language'!D48) -> 0 | E48: =('Communication & Language'!E48) -> 0 | F48: ='Communication & Language'!F48 -> 0 | G48: =('Communication & Language'!G48) -> 0 | H48: =('Communication & Language'!H48) -> 0 | I48: =('Communication & Language'!I48) -> 0
A49: TOTALS | B49: =COUNTIF(B4:B48,"*") -> 3 | C49: =COUNTIF(C4:C48,"*") -> 2 | D49: =COUNTIF(D4:D48,"*") -> 1 | E49: =COUNTIF(E4:E48,"*") -> 1 | F49: =COUNTIF(F4:F48,"*") -> 1 | G49: =COUNTIF(G4:G48,"*") -> 1 | H49: =COUNTIF(H4:H48,"*") -> 1 | I49: =COUNTIF(I4:I48,"*") -> 1
A50: BOYS | B50: =COUNTIF(B4:B48,"M") -> 2 | C50: =COUNTIFS(C4:C48, "*", B4:B48, "m") -> 1 | D50: =COUNTIFS(D4:D48, "*", $B4:$B48, "m") -> 1 | E50: =COUNTIFS(E4:E48, "*", $B4:$B48, "m") -> 0 | F50: =COUNTIFS(F4:F48, "*", $B4:$B48, "m") -> 1 | G50: =COUNTIFS(G4:G48, "*", $B4:$B48, "m") -> 0 | H50: =COUNTIFS(H4:H48, "*", $B4:$B48, "m") -> 1 | I50: =COUNTIFS(I4:I48, "*", B4:B48, "m") -> 1
A51: GIRLS | B51: =COUNTIF(B4:B48,"F") -> 1 | C51: =COUNTIFS(C4:C48, "*", B4:B48, "f") -> 1 | D51: =COUNTIFS(D4:D48, "*", $B4:$B48, "f") -> 0 | E51: =COUNTIFS(E4:E48, "*", $B4:$B48, "f") -> 1 | F51: =COUNTIFS(F4:F48, "*", $B4:$B48, "f") -> 0 | G51: =COUNTIFS(G4:G48, "*", $B4:$B48, "f") -> 1 | H51: =COUNTIFS(H4:H48, "*", $B4:$B48, "f") -> 0 | I51: =COUNTIFS(I4:I48, "*", B4:B48, "f") -> 0

Sheet Summer Data Analysis
A1: TRACK WHAT MATTERS | C1: PRIME AREAS | J1: SPECIFIC AREAS
C2: COMM. & LANG. | E2: PSED | H2: PHYSICAL DEV. | J2: LITERACY | M2: MATHEMATICS | O2: UNDERSTANDING THE WORLD | R2: EA & D
A3: ANALYSIS OF SUMMER OUTCOMES | C3: Listening, attention and understanding | D3: Speaking | E3: Self-regulation | F3: Managing self | G3: Building relationships | H3: Gross motor skills | I3: Fine motor skills | J3: Comp. | K3: Word reading | L3: Writing | M3: Number | N3: Numerical patterns | O3: Past and present | P3: People, culture and communities | Q3: The natural world | R3: Creating with materials | S3: Being imaginative and expressive
A4: ALL PUPILS | B4: Emerging (Tally) | C4: =COUNTIF('Summer Data'!J4:J48, "1") -> 1 | D4: =COUNTIF('Summer Data'!K4:K48, "1") -> 0 | E4: =COUNTIF('Summer Data'!L4:L48, "1") -> 0 | F4: =COUNTIF('Summer Data'!M4:M48, "1") -> 2 | G4: =COUNTIF('Summer Data'!N4:N48, "1") -> 0 | H4: =COUNTIF('Summer Data'!O4:O48, "1") -> 2 | I4: =COUNTIF('Summer Data'!P4:P48, "1") -> 1 | J4: =COUNTIF('Summer Data'!Q4:Q48, "1") -> 0 | ... S4: =COUNTIF('Summer Data'!Z4:Z48, "1") -> 1
B5: Emerging (%) | C5: =C4/'Summer Data'!$B49 -> 0.33333333 | D5: =D4/'Summer Data'!$B49 -> 0 | E5: =E4/'Summer Data'!$B49 -> 0 | F5: =F4/'Summer Data'!$B49 -> 0.66666667 | G5: =G4/'Summer Data'!$B49 -> 0 | H5: =H4/'Summer Data'!$B49 -> 0.66666667 | I5: =I4/'Summer Data'!$B49 -> 0.33333333 | J5: =J4/'Summer Data'!$B49 -> 0 | ... S5: =S4/'Summer Data'!$B49 -> 0.33333333
B6: Expected (Tally) | C6: =COUNTIF('Summer Data'!J4:J48, "2") -> 2 | D6: =COUNTIF('Summer Data'!K4:K48, "2") -> 3 | E6: =COUNTIF('Summer Data'!L4:L48, "2") -> 3 | F6: =COUNTIF('Summer Data'!M4:M48, "2") -> 1 | G6: =COUNTIF('Summer Data'!N4:N48, "2") -> 3 | H6: =COUNTIF('Summer Data'!O4:O48, "2") -> 1 | I6: =COUNTIF('Summer Data'!P4:P48, "2") -> 2 | J6: =COUNTIF('Summer Data'!Q4:Q48, "2") -> 3 | ... S6: =COUNTIF('Summer Data'!Z4:Z48, "2") -> 2
B7: Expected (%) | C7: =C6/'Summer Data'!$B49 -> 0.66666667 | D7: =D6/'Summer Data'!$B49 -> 1 | E7: =E6/'Summer Data'!$B49 -> 1 | F7: =F6/'Summer Data'!$B49 -> 0.33333333 | G7: =G6/'Summer Data'!$B49 -> 1 | H7: =H6/'Summer Data'!$B49 -> 0.33333333 | I7: =I6/'Summer Data'!$B49 -> 0.66666667 | J7: =J6/'Summer Data'!$B49 -> 1 | ... S7: =S6/'Summer Data'!$B49 -> 0.66666667
A8: BOYS | B8: Emerging (Tally) | C8: =COUNTIFS('Summer Data'!J4:J48, "1", 'Summer Data'!$B4:$B48, "m") -> 1 | D8: =COUNTIFS('Summer Data'!K4:K48, "1", 'Summer Data'!$B4:$B48, "m") -> 0 | E8: =COUNTIFS('Summer Data'!L4:L48, "1", 'Summer Data'!$B4:$B48, "m") -> 0 | F8: =COUNTIFS('Summer Data'!M4:M48, "1", 'Summer Data'!$B4:$B48, "m") -> 1 | G8: =COUNTIFS('Summer Data'!N4:N48, "1", 'Summer Data'!$B4:$B48, "m") -> 0 | H8: =COUNTIFS('Summer Data'!O4:O48, "1", 'Summer Data'!$B4:$B48, "m") -> 1 | I8: =COUNTIFS('Summer Data'!P4:P48, "1", 'Summer Data'!$B4:$B48, "m") -> 1 | J8: =COUNTIFS('Summer Data'!Q4:Q48, "1", 'Summer Data'!$B4:$B48, "m") -> 0 | ... S8: =COUNTIFS('Summer Data'!Z4:Z48, "1", 'Summer Data'!$B4:$B48, "m") -> 0
B9: Emerging (%) | C9: =C8/'Summer Data'!$B50 -> 0.5 | D9: =D8/'Summer Data'!$B50 -> 0 | E9: =E8/'Summer Data'!$B50 -> 0 | F9: =F8/'Summer Data'!$B50 -> 0.5 | G9: =G8/'Summer Data'!$B50 -> 0 | H9: =H8/'Summer Data'!$B50 -> 0.5 | I9: =I8/'Summer Data'!$B50 -> 0.5 | J9: =J8/'Summer Data'!$B50 -> 0 | ... S9: =S8/'Summer Data'!$B50 -> 0
B10: Expected (Tally) | C10: =COUNTIFS('Summer Data'!J4:J48, "2", 'Summer Data'!$B4:$B48, "m") -> 1 | D10: =COUNTIFS('Summer Data'!K4:K48, "2", 'Summer Data'!$B4:$B48, "m") -> 2 | E10: =COUNTIFS('Summer Data'!L4:L48, "2", 'Summer Data'!$B4:$B48, "m") -> 2 | F10: =COUNTIFS('Summer Data'!M4:M48, "2", 'Summer Data'!$B4:$B48, "m") -> 1 | G10: =COUNTIFS('Summer Data'!N4:N48, "2", 'Summer Data'!$B4:$B48, "m") -> 2 | H10: =COUNTIFS('Summer Data'!O4:O48, "2", 'Summer Data'!$B4:$B48, "m") -> 1 | I10: =COUNTIFS('Summer Data'!P4:P48, "2", 'Summer Data'!$B4:$B48, "m") -> 1 | J10: =COUNTIFS('Summer Data'!Q4:Q48, "2", 'Summer Data'!$B4:$B48, "m") -> 2 | ... S10: =COUNTIFS('Summer Data'!Z4:Z48, "2", 'Summer Data'!$B4:$B48, "m") -> 2
B11: Expected (%) | C11: =C10/'Summer Data'!$B50 -> 0.5 | D11: =D10/'Summer Data'!$B50 -> 1 | E11: =E10/'Summer Data'!$B50 -> 1 | F11: =F10/'Summer Data'!$B50 -> 0.5 | G11: =G10/'Summer Data'!$B50 -> 1 | H11: =H10/'Summer Data'!$B50 -> 0.5 | I11: =I10/'Summer Data'!$B50 -> 0.5 | J11: =J10/'Summer Data'!$B50 -> 1 | ... S11: =S10/'Summer Data'!$B50 -> 1
A12: GIRLS | B12: Emerging (Tally) | C12: =COUNTIFS('Summer Data'!J4:J48, "1", 'Summer Data'!$B4:$B48, "f") -> 0 | D12: =COUNTIFS('Summer Data'!K4:K48, "1", 'Summer Data'!$B4:$B48, "f") -> 0 | E12: =COUNTIFS('Summer Data'!L4:L48, "1", 'Summer Data'!$B4:$B48, "f") -> 0 | F12: =COUNTIFS('Summer Data'!M4:M48, "1", 'Summer Data'!$B4:$B48, "f") -> 1 | G12: =COUNTIFS('Summer Data'!N4:N48, "1", 'Summer Data'!$B4:$B48, "f") -> 0 | H12: =COUNTIFS('Summer Data'!O4:O48, "1", 'Summer Data'!$B4:$B48, "f") -> 1 | I12: =COUNTIFS('Summer Data'!P4:P48, "1", 'Summer Data'!$B4:$B48, "f") -> 0 | J12: =COUNTIFS('Summer Data'!Q4:Q48, "1", 'Summer Data'!$B4:$B48, "f") -> 0 | ... S12: =COUNTIFS('Summer Data'!Z4:Z48, "1", 'Summer Data'!$B4:$B48, "f") -> 1
B13: Emerging (%) | C13: =C12/'Summer Data'!$B51 -> 0 | D13: =D12/'Summer Data'!$B51 -> 0 | E13: =E12/'Summer Data'!$B51 -> 0 | F13: =F12/'Summer Data'!$B51 -> 1 | G13: =G12/'Summer Data'!$B51 -> 0 | H13: =H12/'Summer Data'!$B51 -> 1 | I13: =I12/'Summer Data'!$B51 -> 0 | J13: =J12/'Summer Data'!$B51 -> 0 | ... S13: =S12/'Summer Data'!$B51 -> 1
B14: Expected (Tally) | C14: =COUNTIFS('Summer Data'!J4:J48, "2", 'Summer Data'!$B4:$B48, "f") -> 1 | D14: =COUNTIFS('Summer Data'!K4:K48, "2", 'Summer Data'!$B4:$B48, "f") -> 1 | E14: =COUNTIFS('Summer Data'!L4:L48, "2", 'Summer Data'!$B4:$B48, "f") -> 1 | F14: =COUNTIFS('Summer Data'!M4:M48, "2", 'Summer Data'!$B4:$B48, "f") -> 0 | G14: =COUNTIFS('Summer Data'!N4:N48, "2", 'Summer Data'!$B4:$B48, "f") -> 1 | H14: =COUNTIFS('Summer Data'!O4:O48, "2", 'Summer Data'!$B4:$B48, "f") -> 0 | I14: =COUNTIFS('Summer Data'!P4:P48, "2", 'Summer Data'!$B4:$B48, "f") -> 1 | J14: =COUNTIFS('Summer Data'!Q4:Q48, "2", 'Summer Data'!$B4:$B48, "f") -> 1 | ... S14: =COUNTIFS('Summer Data'!Z4:Z48, "2", 'Summer Data'!$B4:$B48, "f") -> 0
B15: Expected (%) | C15: =C14/'Summer Data'!$B51 -> 1 | D15: =D14/'Summer Data'!$B51 -> 1 | E15: =E14/'Summer Data'!$B51 -> 1 | F15: =F14/'Summer Data'!$B51 -> 0 | G15: =G14/'Summer Data'!$B51 -> 1 | H15: =H14/'Summer Data'!$B51 -> 0 | I15: =I14/'Summer Data'!$B51 -> 1 | J15: =J14/'Summer Data'!$B51 -> 1 | ... S15: =S14/'Summer Data'!$B51 -> 0
A16: DIS. | B16: Emerging (Tally) | C16: =COUNTIFS('Summer Data'!J4:J48, "1", 'Summer Data'!$C4:$C48, "*") -> 0 | D16: =COUNTIFS('Summer Data'!K4:K48, "1", 'Summer Data'!$C4:$C48, "*") -> 0 | E16: =COUNTIFS('Summer Data'!L4:L48, "1", 'Summer Data'!$C4:$C48, "*") -> 0 | F16: =COUNTIFS('Summer Data'!M4:M48, "1", 'Summer Data'!$C4:$C48, "*") -> 1 | G16: =COUNTIFS('Summer Data'!N4:N48, "1", 'Summer Data'!$C4:$C48, "*") -> 0 | H16: =COUNTIFS('Summer Data'!O4:O48, "1", 'Summer Data'!$C4:$C48, "*") -> 1 | I16: =COUNTIFS('Summer Data'!P4:P48, "1", 'Summer Data'!$C4:$C48, "*") -> 0 | J16: =COUNTIFS('Summer Data'!Q4:Q48, "1", 'Summer Data'!$C4:$C48, "*") -> 0 | ... S16: =COUNTIFS('Summer Data'!Z4:Z48, "1", 'Summer Data'!$C4:$C48, "*") -> 1
B17: Emerging (%) | C17: =C16/'Summer Data'!$C49 -> 0 | D17: =D16/'Summer Data'!$C49 -> 0 | E17: =E16/'Summer Data'!$C49 -> 0 | F17: =F16/'Summer Data'!$C49 -> 0.5 | G17: =G16/'Summer Data'!$C49 -> 0 | H17: =H16/'Summer Data'!$C49 -> 0.5 | I17: =I16/'Summer Data'!$C49 -> 0 | J17: =J16/'Summer Data'!$C49 -> 0 | ... S17: =S16/'Summer Data'!$C49 -> 0.5
B18: Expected (Tally) | C18: =COUNTIFS('Summer Data'!J4:J48, "2", 'Summer Data'!$C4:$C48, "*") -> 2 | D18: =COUNTIFS('Summer Data'!K4:K48, "2", 'Summer Data'!$C4:$C48, "*") -> 2 | E18: =COUNTIFS('Summer Data'!L4:L48, "2", 'Summer Data'!$C4:$C48, "*") -> 2 | F18: =COUNTIFS('Summer Data'!M4:M48, "2", 'Summer Data'!$C4:$C48, "*") -> 1 | G18: =COUNTIFS('Summer Data'!N4:N48, "2", 'Summer Data'!$C4:$C48, "*") -> 2 | H18: =COUNTIFS('Summer Data'!O4:O48, "2", 'Summer Data'!$C4:$C48, "*") -> 1 | I18: =COUNTIFS('Summer Data'!P4:P48, "2", 'Summer Data'!$C4:$C48, "*") -> 2 | J18: =COUNTIFS('Summer Data'!Q4:Q48, "2", 'Summer Data'!$C4:$C48, "*") -> 2 | ... S18: =COUNTIFS('Summer Data'!Z4:Z48, "2", 'Summer Data'!$C4:$C48, "*") -> 1
B19: Expected (%) | C19: =C18/'Summer Data'!$C49 -> 1 | D19: =D18/'Summer Data'!$C49 -> 1 | E19: =E18/'Summer Data'!$C49 -> 1 | F19: =F18/'Summer Data'!$C49 -> 0.5 | G19: =G18/'Summer Data'!$C49 -> 1 | H19: =H18/'Summer Data'!$C49 -> 0.5 | I19: =I18/'Summer Data'!$C49 -> 1 | J19: =J18/'Summer Data'!$C49 -> 1 | ... S19: =S18/'Summer Data'!$C49 -> 0.5
A20: SEND | B20: Emerging (Tally) | C20: =COUNTIFS('Summer Data'!J4:J48, "1", 'Summer Data'!$D4:$D48, "*") -> 0 | D20: =COUNTIFS('Summer Data'!K4:K48, "1", 'Summer Data'!$D4:$D48, "*") -> 0 | E20: =COUNTIFS('Summer Data'!L4:L48, "1", 'Summer Data'!$D4:$D48, "*") -> 0 | F20: =COUNTIFS('Summer Data'!M4:M48, "1", 'Summer Data'!$D4:$D48, "*") -> 0 | G20: =COUNTIFS('Summer Data'!N4:N48, "1", 'Summer Data'!$D4:$D48, "*") -> 0 | H20: =COUNTIFS('Summer Data'!O4:O48, "1", 'Summer Data'!$D4:$D48, "*") -> 0 | I20: =COUNTIFS('Summer Data'!P4:P48, "1", 'Summer Data'!$D4:$D48, "*") -> 0 | J20: =COUNTIFS('Summer Data'!Q4:Q48, "1", 'Summer Data'!$D4:$D48, "*") -> 0 | ... S20: =COUNTIFS('Summer Data'!Z4:Z48, "1", 'Summer Data'!$D4:$D48, "*") -> 0
B21: Emerging (%) | C21: =C20/'Summer Data'!$D49 -> 0 | D21: =D20/'Summer Data'!$D49 -> 0 | E21: =E20/'Summer Data'!$D49 -> 0 | F21: =F20/'Summer Data'!$D49 -> 0 | G21: =G20/'Summer Data'!$D49 -> 0 | H21: =H20/'Summer Data'!$D49 -> 0 | I21: =I20/'Summer Data'!$D49 -> 0 | J21: =J20/'Summer Data'!$D49 -> 0 | ... S21: =S20/'Summer Data'!$D49 -> 0
B22: Expected (Tally) | C22: =COUNTIFS('Summer Data'!J4:J48, "2", 'Summer Data'!$D4:$D48, "*") -> 1 | D22: =COUNTIFS('Summer Data'!K4:K48, "2", 'Summer Data'!$D4:$D48, "*") -> 1 | E22: =COUNTIFS('Summer Data'!L4:L48, "2", 'Summer Data'!$D4:$D48, "*") -> 1 | F22: =COUNTIFS('Summer Data'!M4:M48, "2", 'Summer Data'!$D4:$D48, "*") -> 1 | G22: =COUNTIFS('Summer Data'!N4:N48, "2", 'Summer Data'!$D4:$D48, "*") -> 1 | H22: =COUNTIFS('Summer Data'!O4:O48, "2", 'Summer Data'!$D4:$D48, "*") -> 1 | I22: =COUNTIFS('Summer Data'!P4:P48, "2", 'Summer Data'!$D4:$D48, "*") -> 1 | J22: =COUNTIFS('Summer Data'!Q4:Q48, "2", 'Summer Data'!$D4:$D48, "*") -> 1 | ... S22: =COUNTIFS('Summer Data'!Z4:Z48, "2", 'Summer Data'!$D4:$D48, "*") -> 1
B23: Expected (%) | C23: =C22/'Summer Data'!$D49 -> 1 | D23: =D22/'Summer Data'!$D49 -> 1 | E23: =E22/'Summer Data'!$D49 -> 1 | F23: =F22/'Summer Data'!$D49 -> 1 | G23: =G22/'Summer Data'!$D49 -> 1 | H23: =H22/'Summer Data'!$D49 -> 1 | I23: =I22/'Summer Data'!$D49 -> 1 | J23: =J22/'Summer Data'!$D49 -> 1 | ... S23: =S22/'Summer Data'!$D49 -> 1
A24: HIGH ATTAIN. | B24: Emerging (Tally) | C24: =COUNTIFS('Summer Data'!J4:J48, "1", 'Summer Data'!$E4:$E48, "*") -> 0 | D24: =COUNTIFS('Summer Data'!K4:K48, "1", 'Summer Data'!$E4:$E48, "*") -> 0 | E24: =COUNTIFS('Summer Data'!L4:L48, "1", 'Summer Data'!$E4:$E48, "*") -> 0 | F24: =COUNTIFS('Summer Data'!M4:M48, "1", 'Summer Data'!$E4:$E48, "*") -> 1 | G24: =COUNTIFS('Summer Data'!N4:N48, "1", 'Summer Data'!$E4:$E48, "*") -> 0 | H24: =COUNTIFS('Summer Data'!O4:O48, "1", 'Summer Data'!$E4:$E48, "*") -> 1 | I24: =COUNTIFS('Summer Data'!P4:P48, "1", 'Summer Data'!$E4:$E48, "*") -> 0 | J24: =COUNTIFS('Summer Data'!Q4:Q48, "1", 'Summer Data'!$E4:$E48, "*") -> 0 | ... S24: =COUNTIFS('Summer Data'!Z4:Z48, "1", 'Summer Data'!$E4:$E48, "*") -> 1
B25: Emerging (%) | C25: =C24/'Summer Data'!$E49 -> 0 | D25: =D24/'Summer Data'!$E49 -> 0 | E25: =E24/'Summer Data'!$E49 -> 0 | F25: =F24/'Summer Data'!$E49 -> 1 | G25: =G24/'Summer Data'!$E49 -> 0 | H25: =H24/'Summer Data'!$E49 -> 1 | I25: =I24/'Summer Data'!$E49 -> 0 | J25: =J24/'Summer Data'!$E49 -> 0 | ... S25: =S24/'Summer Data'!$E49 -> 1
B26: Expected (Tally) | C26: =COUNTIFS('Summer Data'!J4:J48, "2", 'Summer Data'!$E4:$E48, "*") -> 1 | D26: =COUNTIFS('Summer Data'!K4:K48, "2", 'Summer Data'!$E4:$E48, "*") -> 1 | E26: =COUNTIFS('Summer Data'!L4:L48, "2", 'Summer Data'!$E4:$E48, "*") -> 1 | F26: =COUNTIFS('Summer Data'!M4:M48, "2", 'Summer Data'!$E4:$E48, "*") -> 0 | G26: =COUNTIFS('Summer Data'!N4:N48, "2", 'Summer Data'!$E4:$E48, "*") -> 1 | H26: =COUNTIFS('Summer Data'!O4:O48, "2", 'Summer Data'!$E4:$E48, "*") -> 0 | I26: =COUNTIFS('Summer Data'!P4:P48, "2", 'Summer Data'!$E4:$E48, "*") -> 1 | J26: =COUNTIFS('Summer Data'!Q4:Q48, "2", 'Summer Data'!$E4:$E48, "*") -> 1 | ... S26: =COUNTIFS('Summer Data'!Z4:Z48, "2", 'Summer Data'!$E4:$E48, "*") -> 0
B27: Expected (%) | C27: =C26/'Summer Data'!$E49 -> 1 | D27: =D26/'Summer Data'!$E49 -> 1 | E27: =E26/'Summer Data'!$E49 -> 1 | F27: =F26/'Summer Data'!$E49 -> 0 | G27: =G26/'Summer Data'!$E49 -> 1 | H27: =H26/'Summer Data'!$E49 -> 0 | I27: =I26/'Summer Data'!$E49 -> 1 | J27: =J26/'Summer Data'!$E49 -> 1 | ... S27: =S26/'Summer Data'!$E49 -> 0
A28: EAL | B28: Emerging (Tally) | C28: =COUNTIFS('Summer Data'!J4:J48, "1", 'Summer Data'!$F4:$F48, "*") -> 0 | D28: =COUNTIFS('Summer Data'!K4:K48, "1", 'Summer Data'!$F4:$F48, "*") -> 0 | E28: =COUNTIFS('Summer Data'!L4:L48, "1", 'Summer Data'!$F4:$F48, "*") -> 0 | F28: =COUNTIFS('Summer Data'!M4:M48, "1", 'Summer Data'!$F4:$F48, "*") -> 0 | G28: =COUNTIFS('Summer Data'!N4:N48, "1", 'Summer Data'!$F4:$F48, "*") -> 0 | H28: =COUNTIFS('Summer Data'!O4:O48, "1", 'Summer Data'!$F4:$F48, "*") -> 0 | I28: =COUNTIFS('Summer Data'!P4:P48, "1", 'Summer Data'!$F4:$F48, "*") -> 0 | J28: =COUNTIFS('Summer Data'!Q4:Q48, "1", 'Summer Data'!$F4:$F48, "*") -> 0 | ... S28: =COUNTIFS('Summer Data'!Z4:Z48, "1", 'Summer Data'!$F4:$F48, "*") -> 0
B29: Emerging (%) | C29: =C28/'Summer Data'!$F49 -> 0 | D29: =D28/'Summer Data'!$F49 -> 0 | E29: =E28/'Summer Data'!$F49 -> 0 | F29: =F28/'Summer Data'!$F49 -> 0 | G29: =G28/'Summer Data'!$F49 -> 0 | H29: =H28/'Summer Data'!$F49 -> 0 | I29: =I28/'Summer Data'!$F49 -> 0 | J29: =J28/'Summer Data'!$F49 -> 0 | ... S29: =S28/'Summer Data'!$F49 -> 0
B30: Expected (Tally) | C30: =COUNTIFS('Summer Data'!J4:J48, "2", 'Summer Data'!$F4:$F48, "*") -> 1 | D30: =COUNTIFS('Summer Data'!K4:K48, "2", 'Summer Data'!$F4:$F48, "*") -> 1 | E30: =COUNTIFS('Summer Data'!L4:L48, "2", 'Summer Data'!$F4:$F48, "*") -> 1 | F30: =COUNTIFS('Summer Data'!M4:M48, "2", 'Summer Data'!$F4:$F48, "*") -> 1 | G30: =COUNTIFS('Summer Data'!N4:N48, "2", 'Summer Data'!$F4:$F48, "*") -> 1 | H30: =COUNTIFS('Summer Data'!O4:O48, "2", 'Summer Data'!$F4:$F48, "*") -> 1 | I30: =COUNTIFS('Summer Data'!P4:P48, "2", 'Summer Data'!$F4:$F48, "*") -> 1 | J30: =COUNTIFS('Summer Data'!Q4:Q48, "2", 'Summer Data'!$F4:$F48, "*") -> 1 | ... S30: =COUNTIFS('Summer Data'!Z4:Z48, "2", 'Summer Data'!$F4:$F48, "*") -> 1
B31: Expected (%) | C31: =C30/'Summer Data'!$F49 -> 1 | D31: =D30/'Summer Data'!$F49 -> 1 | E31: =E30/'Summer Data'!$F49 -> 1 | F31: =F30/'Summer Data'!$F49 -> 1 | G31: =G30/'Summer Data'!$F49 -> 1 | H31: =H30/'Summer Data'!$F49 -> 1 | I31: =I30/'Summer Data'!$F49 -> 1 | J31: =J30/'Summer Data'!$F49 -> 1 | ... S31: =S30/'Summer Data'!$F49 -> 1
A32: AUT BORN | B32: Emerging (Tally) | C32: =COUNTIFS('Summer Data'!J4:J48, "1", 'Summer Data'!$G4:$G48, "*") -> 0 | D32: =COUNTIFS('Summer Data'!K4:K48, "1", 'Summer Data'!$G4:$G48, "*") -> 0 | E32: =COUNTIFS('Summer Data'!L4:L48, "1", 'Summer Data'!$G4:$G48, "*") -> 0 | F32: =COUNTIFS('Summer Data'!M4:M48, "1", 'Summer Data'!$G4:$G48, "*") -> 1 | G32: =COUNTIFS('Summer Data'!N4:N48, "1", 'Summer Data'!$G4:$G48, "*") -> 0 | H32: =COUNTIFS('Summer Data'!O4:O48, "1", 'Summer Data'!$G4:$G48, "*") -> 1 | I32: =COUNTIFS('Summer Data'!P4:P48, "1", 'Summer Data'!$G4:$G48, "*") -> 0 | J32: =COUNTIFS('Summer Data'!Q4:Q48, "1", 'Summer Data'!$G4:$G48, "*") -> 0 | ... S32: =COUNTIFS('Summer Data'!Z4:Z48, "1", 'Summer Data'!$G4:$G48, "*") -> 1
B33: Emerging (%) | C33: =C32/'Summer Data'!$G49 -> 0 | D33: =D32/'Summer Data'!$G49 -> 0 | E33: =E32/'Summer Data'!$G49 -> 0 | F33: =F32/'Summer Data'!$G49 -> 1 | G33: =G32/'Summer Data'!$G49 -> 0 | H33: =H32/'Summer Data'!$G49 -> 1 | I33: =I32/'Summer Data'!$G49 -> 0 | J33: =J32/'Summer Data'!$G49 -> 0 | ... S33: =S32/'Summer Data'!$G49 -> 1
B34: Expected (Tally) | C34: =COUNTIFS('Summer Data'!J4:J48, "2", 'Summer Data'!$G4:$G48, "*") -> 1 | D34: =COUNTIFS('Summer Data'!K4:K48, "2", 'Summer Data'!$G4:$G48, "*") -> 1 | E34: =COUNTIFS('Summer Data'!L4:L48, "2", 'Summer Data'!$G4:$G48, "*") -> 1 | F34: =COUNTIFS('Summer Data'!M4:M48, "2", 'Summer Data'!$G4:$G48, "*") -> 0 | G34: =COUNTIFS('Summer Data'!N4:N48, "2", 'Summer Data'!$G4:$G48, "*") -> 1 | H34: =COUNTIFS('Summer Data'!O4:O48, "2", 'Summer Data'!$G4:$G48, "*") -> 0 | I34: =COUNTIFS('Summer Data'!P4:P48, "2", 'Summer Data'!$G4:$G48, "*") -> 1 | J34: =COUNTIFS('Summer Data'!Q4:Q48, "2", 'Summer Data'!$G4:$G48, "*") -> 1 | ... S34: =COUNTIFS('Summer Data'!Z4:Z48, "2", 'Summer Data'!$G4:$G48, "*") -> 0
B35: Expected (%) | C35: =C34/'Summer Data'!$G49 -> 1 | D35: =D34/'Summer Data'!$G49 -> 1 | E35: =E34/'Summer Data'!$G49 -> 1 | F35: =F34/'Summer Data'!$G49 -> 0 | G35: =G34/'Summer Data'!$G49 -> 1 | H35: =H34/'Summer Data'!$G49 -> 0 | I35: =I34/'Summer Data'!$G49 -> 1 | J35: =J34/'Summer Data'!$G49 -> 1 | ... S35: =S34/'Summer Data'!$G49 -> 0
A36: SPR BORN | B36: Emerging (Tally) | C36: =COUNTIFS('Summer Data'!J4:J48, "1", 'Summer Data'!$H4:$H48, "*") -> 1 | D36: =COUNTIFS('Summer Data'!K4:K48, "1", 'Summer Data'!$H4:$H48, "*") -> 0 | E36: =COUNTIFS('Summer Data'!L4:L48, "1", 'Summer Data'!$H4:$H48, "*") -> 0 | F36: =COUNTIFS('Summer Data'!M4:M48, "1", 'Summer Data'!$H4:$H48, "*") -> 1 | G36: =COUNTIFS('Summer Data'!N4:N48, "1", 'Summer Data'!$H4:$H48, "*") -> 0 | H36: =COUNTIFS('Summer Data'!O4:O48, "1", 'Summer Data'!$H4:$H48, "*") -> 1 | I36: =COUNTIFS('Summer Data'!P4:P48, "1", 'Summer Data'!$H4:$H48, "*") -> 1 | J36: =COUNTIFS('Summer Data'!Q4:Q48, "1", 'Summer Data'!$H4:$H48, "*") -> 0 | ... S36: =COUNTIFS('Summer Data'!Z4:Z48, "1", 'Summer Data'!$H4:$H48, "*") -> 0
B37: Emerging (%) | C37: =C36/'Summer Data'!$H49 -> 1 | D37: =D36/'Summer Data'!$H49 -> 0 | E37: =E36/'Summer Data'!$H49 -> 0 | F37: =F36/'Summer Data'!$H49 -> 1 | G37: =G36/'Summer Data'!$H49 -> 0 | H37: =H36/'Summer Data'!$H49 -> 1 | I37: =I36/'Summer Data'!$H49 -> 1 | J37: =J36/'Summer Data'!$H49 -> 0 | ... S37: =S36/'Summer Data'!$H49 -> 0
B38: Expected (Tally) | C38: =COUNTIFS('Summer Data'!J4:J48, "2", 'Summer Data'!$H4:$H48, "*") -> 0 | D38: =COUNTIFS('Summer Data'!K4:K48, "2", 'Summer Data'!$H4:$H48, "*") -> 1 | E38: =COUNTIFS('Summer Data'!L4:L48, "2", 'Summer Data'!$H4:$H48, "*") -> 1 | F38: =COUNTIFS('Summer Data'!M4:M48, "2", 'Summer Data'!$H4:$H48, "*") -> 0 | G38: =COUNTIFS('Summer Data'!N4:N48, "2", 'Summer Data'!$H4:$H48, "*") -> 1 | H38: =COUNTIFS('Summer Data'!O4:O48, "2", 'Summer Data'!$H4:$H48, "*") -> 0 | I38: =COUNTIFS('Summer Data'!P4:P48, "2", 'Summer Data'!$H4:$H48, "*") -> 0 | J38: =COUNTIFS('Summer Data'!Q4:Q48, "2", 'Summer Data'!$H4:$H48, "*") -> 1 | ... S38: =COUNTIFS('Summer Data'!Z4:Z48, "2", 'Summer Data'!$H4:$H48, "*") -> 1
B39: Expected (%) | C39: =C38/'Summer Data'!$H49 -> 0 | D39: =D38/'Summer Data'!$H49 -> 1 | E39: =E38/'Summer Data'!$H49 -> 1 | F39: =F38/'Summer Data'!$H49 -> 0 | G39: =G38/'Summer Data'!$H49 -> 1 | H39: =H38/'Summer Data'!$H49 -> 0 | I39: =I38/'Summer Data'!$H49 -> 0 | J39: =J38/'Summer Data'!$H49 -> 1 | ... S39: =S38/'Summer Data'!$H49 -> 1
A40: SUM BORN | B40: Emerging (Tally) | C40: =COUNTIFS('Summer Data'!J4:J48, "1", 'Summer Data'!$I4:$I48, "*") -> 0 | D40: =COUNTIFS('Summer Data'!K4:K48, "1", 'Summer Data'!$I4:$I48, "*") -> 0 | E40: =COUNTIFS('Summer Data'!L4:L48, "1", 'Summer Data'!$I4:$I48, "*") -> 0 | F40: =COUNTIFS('Summer Data'!M4:M48, "1", 'Summer Data'!$I4:$I48, "*") -> 0 | G40: =COUNTIFS('Summer Data'!N4:N48, "1", 'Summer Data'!$I4:$I48, "*") -> 0 | H40: =COUNTIFS('Summer Data'!O4:O48, "1", 'Summer Data'!$I4:$I48, "*") -> 0 | I40: =COUNTIFS('Summer Data'!P4:P48, "1", 'Summer Data'!$I4:$I48, "*") -> 0 | J40: =COUNTIFS('Summer Data'!Q4:Q48, "1", 'Summer Data'!$I4:$I48, "*") -> 0 | ... S40: =COUNTIFS('Summer Data'!Z4:Z48, "1", 'Summer Data'!$I4:$I48, "*") -> 0
B41: Emerging (%) | C41: =C40/'Summer Data'!$I49 -> 0 | D41: =D40/'Summer Data'!$I49 -> 0 | E41: =E40/'Summer Data'!$I49 -> 0 | F41: =F40/'Summer Data'!$I49 -> 0 | G41: =G40/'Summer Data'!$I49 -> 0 | H41: =H40/'Summer Data'!$I49 -> 0 | I41: =I40/'Summer Data'!$I49 -> 0 | J41: =J40/'Summer Data'!$I49 -> 0 | ... S41: =S40/'Summer Data'!$I49 -> 0
B42: Expected (Tally) | C42: =COUNTIFS('Summer Data'!J4:J48, "2", 'Summer Data'!$I4:$I48, "*") -> 1 | D42: =COUNTIFS('Summer Data'!K4:K48, "2", 'Summer Data'!$I4:$I48, "*") -> 1 | E42: =COUNTIFS('Summer Data'!L4:L48, "2", 'Summer Data'!$I4:$I48, "*") -> 1 | F42: =COUNTIFS('Summer Data'!M4:M48, "2", 'Summer Data'!$I4:$I48, "*") -> 1 | G42: =COUNTIFS('Summer Data'!N4:N48, "2", 'Summer Data'!$I4:$I48, "*") -> 1 | H42: =COUNTIFS('Summer Data'!O4:O48, "2", 'Summer Data'!$I4:$I48, "*") -> 1 | I42: =COUNTIFS('Summer Data'!P4:P48, "2", 'Summer Data'!$I4:$I48, "*") -> 1 | J42: =COUNTIFS('Summer Data'!Q4:Q48, "2", 'Summer Data'!$I4:$I48, "*") -> 1 | ... S42: =COUNTIFS('Summer Data'!Z4:Z48, "2", 'Summer Data'!$I4:$I48, "*") -> 1
B43: Expected (%) | C43: =C42/'Summer Data'!$I49 -> 1 | D43: =D42/'Summer Data'!$I49 -> 1 | E43: =E42/'Summer Data'!$I49 -> 1 | F43: =F42/'Summer Data'!$I49 -> 1 | G43: =G42/'Summer Data'!$I49 -> 1 | H43: =H42/'Summer Data'!$I49 -> 1 | I43: =I42/'Summer Data'!$I49 -> 1 | J43: =J42/'Summer Data'!$I49 -> 1 | ... S43: =S42/'Summer Data'!$I49 -> 1

Sheet Good Level of Development (GLD)
A1: TRACK WHAT MATTERS | AB1: GLD
B2: PUPIL INFORMATION | J2: GOOD LEVEL OF DEVELOPMENT | L2: GOOD LEVEL OF DEVELOPMENT: ANALYSIS
A3: NAME | B3: Gender | C3: DIS | D3: SEND | E3: High attainers | F3: EAL | G3: Autumn born | H3: Spring born | I3: Summer born | J3: Number of ELGs for GLD with a score of 'expected' (GLD met if 12): | L3: PUPIL GROUP | M3: TOTAL GLD | N3: %GLD | O3: NATIONAL
A4: =('Communication & Language'!A4) -> Example Child A | B4: =('Communication & Language'!B4) -> M | C4: =('Communication & Language'!C4) -> Y | D4: =('Communication & Language'!D4) -> Y | E4: =('Communication & Language'!E4) -> 0 | F4: ='Communication & Language'!F4 -> Y | G4: =('Communication & Language'!G4) -> 0 | H4: =('Communication & Language'!H4) -> 0 | I4: =('Communication & Language'!I4) -> Y | J4: =COUNTIF('Summer Data'!J4:U4,"2") -> 12 | L4: ALL PUPILS | M4: =COUNTIF(J4:J48, "12") -> 1 | N4: =SUM(M4/$B49) -> 0.33333333
A5: =('Communication & Language'!A5) -> Example Child B | B5: =('Communication & Language'!B5) -> F | C5: =('Communication & Language'!C5) -> Y | D5: =('Communication & Language'!D5) -> 0 | E5: =('Communication & Language'!E5) -> Y | F5: ='Communication & Language'!F5 -> 0 | G5: =('Communication & Language'!G5) -> Y | H5: =('Communication & Language'!H5) -> 0 | I5: =('Communication & Language'!I5) -> 0 | J5: =COUNTIF('Summer Data'!J5:U5,"2") -> 10 | L5: BOYS | M5: =COUNTIFS(J4:J48, "12", $B4:$B48, "m") -> 1 | N5: =SUM(M5/$B50) -> 0.5
A6: =('Communication & Language'!A6) -> Example Child C | B6: =('Communication & Language'!B6) -> M | C6: =('Communication & Language'!C6) -> 0 | D6: =('Communication & Language'!D6) -> 0 | E6: =('Communication & Language'!E6) -> 0 | F6: ='Communication & Language'!F6 -> 0 | G6: =('Communication & Language'!G6) -> 0 | H6: =('Communication & Language'!H6) -> Y | I6: =('Communication & Language'!I6) -> 0 | J6: =COUNTIF('Summer Data'!J6:U6,"2") -> 6 | L6: GIRLS | M6: =COUNTIFS(J4:J48, "12", $B4:$B48, "f") -> 0 | N6: =SUM(M6/$B51) -> 0
A7: =('Communication & Language'!A7) -> Pupil name | B7: =('Communication & Language'!B7) -> 0 | C7: =('Communication & Language'!C7) -> 0 | D7: =('Communication & Language'!D7) -> 0 | E7: =('Communication & Language'!E7) -> 0 | F7: ='Communication & Language'!F7 -> 0 | G7: =('Communication & Language'!G7) -> 0 | H7: =('Communication & Language'!H7) -> 0 | I7: =('Communication & Language'!I7) -> 0 | J7: =COUNTIF('Summer Data'!J7:U7,"2") -> 0 | L7: DISADVANTAGED | M7: =COUNTIFS(J4:J48, "12", $C4:$C48, "*") -> 1 | N7: =SUM(M7/$C49) -> 0.5
A8: =('Communication & Language'!A8) -> Pupil name | B8: =('Communication & Language'!B8) -> 0 | C8: =('Communication & Language'!C8) -> 0 | D8: =('Communication & Language'!D8) -> 0 | E8: =('Communication & Language'!E8) -> 0 | F8: ='Communication & Language'!F8 -> 0 | G8: =('Communication & Language'!G8) -> 0 | H8: =('Communication & Language'!H8) -> 0 | I8: =('Communication & Language'!I8) -> 0 | J8: =COUNTIF('Summer Data'!J8:U8,"2") -> 0 | L8: SEND | M8: =COUNTIFS(J4:J48, "12", $D4:$D48, "*") -> 1 | N8: =SUM(M8/$D49) -> 1
A9: =('Communication & Language'!A9) -> Pupil name | B9: =('Communication & Language'!B9) -> 0 | C9: =('Communication & Language'!C9) -> 0 | D9: =('Communication & Language'!D9) -> 0 | E9: =('Communication & Language'!E9) -> 0 | F9: ='Communication & Language'!F9 -> 0 | G9: =('Communication & Language'!G9) -> 0 | H9: =('Communication & Language'!H9) -> 0 | I9: =('Communication & Language'!I9) -> 0 | J9: =COUNTIF('Summer Data'!J9:U9,"2") -> 0 | L9: HIGH ATTAINERS | M9: =COUNTIFS(J4:J48, "12", $E4:$E48, "*") -> 0 | N9: =SUM(M9/$E49) -> 0
A10: =('Communication & Language'!A10) -> Pupil name | B10: =('Communication & Language'!B10) -> 0 | C10: =('Communication & Language'!C10) -> 0 | D10: =('Communication & Language'!D10) -> 0 | E10: =('Communication & Language'!E10) -> 0 | F10: ='Communication & Language'!F10 -> 0 | G10: =('Communication & Language'!G10) -> 0 | H10: =('Communication & Language'!H10) -> 0 | I10: =('Communication & Language'!I10) -> 0 | J10: =COUNTIF('Summer Data'!J10:U10,"2") -> 0 | L10: EAL | M10: =COUNTIFS(J4:J48, "12", $F4:$F48, "*") -> 1 | N10: =SUM(M10/$F49) -> 1
A11: =('Communication & Language'!A11) -> Pupil name | B11: =('Communication & Language'!B11) -> 0 | C11: =('Communication & Language'!C11) -> 0 | D11: =('Communication & Language'!D11) -> 0 | E11: =('Communication & Language'!E11) -> 0 | F11: ='Communication & Language'!F11 -> 0 | G11: =('Communication & Language'!G11) -> 0 | H11: =('Communication & Language'!H11) -> 0 | I11: =('Communication & Language'!I11) -> 0 | J11: =COUNTIF('Summer Data'!J11:U11,"2") -> 0 | L11: AUTUMN BORN | M11: =COUNTIFS(J4:J48, "12", $G4:$G48, "*") -> 0 | N11: =SUM(M11/$G49) -> 0
A12: =('Communication & Language'!A12) -> Pupil name | B12: =('Communication & Language'!B12) -> 0 | C12: =('Communication & Language'!C12) -> 0 | D12: =('Communication & Language'!D12) -> 0 | E12: =('Communication & Language'!E12) -> 0 | F12: ='Communication & Language'!F12 -> 0 | G12: =('Communication & Language'!G12) -> 0 | H12: =('Communication & Language'!H12) -> 0 | I12: =('Communication & Language'!I12) -> 0 | J12: =COUNTIF('Summer Data'!J12:U12,"2") -> 0 | L12: SPRING BORN | M12: =COUNTIFS(J4:J48, "12", $H4:$H48, "*") -> 0 | N12: =SUM(M12/$H49) -> 0
A13: =('Communication & Language'!A13) -> Pupil name | B13: =('Communication & Language'!B13) -> 0 | C13: =('Communication & Language'!C13) -> 0 | D13: =('Communication & Language'!D13) -> 0 | E13: =('Communication & Language'!E13) -> 0 | F13: ='Communication & Language'!F13 -> 0 | G13: =('Communication & Language'!G13) -> 0 | H13: =('Communication & Language'!H13) -> 0 | I13: =('Communication & Language'!I13) -> 0 | J13: =COUNTIF('Summer Data'!J13:U13,"2") -> 0 | L13: SUMMER BORN | M13: =COUNTIFS(J4:J48, "12", $I4:$I48, "*") -> 1 | N13: =SUM(M13/$I49) -> 1
A14: =('Communication & Language'!A14) -> Pupil name | B14: =('Communication & Language'!B14) -> 0 | C14: =('Communication & Language'!C14) -> 0 | D14: =('Communication & Language'!D14) -> 0 | E14: =('Communication & Language'!E14) -> 0 | F14: ='Communication & Language'!F14 -> 0 | G14: =('Communication & Language'!G14) -> 0 | H14: =('Communication & Language'!H14) -> 0 | I14: =('Communication & Language'!I14) -> 0 | J14: =COUNTIF('Summer Data'!J14:U14,"2") -> 0
A15: =('Communication & Language'!A15) -> Pupil name | B15: =('Communication & Language'!B15) -> 0 | C15: =('Communication & Language'!C15) -> 0 | D15: =('Communication & Language'!D15) -> 0 | E15: =('Communication & Language'!E15) -> 0 | F15: ='Communication & Language'!F15 -> 0 | G15: =('Communication & Language'!G15) -> 0 | H15: =('Communication & Language'!H15) -> 0 | I15: =('Communication & Language'!I15) -> 0 | J15: =COUNTIF('Summer Data'!J15:U15,"2") -> 0
A16: =('Communication & Language'!A16) -> Pupil name | B16: =('Communication & Language'!B16) -> 0 | C16: =('Communication & Language'!C16) -> 0 | D16: =('Communication & Language'!D16) -> 0 | E16: =('Communication & Language'!E16) -> 0 | F16: ='Communication & Language'!F16 -> 0 | G16: =('Communication & Language'!G16) -> 0 | H16: =('Communication & Language'!H16) -> 0 | I16: =('Communication & Language'!I16) -> 0 | J16: =COUNTIF('Summer Data'!J16:U16,"2") -> 0
A17: =('Communication & Language'!A17) -> Pupil name | B17: =('Communication & Language'!B17) -> 0 | C17: =('Communication & Language'!C17) -> 0 | D17: =('Communication & Language'!D17) -> 0 | E17: =('Communication & Language'!E17) -> 0 | F17: ='Communication & Language'!F17 -> 0 | G17: =('Communication & Language'!G17) -> 0 | H17: =('Communication & Language'!H17) -> 0 | I17: =('Communication & Language'!I17) -> 0 | J17: =COUNTIF('Summer Data'!J17:U17,"2") -> 0
A18: =('Communication & Language'!A18) -> Pupil name | B18: =('Communication & Language'!B18) -> 0 | C18: =('Communication & Language'!C18) -> 0 | D18: =('Communication & Language'!D18) -> 0 | E18: =('Communication & Language'!E18) -> 0 | F18: ='Communication & Language'!F18 -> 0 | G18: =('Communication & Language'!G18) -> 0 | H18: =('Communication & Language'!H18) -> 0 | I18: =('Communication & Language'!I18) -> 0 | J18: =COUNTIF('Summer Data'!J18:U18,"2") -> 0
A19: =('Communication & Language'!A19) -> Pupil name | B19: =('Communication & Language'!B19) -> 0 | C19: =('Communication & Language'!C19) -> 0 | D19: =('Communication & Language'!D19) -> 0 | E19: =('Communication & Language'!E19) -> 0 | F19: ='Communication & Language'!F19 -> 0 | G19: =('Communication & Language'!G19) -> 0 | H19: =('Communication & Language'!H19) -> 0 | I19: =('Communication & Language'!I19) -> 0 | J19: =COUNTIF('Summer Data'!J19:U19,"2") -> 0
A20: =('Communication & Language'!A20) -> Pupil name | B20: =('Communication & Language'!B20) -> 0 | C20: =('Communication & Language'!C20) -> 0 | D20: =('Communication & Language'!D20) -> 0 | E20: =('Communication & Language'!E20) -> 0 | F20: ='Communication & Language'!F20 -> 0 | G20: =('Communication & Language'!G20) -> 0 | H20: =('Communication & Language'!H20) -> 0 | I20: =('Communication & Language'!I20) -> 0 | J20: =COUNTIF('Summer Data'!J20:U20,"2") -> 0
A21: =('Communication & Language'!A21) -> Pupil name | B21: =('Communication & Language'!B21) -> 0 | C21: =('Communication & Language'!C21) -> 0 | D21: =('Communication & Language'!D21) -> 0 | E21: =('Communication & Language'!E21) -> 0 | F21: ='Communication & Language'!F21 -> 0 | G21: =('Communication & Language'!G21) -> 0 | H21: =('Communication & Language'!H21) -> 0 | I21: =('Communication & Language'!I21) -> 0 | J21: =COUNTIF('Summer Data'!J21:U21,"2") -> 0
A22: =('Communication & Language'!A22) -> Pupil name | B22: =('Communication & Language'!B22) -> 0 | C22: =('Communication & Language'!C22) -> 0 | D22: =('Communication & Language'!D22) -> 0 | E22: =('Communication & Language'!E22) -> 0 | F22: ='Communication & Language'!F22 -> 0 | G22: =('Communication & Language'!G22) -> 0 | H22: =('Communication & Language'!H22) -> 0 | I22: =('Communication & Language'!I22) -> 0 | J22: =COUNTIF('Summer Data'!J22:U22,"2") -> 0
A23: =('Communication & Language'!A23) -> Pupil name | B23: =('Communication & Language'!B23) -> 0 | C23: =('Communication & Language'!C23) -> 0 | D23: =('Communication & Language'!D23) -> 0 | E23: =('Communication & Language'!E23) -> 0 | F23: ='Communication & Language'!F23 -> 0 | G23: =('Communication & Language'!G23) -> 0 | H23: =('Communication & Language'!H23) -> 0 | I23: =('Communication & Language'!I23) -> 0 | J23: =COUNTIF('Summer Data'!J23:U23,"2") -> 0
A24: =('Communication & Language'!A24) -> Pupil name | B24: =('Communication & Language'!B24) -> 0 | C24: =('Communication & Language'!C24) -> 0 | D24: =('Communication & Language'!D24) -> 0 | E24: =('Communication & Language'!E24) -> 0 | F24: ='Communication & Language'!F24 -> 0 | G24: =('Communication & Language'!G24) -> 0 | H24: =('Communication & Language'!H24) -> 0 | I24: =('Communication & Language'!I24) -> 0 | J24: =COUNTIF('Summer Data'!J24:U24,"2") -> 0
A25: =('Communication & Language'!A25) -> Pupil name | B25: =('Communication & Language'!B25) -> 0 | C25: =('Communication & Language'!C25) -> 0 | D25: =('Communication & Language'!D25) -> 0 | E25: =('Communication & Language'!E25) -> 0 | F25: ='Communication & Language'!F25 -> 0 | G25: =('Communication & Language'!G25) -> 0 | H25: =('Communication & Language'!H25) -> 0 | I25: =('Communication & Language'!I25) -> 0 | J25: =COUNTIF('Summer Data'!J25:U25,"2") -> 0
... A48: =('Communication & Language'!A48) -> Pupil name | B48: =('Communication & Language'!B48) -> 0 | C48: =('Communication & Language'!C48) -> 0 | D48: =('Communication & Language'!D48) -> 0 | E48: =('Communication & Language'!E48) -> 0 | F48: ='Communication & Language'!F48 -> 0 | G48: =('Communication & Language'!G48) -> 0 | H48: =('Communication & Language'!H48) -> 0 | I48: =('Communication & Language'!I48) -> 0 | J48: =COUNTIF('Summer Data'!J48:U48,"2") -> 0
A49: TOTALS | B49: =COUNTIF(B4:B48,"*") -> 3 | C49: =COUNTIF(C4:C48,"*") -> 2 | D49: =COUNTIF(D4:D48,"*") -> 1 | E49: =COUNTIF(E4:E48,"*") -> 1 | F49: =COUNTIF(F4:F48,"*") -> 1 | G49: =COUNTIF(G4:G48,"*") -> 1 | H49: =COUNTIF(H4:H48,"*") -> 1 | I49: =COUNTIF(I4:I48,"*") -> 1
A50: BOYS | B50: =COUNTIF(B4:B48,"M") -> 2 | C50: =COUNTIFS(C4:C48, "*", B4:B48, "m") -> 1 | D50: =COUNTIFS(D4:D48, "*", $B4:$B48, "m") -> 1 | E50: =COUNTIFS(E4:E48, "*", $B4:$B48, "m") -> 0 | F50: =COUNTIFS(F4:F48, "*", $B4:$B48, "m") -> 1 | G50: =COUNTIFS(G4:G48, "*", $B4:$B48, "m") -> 0 | H50: =COUNTIFS(H4:H48, "*", $B4:$B48, "m") -> 1 | I50: =COUNTIFS(I4:I48, "*", B4:B48, "m") -> 1
A51: GIRLS | B51: =COUNTIF(B4:B48,"F") -> 1 | C51: =COUNTIFS(C4:C48, "*", B4:B48, "f") -> 1 | D51: =COUNTIFS(D4:D48, "*", $B4:$B48, "f") -> 0 | E51: =COUNTIFS(E4:E48, "*", $B4:$B48, "f") -> 1 | F51: =COUNTIFS(F4:F48, "*", $B4:$B48, "f") -> 0 | G51: =COUNTIFS(G4:G48, "*", $B4:$B48, "f") -> 1 | H51: =COUNTIFS(H4:H48, "*", $B4:$B48, "f") -> 0 | I51: =COUNTIFS(I4:I48, "*", B4:B48, "f") -> 0

Sheet Pupil Report 1
A1: EYFS PUPIL ATTAINMENT REPORT | O1: PUPIL NAME:
O2: =('Communication & Language'!A4) -> Example Child A
B4: EARLY YEARS FOUNDATION STAGE (EYFS): EARLY LEARNING GOALS
B5: PRIME AREAS | I5: SPECIFIC AREAS
B6: Communication and language | D6: Personal, social and emtional development | G6: Physical development | I6: Literacy | L6: Mathematics | N6: Understanding the world | Q6: Expressive arts and design
B7: Listening, attention and underst. | C7: Speaking | D7: Self-regulation | E7: Managing self | F7: Building relationships | G7: Gross motor skills | H7: Fine motor skills | I7: Comp. | J7: Word reading | K7: Writing | L7: Number | M7: Numerical patterns | N7: Past and present | O7: People, culture and communities | P7: The natural world | Q7: Creating with materials | R7: Being imaginative and expressive
A8: GRADE | B8: =('Summer Data'!J4) -> 2 | C8: =('Summer Data'!K4) -> 2 | D8: =('Summer Data'!L4) -> 2 | E8: =('Summer Data'!M4) -> 2 | F8: =('Summer Data'!N4) -> 2 | G8: =('Summer Data'!O4) -> 2 | H8: =('Summer Data'!P4) -> 2 | I8: =('Summer Data'!Q4) -> 2 | ... R8: =('Summer Data'!Z4) -> 2
A10: EXPLANATION | J10: TEACHER COMMENT
A13: GRADE | J13: Comment here…
A14: Progress towards learning is shown as progress towards achieving each Early Learning Goal:
A15: 1 = Emerging (working towards achieving the goal)
A16: 2 = Expected (achieved the goal)

Sheet Pupil Report 2
A1: EYFS PUPIL ATTAINMENT REPORT | O1: PUPIL NAME:
O2: =('Communication & Language'!A5) -> Example Child B
B4: EARLY YEARS FOUNDATION STAGE (EYFS): EARLY LEARNING GOALS
B5: PRIME AREAS | I5: SPECIFIC AREAS
B6: Communication and language | D6: Personal, social and emtional development | G6: Physical development | I6: Literacy | L6: Mathematics | N6: Understanding the world | Q6: Expressive arts and design
B7: Listening, attention and underst. | C7: Speaking | D7: Self-regulation | E7: Managing self | F7: Building relationships | G7: Gross motor skills | H7: Fine motor skills | I7: Comp. | J7: Word reading | K7: Writing | L7: Number | M7: Numerical patterns | N7: Past and present | O7: People, culture and communities | P7: The natural world | Q7: Creating with materials | R7: Being imaginative and expressive
A8: GRADE | B8: =('Summer Data'!J5) -> 2 | C8: =('Summer Data'!K5) -> 2 | D8: =('Summer Data'!L5) -> 2 | E8: =('Summer Data'!M5) -> 1 | F8: =('Summer Data'!N5) -> 2 | G8: =('Summer Data'!O5) -> 1 | H8: =('Summer Data'!P5) -> 2 | I8: =('Summer Data'!Q5) -> 2 | ... R8: =('Summer Data'!Z5) -> 1
A10: EXPLANATION | J10: TEACHER COMMENT
A13: GRADE | J13: Comment here…
A14: Progress towards learning is shown as progress towards achieving each Early Learning Goal:
A15: 1 = Emerging (working towards achieving the goal)
A16: 2 = Expected (achieved the goal)

Sheet Pupil Report 3
A1: EYFS PUPIL ATTAINMENT REPORT | O1: PUPIL NAME:
O2: =('Communication & Language'!A6) -> Example Child C
B4: EARLY YEARS FOUNDATION STAGE (EYFS): EARLY LEARNING GOALS
B5: PRIME AREAS | I5: SPECIFIC AREAS
B6: Communication and language | D6: Personal, social and emtional development | G6: Physical development | I6: Literacy | L6: Mathematics | N6: Understanding the world | Q6: Expressive arts and design
B7: Listening, attention and underst. | C7: Speaking | D7: Self-regulation | E7: Managing self | F7: Building relationships | G7: Gross motor skills | H7: Fine motor skills | I7: Comp. | J7: Word reading | K7: Writing | L7: Number | M7: Numerical patterns | N7: Past and present | O7: People, culture and communities | P7: The natural world | Q7: Creating with materials | R7: Being imaginative and expressive
A8: GRADE | B8: =('Summer Data'!J6) -> 1 | C8: =('Summer Data'!K6) -> 2 | D8: =('Summer Data'!L6) -> 2 | E8: =('Summer Data'!M6) -> 1 | F8: =('Summer Data'!N6) -> 2 | G8: =('Summer Data'!O6) -> 1 | H8: =('Summer Data'!P6) -> 1 | I8: =('Summer Data'!Q6) -> 2 | ... R8: =('Summer Data'!Z6) -> 2
A10: EXPLANATION | J10: TEACHER COMMENT
A13: GRADE | J13: Comment here…
A14: Progress towards learning is shown as progress towards achieving each Early Learning Goal:
A15: 1 = Emerging (working towards achieving the goal)
A16: 2 = Expected (achieved the goal)

Sheet Pupil Report 4
A1: EYFS PUPIL ATTAINMENT REPORT | O1: PUPIL NAME:
O2: =('Communication & Language'!A7) -> Pupil name
B4: EARLY YEARS FOUNDATION STAGE (EYFS): EARLY LEARNING GOALS
B5: PRIME AREAS | I5: SPECIFIC AREAS
B6: Communication and language | D6: Personal, social and emtional development | G6: Physical development | I6: Literacy | L6: Mathematics | N6: Understanding the world | Q6: Expressive arts and design
B7: Listening, attention and underst. | C7: Speaking | D7: Self-regulation | E7: Managing self | F7: Building relationships | G7: Gross motor skills | H7: Fine motor skills | I7: Comp. | J7: Word reading | K7: Writing | L7: Number | M7: Numerical patterns | N7: Past and present | O7: People, culture and communities | P7: The natural world | Q7: Creating with materials | R7: Being imaginative and expressive
A8: GRADE | B8: =('Summer Data'!J7) -> 0 | C8: =('Summer Data'!K7) -> 0 | D8: =('Summer Data'!L7) -> 0 | E8: =('Summer Data'!M7) -> 0 | F8: =('Summer Data'!N7) -> 0 | G8: =('Summer Data'!O7) -> 0 | H8: =('Summer Data'!P7) -> 0 | I8: =('Summer Data'!Q7) -> 0 | ... R8: =('Summer Data'!Z7) -> 0
A10: EXPLANATION | J10: TEACHER COMMENT
A13: GRADE | J13: Comment here…
A14: Progress towards learning is shown as progress towards achieving each Early Learning Goal:
A15: 1 = Emerging (working towards achieving the goal)
A16: 2 = Expected (achieved the goal)

Sheet Pupil Report 5
A1: EYFS PUPIL ATTAINMENT REPORT | O1: PUPIL NAME:
O2: =('Communication & Language'!A8) -> Pupil name
B4: EARLY YEARS FOUNDATION STAGE (EYFS): EARLY LEARNING GOALS
B5: PRIME AREAS | I5: SPECIFIC AREAS
B6: Communication and language | D6: Personal, social and emtional development | G6: Physical development | I6: Literacy | L6: Mathematics | N6: Understanding the world | Q6: Expressive arts and design
B7: Listening, attention and underst. | C7: Speaking | D7: Self-regulation | E7: Managing self | F7: Building relationships | G7: Gross motor skills | H7: Fine motor skills | I7: Comp. | J7: Word reading | K7: Writing | L7: Number | M7: Numerical patterns | N7: Past and present | O7: People, culture and communities | P7: The natural world | Q7: Creating with materials | R7: Being imaginative and expressive
A8: GRADE | B8: =('Summer Data'!J8) -> 0 | C8: =('Summer Data'!K8) -> 0 | D8: =('Summer Data'!L8) -> 0 | E8: =('Summer Data'!M8) -> 0 | F8: =('Summer Data'!N8) -> 0 | G8: =('Summer Data'!O8) -> 0 | H8: =('Summer Data'!P8) -> 0 | I8: =('Summer Data'!Q8) -> 0 | ... R8: =('Summer Data'!Z8) -> 0
A10: EXPLANATION | J10: TEACHER COMMENT
A13: GRADE | J13: Comment here…
A14: Progress towards learning is shown as progress towards achieving each Early Learning Goal:
A15: 1 = Emerging (working towards achieving the goal)
A16: 2 = Expected (achieved the goal)

Sheet Pupil Report 6
A1: EYFS PUPIL ATTAINMENT REPORT | O1: PUPIL NAME:
O2: =('Communication & Language'!A9) -> Pupil name
B4: EARLY YEARS FOUNDATION STAGE (EYFS): EARLY LEARNING GOALS
B5: PRIME AREAS | I5: SPECIFIC AREAS
B6: Communication and language | D6: Personal, social and emtional development | G6: Physical development | I6: Literacy | L6: Mathematics | N6: Understanding the world | Q6: Expressive arts and design
B7: Listening, attention and underst. | C7: Speaking | D7: Self-regulation | E7: Managing self | F7: Building relationships | G7: Gross motor skills | H7: Fine motor skills | I7: Comp. | J7: Word reading | K7: Writing | L7: Number | M7: Numerical patterns | N7: Past and present | O7: People, culture and communities | P7: The natural world | Q7: Creating with materials | R7: Being imaginative and expressive
A8: GRADE | B8: =('Summer Data'!J9) -> 0 | C8: =('Summer Data'!K9) -> 0 | D8: =('Summer Data'!L9) -> 0 | E8: =('Summer Data'!M9) -> 0 | F8: =('Summer Data'!N9) -> 0 | G8: =('Summer Data'!O9) -> 0 | H8: =('Summer Data'!P9) -> 0 | I8: =('Summer Data'!Q9) -> 0 | ... R8: =('Summer Data'!Z9) -> 0
A10: EXPLANATION | J10: TEACHER COMMENT
A13: GRADE | J13: Comment here…
A14: Progress towards learning is shown as progress towards achieving each Early Learning Goal:
A15: 1 = Emerging (working towards achieving the goal)
A16: 2 = Expected (achieved the goal)

Sheet Pupil Report 7
A1: EYFS PUPIL ATTAINMENT REPORT | O1: PUPIL NAME:
O2: =('Communication & Language'!A10) -> Pupil name
B4: EARLY YEARS FOUNDATION STAGE (EYFS): EARLY LEARNING GOALS
B5: PRIME AREAS | I5: SPECIFIC AREAS
B6: Communication and language | D6: Personal, social and emtional development | G6: Physical development | I6: Literacy | L6: Mathematics | N6: Understanding the world | Q6: Expressive arts and design
B7: Listening, attention and underst. | C7: Speaking | D7: Self-regulation | E7: Managing self | F7: Building relationships | G7: Gross motor skills | H7: Fine motor skills | I7: Comp. | J7: Word reading | K7: Writing | L7: Number | M7: Numerical patterns | N7: Past and present | O7: People, culture and communities | P7: The natural world | Q7: Creating with materials | R7: Being imaginative and expressive
A8: GRADE | B8: =('Summer Data'!J10) -> 0 | C8: =('Summer Data'!K10) -> 0 | D8: =('Summer Data'!L10) -> 0 | E8: =('Summer Data'!M10) -> 0 | F8: =('Summer Data'!N10) -> 0 | G8: =('Summer Data'!O10) -> 0 | H8: =('Summer Data'!P10) -> 0 | I8: =('Summer Data'!Q10) -> 0 | ... R8: =('Summer Data'!Z10) -> 0
A10: EXPLANATION | J10: TEACHER COMMENT
A13: GRADE | J13: Comment here…
A14: Progress towards learning is shown as progress towards achieving each Early Learning Goal:
A15: 1 = Emerging (working towards achieving the goal)
A16: 2 = Expected (achieved the goal)

Sheet Pupil Report 8
A1: EYFS PUPIL ATTAINMENT REPORT | O1: PUPIL NAME:
O2: =('Communication & Language'!A11) -> Pupil name
B4: EARLY YEARS FOUNDATION STAGE (EYFS): EARLY LEARNING GOALS
B5: PRIME AREAS | I5: SPECIFIC AREAS
B6: Communication and language | D6: Personal, social and emtional development | G6: Physical development | I6: Literacy | L6: Mathematics | N6: Understanding the world | Q6: Expressive arts and design
B7: Listening, attention and underst. | C7: Speaking | D7: Self-regulation | E7: Managing self | F7: Building relationships | G7: Gross motor skills | H7: Fine motor skills | I7: Comp. | J7: Word reading | K7: Writing | L7: Number | M7: Numerical patterns | N7: Past and present | O7: People, culture and communities | P7: The natural world | Q7: Creating with materials | R7: Being imaginative and expressive
A8: GRADE | B8: =('Summer Data'!J11) -> 0 | C8: =('Summer Data'!K11) -> 0 | D8: =('Summer Data'!L11) -> 0 | E8: =('Summer Data'!M11) -> 0 | F8: =('Summer Data'!N11) -> 0 | G8: =('Summer Data'!O11) -> 0 | H8: =('Summer Data'!P11) -> 0 | I8: =('Summer Data'!Q11) -> 0 | ... R8: =('Summer Data'!Z11) -> 0
A10: EXPLANATION | J10: TEACHER COMMENT
A13: GRADE | J13: Comment here…
A14: Progress towards learning is shown as progress towards achieving each Early Learning Goal:
A15: 1 = Emerging (working towards achieving the goal)
A16: 2 = Expected (achieved the goal)

Sheet Pupil Report 9
A1: EYFS PUPIL ATTAINMENT REPORT | O1: PUPIL NAME:
O2: =('Communication & Language'!A12) -> Pupil name
B4: EARLY YEARS FOUNDATION STAGE (EYFS): EARLY LEARNING GOALS
B5: PRIME AREAS | I5: SPECIFIC AREAS
B6: Communication and language | D6: Personal, social and emtional development | G6: Physical development | I6: Literacy | L6: Mathematics | N6: Understanding the world | Q6: Expressive arts and design
B7: Listening, attention and underst. | C7: Speaking | D7: Self-regulation | E7: Managing self | F7: Building relationships | G7: Gross motor skills | H7: Fine motor skills | I7: Comp. | J7: Word reading | K7: Writing | L7: Number | M7: Numerical patterns | N7: Past and present | O7: People, culture and communities | P7: The natural world | Q7: Creating with materials | R7: Being imaginative and expressive
A8: GRADE | B8: =('Summer Data'!J12) -> 0 | C8: =('Summer Data'!K12) -> 0 | D8: =('Summer Data'!L12) -> 0 | E8: =('Summer Data'!M12) -> 0 | F8: =('Summer Data'!N12) -> 0 | G8: =('Summer Data'!O12) -> 0 | H8: =('Summer Data'!P12) -> 0 | I8: =('Summer Data'!Q12) -> 0 | ... R8: =('Summer Data'!Z12) -> 0
A10: EXPLANATION | J10: TEACHER COMMENT
A13: GRADE | J13: Comment here…
A14: Progress towards learning is shown as progress towards achieving each Early Learning Goal:
A15: 1 = Emerging (working towards achieving the goal)
A16: 2 = Expected (achieved the goal)

Sheet Pupil Report 10
A1: EYFS PUPIL ATTAINMENT REPORT | O1: PUPIL NAME:
O2: =('Communication & Language'!A13) -> Pupil name
B4: EARLY YEARS FOUNDATION STAGE (EYFS): EARLY LEARNING GOALS
B5: PRIME AREAS | I5: SPECIFIC AREAS
B6: Communication and language | D6: Personal, social and emtional development | G6: Physical development | I6: Literacy | L6: Mathematics | N6: Understanding the world | Q6: Expressive arts and design
B7: Listening, attention and underst. | C7: Speaking | D7: Self-regulation | E7: Managing self | F7: Building relationships | G7: Gross motor skills | H7: Fine motor skills | I7: Comp. | J7: Word reading | K7: Writing | L7: Number | M7: Numerical patterns | N7: Past and present | O7: People, culture and communities | P7: The natural world | Q7: Creating with materials | R7: Being imaginative and expressive
A8: GRADE | B8: =('Summer Data'!J13) -> 0 | C8: =('Summer Data'!K13) -> 0 | D8: =('Summer Data'!L13) -> 0 | E8: =('Summer Data'!M13) -> 0 | F8: =('Summer Data'!N13) -> 0 | G8: =('Summer Data'!O13) -> 0 | H8: =('Summer Data'!P13) -> 0 | I8: =('Summer Data'!Q13) -> 0 | ... R8: =('Summer Data'!Z13) -> 0
A10: EXPLANATION | J10: TEACHER COMMENT
A13: GRADE | J13: Comment here…
A14: Progress towards learning is shown as progress towards achieving each Early Learning Goal:
A15: 1 = Emerging (working towards achieving the goal)
A16: 2 = Expected (achieved the goal)

Sheet Pupil Report 11
A1: EYFS PUPIL ATTAINMENT REPORT | O1: PUPIL NAME:
O2: =('Communication & Language'!A14) -> Pupil name
B4: EARLY YEARS FOUNDATION STAGE (EYFS): EARLY LEARNING GOALS
B5: PRIME AREAS | I5: SPECIFIC AREAS
B6: Communication and language | D6: Personal, social and emtional development | G6: Physical development | I6: Literacy | L6: Mathematics | N6: Understanding the world | Q6: Expressive arts and design
B7: Listening, attention and underst. | C7: Speaking | D7: Self-regulation | E7: Managing self | F7: Building relationships | G7: Gross motor skills | H7: Fine motor skills | I7: Comp. | J7: Word reading | K7: Writing | L7: Number | M7: Numerical patterns | N7: Past and present | O7: People, culture and communities | P7: The natural world | Q7: Creating with materials | R7: Being imaginative and expressive
A8: GRADE | B8: =('Summer Data'!J14) -> 0 | C8: =('Summer Data'!K14) -> 0 | D8: =('Summer Data'!L14) -> 0 | E8: =('Summer Data'!M14) -> 0 | F8: =('Summer Data'!N14) -> 0 | G8: =('Summer Data'!O14) -> 0 | H8: =('Summer Data'!P14) -> 0 | I8: =('Summer Data'!Q14) -> 0 | ... R8: =('Summer Data'!Z14) -> 0
A10: EXPLANATION | J10: TEACHER COMMENT
A13: GRADE | J13: Comment here…
A14: Progress towards learning is shown as progress towards achieving each Early Learning Goal:
A15: 1 = Emerging (working towards achieving the goal)
A16: 2 = Expected (achieved the goal)

Sheet Pupil Report 12
A1: EYFS PUPIL ATTAINMENT REPORT | O1: PUPIL NAME:
O2: =('Communication & Language'!A15) -> Pupil name
B4: EARLY YEARS FOUNDATION STAGE (EYFS): EARLY LEARNING GOALS
B5: PRIME AREAS | I5: SPECIFIC AREAS
B6: Communication and language | D6: Personal, social and emtional development | G6: Physical development | I6: Literacy | L6: Mathematics | N6: Understanding the world | Q6: Expressive arts and design
B7: Listening, attention and underst. | C7: Speaking | D7: Self-regulation | E7: Managing self | F7: Building relationships | G7: Gross motor skills | H7: Fine motor skills | I7: Comp. | J7: Word reading | K7: Writing | L7: Number | M7: Numerical patterns | N7: Past and present | O7: People, culture and communities | P7: The natural world | Q7: Creating with materials | R7: Being imaginative and expressive
A8: GRADE | B8: =('Summer Data'!J15) -> 0 | C8: =('Summer Data'!K15) -> 0 | D8: =('Summer Data'!L15) -> 0 | E8: =('Summer Data'!M15) -> 0 | F8: =('Summer Data'!N15) -> 0 | G8: =('Summer Data'!O15) -> 0 | H8: =('Summer Data'!P15) -> 0 | I8: =('Summer Data'!Q15) -> 0 | ... R8: =('Summer Data'!Z15) -> 0
A10: EXPLANATION | J10: TEACHER COMMENT
A13: GRADE | J13: Comment here…
A14: Progress towards learning is shown as progress towards achieving each Early Learning Goal:
A15: 1 = Emerging (working towards achieving the goal)
A16: 2 = Expected (achieved the goal)

Sheet Pupil Report 13
A1: EYFS PUPIL ATTAINMENT REPORT | O1: PUPIL NAME:
O2: =('Communication & Language'!A16) -> Pupil name
B4: EARLY YEARS FOUNDATION STAGE (EYFS): EARLY LEARNING GOALS
B5: PRIME AREAS | I5: SPECIFIC AREAS
B6: Communication and language | D6: Personal, social and emtional development | G6: Physical development | I6: Literacy | L6: Mathematics | N6: Understanding the world | Q6: Expressive arts and design
B7: Listening, attention and underst. | C7: Speaking | D7: Self-regulation | E7: Managing self | F7: Building relationships | G7: Gross motor skills | H7: Fine motor skills | I7: Comp. | J7: Word reading | K7: Writing | L7: Number | M7: Numerical patterns | N7: Past and present | O7: People, culture and communities | P7: The natural world | Q7: Creating with materials | R7: Being imaginative and expressive
A8: GRADE | B8: =('Summer Data'!J16) -> 0 | C8: =('Summer Data'!K16) -> 0 | D8: =('Summer Data'!L16) -> 0 | E8: =('Summer Data'!M16) -> 0 | F8: =('Summer Data'!N16) -> 0 | G8: =('Summer Data'!O16) -> 0 | H8: =('Summer Data'!P16) -> 0 | I8: =('Summer Data'!Q16) -> 0 | ... R8: =('Summer Data'!Z16) -> 0
A10: EXPLANATION | J10: TEACHER COMMENT
A13: GRADE | J13: Comment here…
A14: Progress towards learning is shown as progress towards achieving each Early Learning Goal:
A15: 1 = Emerging (working towards achieving the goal)
A16: 2 = Expected (achieved the goal)

Sheet Pupil Report 14
A1: EYFS PUPIL ATTAINMENT REPORT | O1: PUPIL NAME:
O2: =('Communication & Language'!A17) -> Pupil name
B4: EARLY YEARS FOUNDATION STAGE (EYFS): EARLY LEARNING GOALS
B5: PRIME AREAS | I5: SPECIFIC AREAS
B6: Communication and language | D6: Personal, social and emtional development | G6: Physical development | I6: Literacy | L6: Mathematics | N6: Understanding the world | Q6: Expressive arts and design
B7: Listening, attention and underst. | C7: Speaking | D7: Self-regulation | E7: Managing self | F7: Building relationships | G7: Gross motor skills | H7: Fine motor skills | I7: Comp. | J7: Word reading | K7: Writing | L7: Number | M7: Numerical patterns | N7: Past and present | O7: People, culture and communities | P7: The natural world | Q7: Creating with materials | R7: Being imaginative and expressive
A8: GRADE | B8: =('Summer Data'!J17) -> 0 | C8: =('Summer Data'!K17) -> 0 | D8: =('Summer Data'!L17) -> 0 | E8: =('Summer Data'!M17) -> 0 | F8: =('Summer Data'!N17) -> 0 | G8: =('Summer Data'!O17) -> 0 | H8: =('Summer Data'!P17) -> 0 | I8: =('Summer Data'!Q17) -> 0 | ... R8: =('Summer Data'!Z17) -> 0
A10: EXPLANATION | J10: TEACHER COMMENT
A13: GRADE | J13: Comment here…
A14: Progress towards learning is shown as progress towards achieving each Early Learning Goal:
A15: 1 = Emerging (working towards achieving the goal)
A16: 2 = Expected (achieved the goal)

Sheet Pupil Report 15
A1: EYFS PUPIL ATTAINMENT REPORT | O1: PUPIL NAME:
O2: =('Communication & Language'!A18) -> Pupil name
B4: EARLY YEARS FOUNDATION STAGE (EYFS): EARLY LEARNING GOALS
B5: PRIME AREAS | I5: SPECIFIC AREAS
B6: Communication and language | D6: Personal, social and emtional development | G6: Physical development | I6: Literacy | L6: Mathematics | N6: Understanding the world | Q6: Expressive arts and design
B7: Listening, attention and underst. | C7: Speaking | D7: Self-regulation | E7: Managing self | F7: Building relationships | G7: Gross motor skills | H7: Fine motor skills | I7: Comp. | J7: Word reading | K7: Writing | L7: Number | M7: Numerical patterns | N7: Past and present | O7: People, culture and communities | P7: The natural world | Q7: Creating with materials | R7: Being imaginative and expressive
A8: GRADE | B8: =('Summer Data'!J18) -> 0 | C8: =('Summer Data'!K18) -> 0 | D8: =('Summer Data'!L18) -> 0 | E8: =('Summer Data'!M18) -> 0 | F8: =('Summer Data'!N18) -> 0 | G8: =('Summer Data'!O18) -> 0 | H8: =('Summer Data'!P18) -> 0 | I8: =('Summer Data'!Q18) -> 0 | ... R8: =('Summer Data'!Z18) -> 0
A10: EXPLANATION | J10: TEACHER COMMENT
A13: GRADE | J13: Comment here…
A14: Progress towards learning is shown as progress towards achieving each Early Learning Goal:
A15: 1 = Emerging (working towards achieving the goal)
A16: 2 = Expected (achieved the goal)

Sheet Pupil Report 16
A1: EYFS PUPIL ATTAINMENT REPORT | O1: PUPIL NAME:
O2: =('Communication & Language'!A19) -> Pupil name
B4: EARLY YEARS FOUNDATION STAGE (EYFS): EARLY LEARNING GOALS
B5: PRIME AREAS | I5: SPECIFIC AREAS
B6: Communication and language | D6: Personal, social and emtional development | G6: Physical development | I6: Literacy | L6: Mathematics | N6: Understanding the world | Q6: Expressive arts and design
B7: Listening, attention and underst. | C7: Speaking | D7: Self-regulation | E7: Managing self | F7: Building relationships | G7: Gross motor skills | H7: Fine motor skills | I7: Comp. | J7: Word reading | K7: Writing | L7: Number | M7: Numerical patterns | N7: Past and present | O7: People, culture and communities | P7: The natural world | Q7: Creating with materials | R7: Being imaginative and expressive
A8: GRADE | B8: =('Summer Data'!J19) -> 0 | C8: =('Summer Data'!K19) -> 0 | D8: =('Summer Data'!L19) -> 0 | E8: =('Summer Data'!M19) -> 0 | F8: =('Summer Data'!N19) -> 0 | G8: =('Summer Data'!O19) -> 0 | H8: =('Summer Data'!P19) -> 0 | I8: =('Summer Data'!Q19) -> 0 | ... R8: =('Summer Data'!Z19) -> 0
A10: EXPLANATION | J10: TEACHER COMMENT
A13: GRADE | J13: Comment here…
A14: Progress towards learning is shown as progress towards achieving each Early Learning Goal:
A15: 1 = Emerging (working towards achieving the goal)
A16: 2 = Expected (achieved the goal)

Sheet Pupil Report 17
A1: EYFS PUPIL ATTAINMENT REPORT | O1: PUPIL NAME:
O2: =('Communication & Language'!A20) -> Pupil name
B4: EARLY YEARS FOUNDATION STAGE (EYFS): EARLY LEARNING GOALS
B5: PRIME AREAS | I5: SPECIFIC AREAS
B6: Communication and language | D6: Personal, social and emtional development | G6: Physical development | I6: Literacy | L6: Mathematics | N6: Understanding the world | Q6: Expressive arts and design
B7: Listening, attention and underst. | C7: Speaking | D7: Self-regulation | E7: Managing self | F7: Building relationships | G7: Gross motor skills | H7: Fine motor skills | I7: Comp. | J7: Word reading | K7: Writing | L7: Number | M7: Numerical patterns | N7: Past and present | O7: People, culture and communities | P7: The natural world | Q7: Creating with materials | R7: Being imaginative and expressive
A8: GRADE | B8: =('Summer Data'!J20) -> 0 | C8: =('Summer Data'!K20) -> 0 | D8: =('Summer Data'!L20) -> 0 | E8: =('Summer Data'!M20) -> 0 | F8: =('Summer Data'!N20) -> 0 | G8: =('Summer Data'!O20) -> 0 | H8: =('Summer Data'!P20) -> 0 | I8: =('Summer Data'!Q20) -> 0 | ... R8: =('Summer Data'!Z20) -> 0
A10: EXPLANATION | J10: TEACHER COMMENT
A13: GRADE | J13: Comment here…
A14: Progress towards learning is shown as progress towards achieving each Early Learning Goal:
A15: 1 = Emerging (working towards achieving the goal)
A16: 2 = Expected (achieved the goal)

Sheet Pupil Report 18
A1: EYFS PUPIL ATTAINMENT REPORT | O1: PUPIL NAME:
O2: =('Communication & Language'!A21) -> Pupil name
B4: EARLY YEARS FOUNDATION STAGE (EYFS): EARLY LEARNING GOALS
B5: PRIME AREAS | I5: SPECIFIC AREAS
B6: Communication and language | D6: Personal, social and emtional development | G6: Physical development | I6: Literacy | L6: Mathematics | N6: Understanding the world | Q6: Expressive arts and design
B7: Listening, attention and underst. | C7: Speaking | D7: Self-regulation | E7: Managing self | F7: Building relationships | G7: Gross motor skills | H7: Fine motor skills | I7: Comp. | J7: Word reading | K7: Writing | L7: Number | M7: Numerical patterns | N7: Past and present | O7: People, culture and communities | P7: The natural world | Q7: Creating with materials | R7: Being imaginative and expressive
A8: GRADE | B8: =('Summer Data'!J21) -> 0 | C8: =('Summer Data'!K21) -> 0 | D8: =('Summer Data'!L21) -> 0 | E8: =('Summer Data'!M21) -> 0 | F8: =('Summer Data'!N21) -> 0 | G8: =('Summer Data'!O21) -> 0 | H8: =('Summer Data'!P21) -> 0 | I8: =('Summer Data'!Q21) -> 0 | ... R8: =('Summer Data'!Z21) -> 0
A10: EXPLANATION | J10: TEACHER COMMENT
A13: GRADE | J13: Comment here…
A14: Progress towards learning is shown as progress towards achieving each Early Learning Goal:
A15: 1 = Emerging (working towards achieving the goal)
A16: 2 = Expected (achieved the goal)

Sheet Pupil Report 19
A1: EYFS PUPIL ATTAINMENT REPORT | O1: PUPIL NAME:
O2: =('Communication & Language'!A22) -> Pupil name
B4: EARLY YEARS FOUNDATION STAGE (EYFS): EARLY LEARNING GOALS
B5: PRIME AREAS | I5: SPECIFIC AREAS
B6: Communication and language | D6: Personal, social and emtional development | G6: Physical development | I6: Literacy | L6: Mathematics | N6: Understanding the world | Q6: Expressive arts and design
B7: Listening, attention and underst. | C7: Speaking | D7: Self-regulation | E7: Managing self | F7: Building relationships | G7: Gross motor skills | H7: Fine motor skills | I7: Comp. | J7: Word reading | K7: Writing | L7: Number | M7: Numerical patterns | N7: Past and present | O7: People, culture and communities | P7: The natural world | Q7: Creating with materials | R7: Being imaginative and expressive
A8: GRADE | B8: =('Summer Data'!J22) -> 0 | C8: =('Summer Data'!K22) -> 0 | D8: =('Summer Data'!L22) -> 0 | E8: =('Summer Data'!M22) -> 0 | F8: =('Summer Data'!N22) -> 0 | G8: =('Summer Data'!O22) -> 0 | H8: =('Summer Data'!P22) -> 0 | I8: =('Summer Data'!Q22) -> 0 | ... R8: =('Summer Data'!Z22) -> 0
A10: EXPLANATION | J10: TEACHER COMMENT
A13: GRADE | J13: Comment here…
A14: Progress towards learning is shown as progress towards achieving each Early Learning Goal:
A15: 1 = Emerging (working towards achieving the goal)
A16: 2 = Expected (achieved the goal)

Sheet Pupil Report 20
A1: EYFS PUPIL ATTAINMENT REPORT | O1: PUPIL NAME:
O2: =('Communication & Language'!A23) -> Pupil name
B4: EARLY YEARS FOUNDATION STAGE (EYFS): EARLY LEARNING GOALS
B5: PRIME AREAS | I5: SPECIFIC AREAS
B6: Communication and language | D6: Personal, social and emtional development | G6: Physical development | I6: Literacy | L6: Mathematics | N6: Understanding the world | Q6: Expressive arts and design
B7: Listening, attention and underst. | C7: Speaking | D7: Self-regulation | E7: Managing self | F7: Building relationships | G7: Gross motor skills | H7: Fine motor skills | I7: Comp. | J7: Word reading | K7: Writing | L7: Number | M7: Numerical patterns | N7: Past and present | O7: People, culture and communities | P7: The natural world | Q7: Creating with materials | R7: Being imaginative and expressive
A8: GRADE | B8: =('Summer Data'!J23) -> 0 | C8: =('Summer Data'!K23) -> 0 | D8: =('Summer Data'!L23) -> 0 | E8: =('Summer Data'!M23) -> 0 | F8: =('Summer Data'!N23) -> 0 | G8: =('Summer Data'!O23) -> 0 | H8: =('Summer Data'!P23) -> 0 | I8: =('Summer Data'!Q23) -> 0 | ... R8: =('Summer Data'!Z23) -> 0
A10: EXPLANATION | J10: TEACHER COMMENT
A13: GRADE | J13: Comment here…
A14: Progress towards learning is shown as progress towards achieving each Early Learning Goal:
A15: 1 = Emerging (working towards achieving the goal)
A16: 2 = Expected (achieved the goal)

Sheet Pupil Report 21
A1: EYFS PUPIL ATTAINMENT REPORT | O1: PUPIL NAME:
O2: =('Communication & Language'!A24) -> Pupil name
B4: EARLY YEARS FOUNDATION STAGE (EYFS): EARLY LEARNING GOALS
B5: PRIME AREAS | I5: SPECIFIC AREAS
B6: Communication and language | D6: Personal, social and emtional development | G6: Physical development | I6: Literacy | L6: Mathematics | N6: Understanding the world | Q6: Expressive arts and design
B7: Listening, attention and underst. | C7: Speaking | D7: Self-regulation | E7: Managing self | F7: Building relationships | G7: Gross motor skills | H7: Fine motor skills | I7: Comp. | J7: Word reading | K7: Writing | L7: Number | M7: Numerical patterns | N7: Past and present | O7: People, culture and communities | P7: The natural world | Q7: Creating with materials | R7: Being imaginative and expressive
A8: GRADE | B8: =('Summer Data'!J24) -> 0 | C8: =('Summer Data'!K24) -> 0 | D8: =('Summer Data'!L24) -> 0 | E8: =('Summer Data'!M24) -> 0 | F8: =('Summer Data'!N24) -> 0 | G8: =('Summer Data'!O24) -> 0 | H8: =('Summer Data'!P24) -> 0 | I8: =('Summer Data'!Q24) -> 0 | ... R8: =('Summer Data'!Z24) -> 0
A10: EXPLANATION | J10: TEACHER COMMENT
A13: GRADE | J13: Comment here…
A14: Progress towards learning is shown as progress towards achieving each Early Learning Goal:
A15: 1 = Emerging (working towards achieving the goal)
A16: 2 = Expected (achieved the goal)

Sheet Pupil Report 22
A1: EYFS PUPIL ATTAINMENT REPORT | O1: PUPIL NAME:
O2: =('Communication & Language'!A25) -> Pupil name
B4: EARLY YEARS FOUNDATION STAGE (EYFS): EARLY LEARNING GOALS
B5: PRIME AREAS | I5: SPECIFIC AREAS
B6: Communication and language | D6: Personal, social and emtional development | G6: Physical development | I6: Literacy | L6: Mathematics | N6: Understanding the world | Q6: Expressive arts and design
B7: Listening, attention and underst. | C7: Speaking | D7: Self-regulation | E7: Managing self | F7: Building relationships | G7: Gross motor skills | H7: Fine motor skills | I7: Comp. | J7: Word reading | K7: Writing | L7: Number | M7: Numerical patterns | N7: Past and present | O7: People, culture and communities | P7: The natural world | Q7: Creating with materials | R7: Being imaginative and expressive
A8: GRADE | B8: =('Summer Data'!J25) -> 0 | C8: =('Summer Data'!K25) -> 0 | D8: =('Summer Data'!L25) -> 0 | E8: =('Summer Data'!M25) -> 0 | F8: =('Summer Data'!N25) -> 0 | G8: =('Summer Data'!O25) -> 0 | H8: =('Summer Data'!P25) -> 0 | I8: =('Summer Data'!Q25) -> 0 | ... R8: =('Summer Data'!Z25) -> 0
A10: EXPLANATION | J10: TEACHER COMMENT
A13: GRADE | J13: Comment here…
A14: Progress towards learning is shown as progress towards achieving each Early Learning Goal:
A15: 1 = Emerging (working towards achieving the goal)
A16: 2 = Expected (achieved the goal)

Sheet Pupil Report 23
A1: EYFS PUPIL ATTAINMENT REPORT | O1: PUPIL NAME:
O2: =('Communication & Language'!A26) -> Pupil name
B4: EARLY YEARS FOUNDATION STAGE (EYFS): EARLY LEARNING GOALS
B5: PRIME AREAS | I5: SPECIFIC AREAS
B6: Communication and language | D6: Personal, social and emtional development | G6: Physical development | I6: Literacy | L6: Mathematics | N6: Understanding the world | Q6: Expressive arts and design
B7: Listening, attention and underst. | C7: Speaking | D7: Self-regulation | E7: Managing self | F7: Building relationships | G7: Gross motor skills | H7: Fine motor skills | I7: Comp. | J7: Word reading | K7: Writing | L7: Number | M7: Numerical patterns | N7: Past and present | O7: People, culture and communities | P7: The natural world | Q7: Creating with materials | R7: Being imaginative and expressive
A8: GRADE | B8: =('Summer Data'!J26) -> 0 | C8: =('Summer Data'!K26) -> 0 | D8: =('Summer Data'!L26) -> 0 | E8: =('Summer Data'!M26) -> 0 | F8: =('Summer Data'!N26) -> 0 | G8: =('Summer Data'!O26) -> 0 | H8: =('Summer Data'!P26) -> 0 | I8: =('Summer Data'!Q26) -> 0 | ... R8: =('Summer Data'!Z26) -> 0
A10: EXPLANATION | J10: TEACHER COMMENT
A13: GRADE | J13: Comment here…
A14: Progress towards learning is shown as progress towards achieving each Early Learning Goal:
A15: 1 = Emerging (working towards achieving the goal)
A16: 2 = Expected (achieved the goal)

Sheet Pupil Report 24
A1: EYFS PUPIL ATTAINMENT REPORT | O1: PUPIL NAME:
O2: =('Communication & Language'!A27) -> Pupil name
B4: EARLY YEARS FOUNDATION STAGE (EYFS): EARLY LEARNING GOALS
B5: PRIME AREAS | I5: SPECIFIC AREAS
B6: Communication and language | D6: Personal, social and emtional development | G6: Physical development | I6: Literacy | L6: Mathematics | N6: Understanding the world | Q6: Expressive arts and design
B7: Listening, attention and underst. | C7: Speaking | D7: Self-regulation | E7: Managing self | F7: Building relationships | G7: Gross motor skills | H7: Fine motor skills | I7: Comp. | J7: Word reading | K7: Writing | L7: Number | M7: Numerical patterns | N7: Past and present | O7: People, culture and communities | P7: The natural world | Q7: Creating with materials | R7: Being imaginative and expressive
A8: GRADE | B8: =('Summer Data'!J27) -> 0 | C8: =('Summer Data'!K27) -> 0 | D8: =('Summer Data'!L27) -> 0 | E8: =('Summer Data'!M27) -> 0 | F8: =('Summer Data'!N27) -> 0 | G8: =('Summer Data'!O27) -> 0 | H8: =('Summer Data'!P27) -> 0 | I8: =('Summer Data'!Q27) -> 0 | ... R8: =('Summer Data'!Z27) -> 0
A10: EXPLANATION | J10: TEACHER COMMENT
A13: GRADE | J13: Comment here…
A14: Progress towards learning is shown as progress towards achieving each Early Learning Goal:
A15: 1 = Emerging (working towards achieving the goal)
A16: 2 = Expected (achieved the goal)

Sheet Pupil Report 25
A1: EYFS PUPIL ATTAINMENT REPORT | O1: PUPIL NAME:
O2: =('Communication & Language'!A28) -> Pupil name
B4: EARLY YEARS FOUNDATION STAGE (EYFS): EARLY LEARNING GOALS
B5: PRIME AREAS | I5: SPECIFIC AREAS
B6: Communication and language | D6: Personal, social and emtional development | G6: Physical development | I6: Literacy | L6: Mathematics | N6: Understanding the world | Q6: Expressive arts and design
B7: Listening, attention and underst. | C7: Speaking | D7: Self-regulation | E7: Managing self | F7: Building relationships | G7: Gross motor skills | H7: Fine motor skills | I7: Comp. | J7: Word reading | K7: Writing | L7: Number | M7: Numerical patterns | N7: Past and present | O7: People, culture and communities | P7: The natural world | Q7: Creating with materials | R7: Being imaginative and expressive
A8: GRADE | B8: =('Summer Data'!J28) -> 0 | C8: =('Summer Data'!K28) -> 0 | D8: =('Summer Data'!L28) -> 0 | E8: =('Summer Data'!M28) -> 0 | F8: =('Summer Data'!N28) -> 0 | G8: =('Summer Data'!O28) -> 0 | H8: =('Summer Data'!P28) -> 0 | I8: =('Summer Data'!Q28) -> 0 | ... R8: =('Summer Data'!Z28) -> 0
A10: EXPLANATION | J10: TEACHER COMMENT
A13: GRADE | J13: Comment here…
A14: Progress towards learning is shown as progress towards achieving each Early Learning Goal:
A15: 1 = Emerging (working towards achieving the goal)
A16: 2 = Expected (achieved the goal)

Sheet Pupil Report 26
A1: EYFS PUPIL ATTAINMENT REPORT | O1: PUPIL NAME:
O2: =('Communication & Language'!A29) -> Pupil name
B4: EARLY YEARS FOUNDATION STAGE (EYFS): EARLY LEARNING GOALS
B5: PRIME AREAS | I5: SPECIFIC AREAS
B6: Communication and language | D6: Personal, social and emtional development | G6: Physical development | I6: Literacy | L6: Mathematics | N6: Understanding the world | Q6: Expressive arts and design
B7: Listening, attention and underst. | C7: Speaking | D7: Self-regulation | E7: Managing self | F7: Building relationships | G7: Gross motor skills | H7: Fine motor skills | I7: Comp. | J7: Word reading | K7: Writing | L7: Number | M7: Numerical patterns | N7: Past and present | O7: People, culture and communities | P7: The natural world | Q7: Creating with materials | R7: Being imaginative and expressive
A8: GRADE | B8: =('Summer Data'!J29) -> 0 | C8: =('Summer Data'!K29) -> 0 | D8: =('Summer Data'!L29) -> 0 | E8: =('Summer Data'!M29) -> 0 | F8: =('Summer Data'!N29) -> 0 | G8: =('Summer Data'!O29) -> 0 | H8: =('Summer Data'!P29) -> 0 | I8: =('Summer Data'!Q29) -> 0 | ... R8: =('Summer Data'!Z29) -> 0
A10: EXPLANATION | J10: TEACHER COMMENT
A13: GRADE | J13: Comment here…
A14: Progress towards learning is shown as progress towards achieving each Early Learning Goal:
A15: 1 = Emerging (working towards achieving the goal)
A16: 2 = Expected (achieved the goal)

Sheet Pupil Report 27
A1: EYFS PUPIL ATTAINMENT REPORT | O1: PUPIL NAME:
O2: =('Communication & Language'!A30) -> Pupil name
B4: EARLY YEARS FOUNDATION STAGE (EYFS): EARLY LEARNING GOALS
B5: PRIME AREAS | I5: SPECIFIC AREAS
B6: Communication and language | D6: Personal, social and emtional development | G6: Physical development | I6: Literacy | L6: Mathematics | N6: Understanding the world | Q6: Expressive arts and design
B7: Listening, attention and underst. | C7: Speaking | D7: Self-regulation | E7: Managing self | F7: Building relationships | G7: Gross motor skills | H7: Fine motor skills | I7: Comp. | J7: Word reading | K7: Writing | L7: Number | M7: Numerical patterns | N7: Past and present | O7: People, culture and communities | P7: The natural world | Q7: Creating with materials | R7: Being imaginative and expressive
A8: GRADE | B8: =('Summer Data'!J30) -> 0 | C8: =('Summer Data'!K30) -> 0 | D8: =('Summer Data'!L30) -> 0 | E8: =('Summer Data'!M30) -> 0 | F8: =('Summer Data'!N30) -> 0 | G8: =('Summer Data'!O30) -> 0 | H8: =('Summer Data'!P30) -> 0 | I8: =('Summer Data'!Q30) -> 0 | ... R8: =('Summer Data'!Z30) -> 0
A10: EXPLANATION | J10: TEACHER COMMENT
A13: GRADE | J13: Comment here…
A14: Progress towards learning is shown as progress towards achieving each Early Learning Goal:
A15: 1 = Emerging (working towards achieving the goal)
A16: 2 = Expected (achieved the goal)

Sheet Pupil Report 28
A1: EYFS PUPIL ATTAINMENT REPORT | O1: PUPIL NAME:
O2: =('Communication & Language'!A31) -> Pupil name
B4: EARLY YEARS FOUNDATION STAGE (EYFS): EARLY LEARNING GOALS
B5: PRIME AREAS | I5: SPECIFIC AREAS
B6: Communication and language | D6: Personal, social and emtional development | G6: Physical development | I6: Literacy | L6: Mathematics | N6: Understanding the world | Q6: Expressive arts and design
B7: Listening, attention and underst. | C7: Speaking | D7: Self-regulation | E7: Managing self | F7: Building relationships | G7: Gross motor skills | H7: Fine motor skills | I7: Comp. | J7: Word reading | K7: Writing | L7: Number | M7: Numerical patterns | N7: Past and present | O7: People, culture and communities | P7: The natural world | Q7: Creating with materials | R7: Being imaginative and expressive
A8: GRADE | B8: =('Summer Data'!J31) -> 0 | C8: =('Summer Data'!K31) -> 0 | D8: =('Summer Data'!L31) -> 0 | E8: =('Summer Data'!M31) -> 0 | F8: =('Summer Data'!N31) -> 0 | G8: =('Summer Data'!O31) -> 0 | H8: =('Summer Data'!P31) -> 0 | I8: =('Summer Data'!Q31) -> 0 | ... R8: =('Summer Data'!Z31) -> 0
A10: EXPLANATION | J10: TEACHER COMMENT
A13: GRADE | J13: Comment here…
A14: Progress towards learning is shown as progress towards achieving each Early Learning Goal:
A15: 1 = Emerging (working towards achieving the goal)
A16: 2 = Expected (achieved the goal)

Sheet Pupil Report 29
A1: EYFS PUPIL ATTAINMENT REPORT | O1: PUPIL NAME:
O2: =('Communication & Language'!A32) -> Pupil name
B4: EARLY YEARS FOUNDATION STAGE (EYFS): EARLY LEARNING GOALS
B5: PRIME AREAS | I5: SPECIFIC AREAS
B6: Communication and language | D6: Personal, social and emtional development | G6: Physical development | I6: Literacy | L6: Mathematics | N6: Understanding the world | Q6: Expressive arts and design
B7: Listening, attention and underst. | C7: Speaking | D7: Self-regulation | E7: Managing self | F7: Building relationships | G7: Gross motor skills | H7: Fine motor skills | I7: Comp. | J7: Word reading | K7: Writing | L7: Number | M7: Numerical patterns | N7: Past and present | O7: People, culture and communities | P7: The natural world | Q7: Creating with materials | R7: Being imaginative and expressive
A8: GRADE | B8: =('Summer Data'!J32) -> 0 | C8: =('Summer Data'!K32) -> 0 | D8: =('Summer Data'!L32) -> 0 | E8: =('Summer Data'!M32) -> 0 | F8: =('Summer Data'!N32) -> 0 | G8: =('Summer Data'!O32) -> 0 | H8: =('Summer Data'!P32) -> 0 | I8: =('Summer Data'!Q32) -> 0 | ... R8: =('Summer Data'!Z32) -> 0
A10: EXPLANATION | J10: TEACHER COMMENT
A13: GRADE | J13: Comment here…
A14: Progress towards learning is shown as progress towards achieving each Early Learning Goal:
A15: 1 = Emerging (working towards achieving the goal)
A16: 2 = Expected (achieved the goal)

Sheet Pupil Report 30
A1: EYFS PUPIL ATTAINMENT REPORT | O1: PUPIL NAME:
O2: =('Communication & Language'!A33) -> Pupil name
B4: EARLY YEARS FOUNDATION STAGE (EYFS): EARLY LEARNING GOALS
B5: PRIME AREAS | I5: SPECIFIC AREAS
B6: Communication and language | D6: Personal, social and emtional development | G6: Physical development | I6: Literacy | L6: Mathematics | N6: Understanding the world | Q6: Expressive arts and design
B7: Listening, attention and underst. | C7: Speaking | D7: Self-regulation | E7: Managing self | F7: Building relationships | G7: Gross motor skills | H7: Fine motor skills | I7: Comp. | J7: Word reading | K7: Writing | L7: Number | M7: Numerical patterns | N7: Past and present | O7: People, culture and communities | P7: The natural world | Q7: Creating with materials | R7: Being imaginative and expressive
A8: GRADE | B8: =('Summer Data'!J33) -> 0 | C8: =('Summer Data'!K33) -> 0 | D8: =('Summer Data'!L33) -> 0 | E8: =('Summer Data'!M33) -> 0 | F8: =('Summer Data'!N33) -> 0 | G8: =('Summer Data'!O33) -> 0 | H8: =('Summer Data'!P33) -> 0 | I8: =('Summer Data'!Q33) -> 0 | ... R8: =('Summer Data'!Z33) -> 0
A10: EXPLANATION | J10: TEACHER COMMENT
A13: GRADE | J13: Comment here…
A14: Progress towards learning is shown as progress towards achieving each Early Learning Goal:
A15: 1 = Emerging (working towards achieving the goal)
A16: 2 = Expected (achieved the goal)

Sheet Pupil Report 31
A1: EYFS PUPIL ATTAINMENT REPORT | O1: PUPIL NAME:
O2: =('Communication & Language'!A34) -> Pupil name
B4: EARLY YEARS FOUNDATION STAGE (EYFS): EARLY LEARNING GOALS
B5: PRIME AREAS | I5: SPECIFIC AREAS
B6: Communication and language | D6: Personal, social and emtional development | G6: Physical development | I6: Literacy | L6: Mathematics | N6: Understanding the world | Q6: Expressive arts and design
B7: Listening, attention and underst. | C7: Speaking | D7: Self-regulation | E7: Managing self | F7: Building relationships | G7: Gross motor skills | H7: Fine motor skills | I7: Comp. | J7: Word reading | K7: Writing | L7: Number | M7: Numerical patterns | N7: Past and present | O7: People, culture and communities | P7: The natural world | Q7: Creating with materials | R7: Being imaginative and expressive
A8: GRADE | B8: =('Summer Data'!J34) -> 0 | C8: =('Summer Data'!K34) -> 0 | D8: =('Summer Data'!L34) -> 0 | E8: =('Summer Data'!M34) -> 0 | F8: =('Summer Data'!N34) -> 0 | G8: =('Summer Data'!O34) -> 0 | H8: =('Summer Data'!P34) -> 0 | I8: =('Summer Data'!Q34) -> 0 | ... R8: =('Summer Data'!Z34) -> 0
A10: EXPLANATION | J10: TEACHER COMMENT
A13: GRADE | J13: Comment here…
A14: Progress towards learning is shown as progress towards achieving each Early Learning Goal:
A15: 1 = Emerging (working towards achieving the goal)
A16: 2 = Expected (achieved the goal)

Sheet Pupil Report 32
A1: EYFS PUPIL ATTAINMENT REPORT | O1: PUPIL NAME:
O2: =('Communication & Language'!A35) -> Pupil name
B4: EARLY YEARS FOUNDATION STAGE (EYFS): EARLY LEARNING GOALS
B5: PRIME AREAS | I5: SPECIFIC AREAS
B6: Communication and language | D6: Personal, social and emtional development | G6: Physical development | I6: Literacy | L6: Mathematics | N6: Understanding the world | Q6: Expressive arts and design
B7: Listening, attention and underst. | C7: Speaking | D7: Self-regulation | E7: Managing self | F7: Building relationships | G7: Gross motor skills | H7: Fine motor skills | I7: Comp. | J7: Word reading | K7: Writing | L7: Number | M7: Numerical patterns | N7: Past and present | O7: People, culture and communities | P7: The natural world | Q7: Creating with materials | R7: Being imaginative and expressive
A8: GRADE | B8: =('Summer Data'!J35) -> 0 | C8: =('Summer Data'!K35) -> 0 | D8: =('Summer Data'!L35) -> 0 | E8: =('Summer Data'!M35) -> 0 | F8: =('Summer Data'!N35) -> 0 | G8: =('Summer Data'!O35) -> 0 | H8: =('Summer Data'!P35) -> 0 | I8: =('Summer Data'!Q35) -> 0 | ... R8: =('Summer Data'!Z35) -> 0
A10: EXPLANATION | J10: TEACHER COMMENT
A13: GRADE | J13: Comment here…
A14: Progress towards learning is shown as progress towards achieving each Early Learning Goal:
A15: 1 = Emerging (working towards achieving the goal)
A16: 2 = Expected (achieved the goal)

Sheet Pupil Report 33
A1: EYFS PUPIL ATTAINMENT REPORT | O1: PUPIL NAME:
O2: =('Communication & Language'!A36) -> Pupil name
B4: EARLY YEARS FOUNDATION STAGE (EYFS): EARLY LEARNING GOALS
B5: PRIME AREAS | I5: SPECIFIC AREAS
B6: Communication and language | D6: Personal, social and emtional development | G6: Physical development | I6: Literacy | L6: Mathematics | N6: Understanding the world | Q6: Expressive arts and design
B7: Listening, attention and underst. | C7: Speaking | D7: Self-regulation | E7: Managing self | F7: Building relationships | G7: Gross motor skills | H7: Fine motor skills | I7: Comp. | J7: Word reading | K7: Writing | L7: Number | M7: Numerical patterns | N7: Past and present | O7: People, culture and communities | P7: The natural world | Q7: Creating with materials | R7: Being imaginative and expressive
A8: GRADE | B8: =('Summer Data'!J36) -> 0 | C8: =('Summer Data'!K36) -> 0 | D8: =('Summer Data'!L36) -> 0 | E8: =('Summer Data'!M36) -> 0 | F8: =('Summer Data'!N36) -> 0 | G8: =('Summer Data'!O36) -> 0 | H8: =('Summer Data'!P36) -> 0 | I8: =('Summer Data'!Q36) -> 0 | ... R8: =('Summer Data'!Z36) -> 0
A10: EXPLANATION | J10: TEACHER COMMENT
A13: GRADE | J13: Comment here…
A14: Progress towards learning is shown as progress towards achieving each Early Learning Goal:
A15: 1 = Emerging (working towards achieving the goal)
A16: 2 = Expected (achieved the goal)

Sheet Pupil Report 34
A1: EYFS PUPIL ATTAINMENT REPORT | O1: PUPIL NAME:
O2: =('Communication & Language'!A37) -> Pupil name
B4: EARLY YEARS FOUNDATION STAGE (EYFS): EARLY LEARNING GOALS
B5: PRIME AREAS | I5: SPECIFIC AREAS
B6: Communication and language | D6: Personal, social and emtional development | G6: Physical development | I6: Literacy | L6: Mathematics | N6: Understanding the world | Q6: Expressive arts and design
B7: Listening, attention and underst. | C7: Speaking | D7: Self-regulation | E7: Managing self | F7: Building relationships | G7: Gross motor skills | H7: Fine motor skills | I7: Comp. | J7: Word reading | K7: Writing | L7: Number | M7: Numerical patterns | N7: Past and present | O7: People, culture and communities | P7: The natural world | Q7: Creating with materials | R7: Being imaginative and expressive
A8: GRADE | B8: =('Summer Data'!J37) -> 0 | C8: =('Summer Data'!K37) -> 0 | D8: =('Summer Data'!L37) -> 0 | E8: =('Summer Data'!M37) -> 0 | F8: =('Summer Data'!N37) -> 0 | G8: =('Summer Data'!O37) -> 0 | H8: =('Summer Data'!P37) -> 0 | I8: =('Summer Data'!Q37) -> 0 | ... R8: =('Summer Data'!Z37) -> 0
A10: EXPLANATION | J10: TEACHER COMMENT
A13: GRADE | J13: Comment here…
A14: Progress towards learning is shown as progress towards achieving each Early Learning Goal:
A15: 1 = Emerging (working towards achieving the goal)
A16: 2 = Expected (achieved the goal)

Sheet Pupil Report 35
A1: EYFS PUPIL ATTAINMENT REPORT | O1: PUPIL NAME:
O2: =('Communication & Language'!A38) -> Pupil name
B4: EARLY YEARS FOUNDATION STAGE (EYFS): EARLY LEARNING GOALS
B5: PRIME AREAS | I5: SPECIFIC AREAS
B6: Communication and language | D6: Personal, social and emtional development | G6: Physical development | I6: Literacy | L6: Mathematics | N6: Understanding the world | Q6: Expressive arts and design
B7: Listening, attention and underst. | C7: Speaking | D7: Self-regulation | E7: Managing self | F7: Building relationships | G7: Gross motor skills | H7: Fine motor skills | I7: Comp. | J7: Word reading | K7: Writing | L7: Number | M7: Numerical patterns | N7: Past and present | O7: People, culture and communities | P7: The natural world | Q7: Creating with materials | R7: Being imaginative and expressive
A8: GRADE | B8: =('Summer Data'!J38) -> 0 | C8: =('Summer Data'!K38) -> 0 | D8: =('Summer Data'!L38) -> 0 | E8: =('Summer Data'!M38) -> 0 | F8: =('Summer Data'!N38) -> 0 | G8: =('Summer Data'!O38) -> 0 | H8: =('Summer Data'!P38) -> 0 | I8: =('Summer Data'!Q38) -> 0 | ... R8: =('Summer Data'!Z38) -> 0
A10: EXPLANATION | J10: TEACHER COMMENT
A13: GRADE | J13: Comment here…
A14: Progress towards learning is shown as progress towards achieving each Early Learning Goal:
A15: 1 = Emerging (working towards achieving the goal)
A16: 2 = Expected (achieved the goal)

Sheet Pupil Report 36
A1: EYFS PUPIL ATTAINMENT REPORT | O1: PUPIL NAME:
O2: =('Communication & Language'!A39) -> Pupil name
B4: EARLY YEARS FOUNDATION STAGE (EYFS): EARLY LEARNING GOALS
B5: PRIME AREAS | I5: SPECIFIC AREAS
B6: Communication and language | D6: Personal, social and emtional development | G6: Physical development | I6: Literacy | L6: Mathematics | N6: Understanding the world | Q6: Expressive arts and design
B7: Listening, attention and underst. | C7: Speaking | D7: Self-regulation | E7: Managing self | F7: Building relationships | G7: Gross motor skills | H7: Fine motor skills | I7: Comp. | J7: Word reading | K7: Writing | L7: Number | M7: Numerical patterns | N7: Past and present | O7: People, culture and communities | P7: The natural world | Q7: Creating with materials | R7: Being imaginative and expressive
A8: GRADE | B8: =('Summer Data'!J39) -> 0 | C8: =('Summer Data'!K39) -> 0 | D8: =('Summer Data'!L39) -> 0 | E8: =('Summer Data'!M39) -> 0 | F8: =('Summer Data'!N39) -> 0 | G8: =('Summer Data'!O39) -> 0 | H8: =('Summer Data'!P39) -> 0 | I8: =('Summer Data'!Q39) -> 0 | ... R8: =('Summer Data'!Z39) -> 0
A10: EXPLANATION | J10: TEACHER COMMENT
A13: GRADE | J13: Comment here…
A14: Progress towards learning is shown as progress towards achieving each Early Learning Goal:
A15: 1 = Emerging (working towards achieving the goal)
A16: 2 = Expected (achieved the goal)

Sheet Pupil Report 37
A1: EYFS PUPIL ATTAINMENT REPORT | O1: PUPIL NAME:
O2: =('Communication & Language'!A40) -> Pupil name
B4: EARLY YEARS FOUNDATION STAGE (EYFS): EARLY LEARNING GOALS
B5: PRIME AREAS | I5: SPECIFIC AREAS
B6: Communication and language | D6: Personal, social and emtional development | G6: Physical development | I6: Literacy | L6: Mathematics | N6: Understanding the world | Q6: Expressive arts and design
B7: Listening, attention and underst. | C7: Speaking | D7: Self-regulation | E7: Managing self | F7: Building relationships | G7: Gross motor skills | H7: Fine motor skills | I7: Comp. | J7: Word reading | K7: Writing | L7: Number | M7: Numerical patterns | N7: Past and present | O7: People, culture and communities | P7: The natural world | Q7: Creating with materials | R7: Being imaginative and expressive
A8: GRADE | B8: =('Summer Data'!J40) -> 0 | C8: =('Summer Data'!K40) -> 0 | D8: =('Summer Data'!L40) -> 0 | E8: =('Summer Data'!M40) -> 0 | F8: =('Summer Data'!N40) -> 0 | G8: =('Summer Data'!O40) -> 0 | H8: =('Summer Data'!P40) -> 0 | I8: =('Summer Data'!Q40) -> 0 | ... R8: =('Summer Data'!Z40) -> 0
A10: EXPLANATION | J10: TEACHER COMMENT
A13: GRADE | J13: Comment here…
A14: Progress towards learning is shown as progress towards achieving each Early Learning Goal:
A15: 1 = Emerging (working towards achieving the goal)
A16: 2 = Expected (achieved the goal)

Sheet Pupil Report 38
A1: EYFS PUPIL ATTAINMENT REPORT | O1: PUPIL NAME:
O2: =('Communication & Language'!A41) -> Pupil name
B4: EARLY YEARS FOUNDATION STAGE (EYFS): EARLY LEARNING GOALS
B5: PRIME AREAS | I5: SPECIFIC AREAS
B6: Communication and language | D6: Personal, social and emtional development | G6: Physical development | I6: Literacy | L6: Mathematics | N6: Understanding the world | Q6: Expressive arts and design
B7: Listening, attention and underst. | C7: Speaking | D7: Self-regulation | E7: Managing self | F7: Building relationships | G7: Gross motor skills | H7: Fine motor skills | I7: Comp. | J7: Word reading | K7: Writing | L7: Number | M7: Numerical patterns | N7: Past and present | O7: People, culture and communities | P7: The natural world | Q7: Creating with materials | R7: Being imaginative and expressive
A8: GRADE | B8: =('Summer Data'!J41) -> 0 | C8: =('Summer Data'!K41) -> 0 | D8: =('Summer Data'!L41) -> 0 | E8: =('Summer Data'!M41) -> 0 | F8: =('Summer Data'!N41) -> 0 | G8: =('Summer Data'!O41) -> 0 | H8: =('Summer Data'!P41) -> 0 | I8: =('Summer Data'!Q41) -> 0 | ... R8: =('Summer Data'!Z41) -> 0
A10: EXPLANATION | J10: TEACHER COMMENT
A13: GRADE | J13: Comment here…
A14: Progress towards learning is shown as progress towards achieving each Early Learning Goal:
A15: 1 = Emerging (working towards achieving the goal)
A16: 2 = Expected (achieved the goal)

Sheet Pupil Report 39
A1: EYFS PUPIL ATTAINMENT REPORT | O1: PUPIL NAME:
O2: =('Communication & Language'!A42) -> Pupil name
B4: EARLY YEARS FOUNDATION STAGE (EYFS): EARLY LEARNING GOALS
B5: PRIME AREAS | I5: SPECIFIC AREAS
B6: Communication and language | D6: Personal, social and emtional development | G6: Physical development | I6: Literacy | L6: Mathematics | N6: Understanding the world | Q6: Expressive arts and design
B7: Listening, attention and underst. | C7: Speaking | D7: Self-regulation | E7: Managing self | F7: Building relationships | G7: Gross motor skills | H7: Fine motor skills | I7: Comp. | J7: Word reading | K7: Writing | L7: Number | M7: Numerical patterns | N7: Past and present | O7: People, culture and communities | P7: The natural world | Q7: Creating with materials | R7: Being imaginative and expressive
A8: GRADE | B8: =('Summer Data'!J42) -> 0 | C8: =('Summer Data'!K42) -> 0 | D8: =('Summer Data'!L42) -> 0 | E8: =('Summer Data'!M42) -> 0 | F8: =('Summer Data'!N42) -> 0 | G8: =('Summer Data'!O42) -> 0 | H8: =('Summer Data'!P42) -> 0 | I8: =('Summer Data'!Q42) -> 0 | ... R8: =('Summer Data'!Z42) -> 0
A10: EXPLANATION | J10: TEACHER COMMENT
A13: GRADE | J13: Comment here…
A14: Progress towards learning is shown as progress towards achieving each Early Learning Goal:
A15: 1 = Emerging (working towards achieving the goal)
A16: 2 = Expected (achieved the goal)

Sheet Pupil Report 40
A1: EYFS PUPIL ATTAINMENT REPORT | O1: PUPIL NAME:
O2: =('Communication & Language'!A43) -> Pupil name
B4: EARLY YEARS FOUNDATION STAGE (EYFS): EARLY LEARNING GOALS
B5: PRIME AREAS | I5: SPECIFIC AREAS
B6: Communication and language | D6: Personal, social and emtional development | G6: Physical development | I6: Literacy | L6: Mathematics | N6: Understanding the world | Q6: Expressive arts and design
B7: Listening, attention and underst. | C7: Speaking | D7: Self-regulation | E7: Managing self | F7: Building relationships | G7: Gross motor skills | H7: Fine motor skills | I7: Comp. | J7: Word reading | K7: Writing | L7: Number | M7: Numerical patterns | N7: Past and present | O7: People, culture and communities | P7: The natural world | Q7: Creating with materials | R7: Being imaginative and expressive
A8: GRADE | B8: =('Summer Data'!J43) -> 0 | C8: =('Summer Data'!K43) -> 0 | D8: =('Summer Data'!L43) -> 0 | E8: =('Summer Data'!M43) -> 0 | F8: =('Summer Data'!N43) -> 0 | G8: =('Summer Data'!O43) -> 0 | H8: =('Summer Data'!P43) -> 0 | I8: =('Summer Data'!Q43) -> 0 | ... R8: =('Summer Data'!Z43) -> 0
A10: EXPLANATION | J10: TEACHER COMMENT
A13: GRADE | J13: Comment here…
A14: Progress towards learning is shown as progress towards achieving each Early Learning Goal:
A15: 1 = Emerging (working towards achieving the goal)
A16: 2 = Expected (achieved the goal)

Sheet Pupil Report 41
A1: EYFS PUPIL ATTAINMENT REPORT | O1: PUPIL NAME:
O2: =('Communication & Language'!A44) -> Pupil name
B4: EARLY YEARS FOUNDATION STAGE (EYFS): EARLY LEARNING GOALS
B5: PRIME AREAS | I5: SPECIFIC AREAS
B6: Communication and language | D6: Personal, social and emtional development | G6: Physical development | I6: Literacy | L6: Mathematics | N6: Understanding the world | Q6: Expressive arts and design
B7: Listening, attention and underst. | C7: Speaking | D7: Self-regulation | E7: Managing self | F7: Building relationships | G7: Gross motor skills | H7: Fine motor skills | I7: Comp. | J7: Word reading | K7: Writing | L7: Number | M7: Numerical patterns | N7: Past and present | O7: People, culture and communities | P7: The natural world | Q7: Creating with materials | R7: Being imaginative and expressive
A8: GRADE | B8: =('Summer Data'!J44) -> 0 | C8: =('Summer Data'!K44) -> 0 | D8: =('Summer Data'!L44) -> 0 | E8: =('Summer Data'!M44) -> 0 | F8: =('Summer Data'!N44) -> 0 | G8: =('Summer Data'!O44) -> 0 | H8: =('Summer Data'!P44) -> 0 | I8: =('Summer Data'!Q44) -> 0 | ... R8: =('Summer Data'!Z44) -> 0
A10: EXPLANATION | J10: TEACHER COMMENT
A13: GRADE | J13: Comment here…
A14: Progress towards learning is shown as progress towards achieving each Early Learning Goal:
A15: 1 = Emerging (working towards achieving the goal)
A16: 2 = Expected (achieved the goal)

Sheet Pupil Report 42
A1: EYFS PUPIL ATTAINMENT REPORT | O1: PUPIL NAME:
O2: =('Communication & Language'!A45) -> Pupil name
B4: EARLY YEARS FOUNDATION STAGE (EYFS): EARLY LEARNING GOALS
B5: PRIME AREAS | I5: SPECIFIC AREAS
B6: Communication and language | D6: Personal, social and emtional development | G6: Physical development | I6: Literacy | L6: Mathematics | N6: Understanding the world | Q6: Expressive arts and design
B7: Listening, attention and underst. | C7: Speaking | D7: Self-regulation | E7: Managing self | F7: Building relationships | G7: Gross motor skills | H7: Fine motor skills | I7: Comp. | J7: Word reading | K7: Writing | L7: Number | M7: Numerical patterns | N7: Past and present | O7: People, culture and communities | P7: The natural world | Q7: Creating with materials | R7: Being imaginative and expressive
A8: GRADE | B8: =('Summer Data'!J45) -> 0 | C8: =('Summer Data'!K45) -> 0 | D8: =('Summer Data'!L45) -> 0 | E8: =('Summer Data'!M45) -> 0 | F8: =('Summer Data'!N45) -> 0 | G8: =('Summer Data'!O45) -> 0 | H8: =('Summer Data'!P45) -> 0 | I8: =('Summer Data'!Q45) -> 0 | ... R8: =('Summer Data'!Z45) -> 0
A10: EXPLANATION | J10: TEACHER COMMENT
A13: GRADE | J13: Comment here…
A14: Progress towards learning is shown as progress towards achieving each Early Learning Goal:
A15: 1 = Emerging (working towards achieving the goal)
A16: 2 = Expected (achieved the goal)

Sheet Pupil Report 43
A1: EYFS PUPIL ATTAINMENT REPORT | O1: PUPIL NAME:
O2: =('Communication & Language'!A46) -> Pupil name
B4: EARLY YEARS FOUNDATION STAGE (EYFS): EARLY LEARNING GOALS
B5: PRIME AREAS | I5: SPECIFIC AREAS
B6: Communication and language | D6: Personal, social and emtional development | G6: Physical development | I6: Literacy | L6: Mathematics | N6: Understanding the world | Q6: Expressive arts and design
B7: Listening, attention and underst. | C7: Speaking | D7: Self-regulation | E7: Managing self | F7: Building relationships | G7: Gross motor skills | H7: Fine motor skills | I7: Comp. | J7: Word reading | K7: Writing | L7: Number | M7: Numerical patterns | N7: Past and present | O7: People, culture and communities | P7: The natural world | Q7: Creating with materials | R7: Being imaginative and expressive
A8: GRADE | B8: =('Summer Data'!J46) -> 0 | C8: =('Summer Data'!K46) -> 0 | D8: =('Summer Data'!L46) -> 0 | E8: =('Summer Data'!M46) -> 0 | F8: =('Summer Data'!N46) -> 0 | G8: =('Summer Data'!O46) -> 0 | H8: =('Summer Data'!P46) -> 0 | I8: =('Summer Data'!Q46) -> 0 | ... R8: =('Summer Data'!Z46) -> 0
A10: EXPLANATION | J10: TEACHER COMMENT
A13: GRADE | J13: Comment here…
A14: Progress towards learning is shown as progress towards achieving each Early Learning Goal:
A15: 1 = Emerging (working towards achieving the goal)
A16: 2 = Expected (achieved the goal)

Sheet Pupil Report 44
A1: EYFS PUPIL ATTAINMENT REPORT | O1: PUPIL NAME:
O2: =('Communication & Language'!A47) -> Pupil name
B4: EARLY YEARS FOUNDATION STAGE (EYFS): EARLY LEARNING GOALS
B5: PRIME AREAS | I5: SPECIFIC AREAS
B6: Communication and language | D6: Personal, social and emtional development | G6: Physical development | I6: Literacy | L6: Mathematics | N6: Understanding the world | Q6: Expressive arts and design
B7: Listening, attention and underst. | C7: Speaking | D7: Self-regulation | E7: Managing self | F7: Building relationships | G7: Gross motor skills | H7: Fine motor skills | I7: Comp. | J7: Word reading | K7: Writing | L7: Number | M7: Numerical patterns | N7: Past and present | O7: People, culture and communities | P7: The natural world | Q7: Creating with materials | R7: Being imaginative and expressive
A8: GRADE | B8: =('Summer Data'!J47) -> 0 | C8: =('Summer Data'!K47) -> 0 | D8: =('Summer Data'!L47) -> 0 | E8: =('Summer Data'!M47) -> 0 | F8: =('Summer Data'!N47) -> 0 | G8: =('Summer Data'!O47) -> 0 | H8: =('Summer Data'!P47) -> 0 | I8: =('Summer Data'!Q47) -> 0 | ... R8: =('Summer Data'!Z47) -> 0
A10: EXPLANATION | J10: TEACHER COMMENT
A13: GRADE | J13: Comment here…
A14: Progress towards learning is shown as progress towards achieving each Early Learning Goal:
A15: 1 = Emerging (working towards achieving the goal)
A16: 2 = Expected (achieved the goal)

Sheet Pupil Report 45
A1: EYFS PUPIL ATTAINMENT REPORT | O1: PUPIL NAME:
O2: =('Communication & Language'!A48) -> Pupil name
B4: EARLY YEARS FOUNDATION STAGE (EYFS): EARLY LEARNING GOALS
B5: PRIME AREAS | I5: SPECIFIC AREAS
B6: Communication and language | D6: Personal, social and emtional development | G6: Physical development | I6: Literacy | L6: Mathematics | N6: Understanding the world | Q6: Expressive arts and design
B7: Listening, attention and underst. | C7: Speaking | D7: Self-regulation | E7: Managing self | F7: Building relationships | G7: Gross motor skills | H7: Fine motor skills | I7: Comp. | J7: Word reading | K7: Writing | L7: Number | M7: Numerical patterns | N7: Past and present | O7: People, culture and communities | P7: The natural world | Q7: Creating with materials | R7: Being imaginative and expressive
A8: GRADE | B8: =('Summer Data'!J48) -> 0 | C8: =('Summer Data'!K48) -> 0 | D8: =('Summer Data'!L48) -> 0 | E8: =('Summer Data'!M48) -> 0 | F8: =('Summer Data'!N48) -> 0 | G8: =('Summer Data'!O48) -> 0 | H8: =('Summer Data'!P48) -> 0 | I8: =('Summer Data'!Q48) -> 0 | ... R8: =('Summer Data'!Z48) -> 0
A10: EXPLANATION | J10: TEACHER COMMENT
A13: GRADE | J13: Comment here…
A14: Progress towards learning is shown as progress towards achieving each Early Learning Goal:
A15: 1 = Emerging (working towards achieving the goal)
A16: 2 = Expected (achieved the goal)

Sheet Assessment judgements
A1: Assessment judgements
A2: Monitoring
A3: On track to meet curriculum-related expectations
