Workbook

Sheet Welcome...
A1: TRACK WHAT MATTERS
A2: Created by Parbold Douglas Church of England Academy Website www.pda.lancs.sch.uk Twitter @ParboldDouglas
A5: Introduction
A6: The tracker was made by teachers and school leaders in Early Years settings. It is not made for any commercial or financial gain. It was designed to be simple, straightforward and provide Early Years practitioners with quick access to useful information and analysis. The tracker is designed specifically for use with the 2021 Early Years Foundation Stage Framework. Whilst purposeful, manageable assessment has a role to play in effective Early Years practice, the design and delivery of an excellent curriculum always comes first. We firmly believe that Early Years practitioners' time is best spent working alongside children and planning learning opportunities that stretch, challenge and facilitate their ongoing development. However, many of the 'assessment' tools designed to support practitioners act as a barrier to this: invariably, they are incredibly time-consuming. The professional time of practitioners ends up consumed by an endless cycle of recording observations and highlighting checklists. Too often, when using the previous EYFS Framework (pre-2021), we over-complicated assessment with practitioners making subjective judgements about whether or not a child is '30 - 50 months expected' or '40 - 60 months emerging' within a particular area. This information has a tendency to lack validity and proves of little use when planning next steps in learning. In seeking to create a tool that is purposeful and manageable, this tracking tool was born. It has been carefully developed so that it is workload-friendly for teachers whilst being rich in the information it provides. It is designed to sit alongside any Early Years curriculum and focuses on identifying which pupils need additional support and guidance. We don't expect it to be right for every Early Years setting but hope that many will find it useful! The instructions below explain how to set up and use the tracker. For further information about our thinking, visit our website or sign up to one of our online sessions.
A8: How to set up the tracker:
A9: 1. Select the 'Communication & Language' sheet (see the tabs below). Enter the pupil information for the cohort in columns A to I - this information will be automatically copied across to columns A to I in the other sheets. If a pupil information column does not apply to the pupil, please leave it blank.
A10: 2. The traker is now ready to use!
A12: How to use the tracking sheets for each area of learning:
A13: The tracking sheets can be updated as often as you choose.
A14: 1. For each child, select the statement from the drop-down menu that best describes their current attainment within this areas of learning. There are two statements to select from: Monitoring On track to meet curriculum-related* expectations *Your curriculum is your progression model. If a child is accessing and moving through your curriculum in the way you expect, they are 'On track to meet curriculum-related expectations'.
A15: 2. Use the analysis provided to inform your planning and provision! Scroll to the right to find the instant attainment analysis for each pupil group.
A17: How to use the 'monitoring' sheet:
... A34: Please share freely. Not to be sold.

Sheet Communication & Language
A1: TRACK WHAT MATTERS | J1: AREA OF LEARNING | L1: AREA OF LEARNING
B2: PUPIL INFORMATION | J2: COMMUNICATION AND LANGUAGE | L2: COMMUNICATION AND LANGUAGE
A3: NAME | B3: Gender | C3: DIS | D3: SEND | E3: High attainers | F3: EAL | G3: Autumn born | H3: Spring born | I3: Summer born | J3: Current assessment | L3: Current assessment: Analysis summary | N3: All pupils | O3: Boys | P3: Girls | Q3: DIS | R3: SEND | S3: High attainers | T3: EAL | U3: Autumn born | V3: Spring born | W3: Summer born
A4: Example Child A | B4: M | C4: Y | D4: Y | F4: Y | I4: Y | L4: Monitoring | M4: Tally | N4: =COUNTIF(J4:J48, "Monitoring") -> 0 | O4: =COUNTIFS(J4:J48, "Monitoring", $B4:$B48, "m") -> 0 | P4: =COUNTIFS(J4:J48, "Monitoring", $B4:$B48, "f") -> 0 | Q4: =COUNTIFS(J4:J48, "Monitoring", $C4:$C48, "*") -> 0 | R4: =COUNTIFS(J4:J48, "Monitoring", $D4:$D48, "*") -> 0 | S4: =COUNTIFS(J4:J48, "Monitoring", $E4:$E48, "*") -> 0 | T4: =COUNTIFS(J4:J48, "Monitoring", $F4:$F48, "*") -> 0 | U4: =COUNTIFS(J4:J48, "Monitoring", $G4:$G48, "*") -> 0 | V4: =COUNTIFS(J4:J48, "Monitoring", $H4:$H48, "*") -> 0 | W4: =COUNTIFS(J4:J48, "Monitoring", $I4:$I48, "*") -> 0
A5: Example Child B | B5: F | C5: Y | E5: Y | G5: Y | M5: Percentage | N5: =N4/$B$49 -> 0 | O5: =O4/$B$50 -> 0 | P5: =P4/$B$51 -> 0 | Q5: =Q4/$C$49 -> 0 | R5: =R4/$D$49 -> 0 | S5: =S4/$E$49 -> 0 | T5: =T4/$F$49 -> 0 | U5: =U4/$G$49 -> 0 | V5: =V4/$H$49 -> 0 | W5: =W4/$I$49 -> 0
A6: Example Child C | B6: M | H6: Y | L6: On track (inc. Aiming high) | M6: Tally | N6: =COUNTIF(J4:J48, "On track to meet curriculum-related expectations") -> 0 | O6: =COUNTIFS(J4:J48, "On track to meet curriculum-related expectations", $B4:$B48, "m") -> 0 | P6: =COUNTIFS(J4:J48, "On track to meet curriculum-related expectations", $B4:$B48, "f") -> 0 | Q6: =COUNTIFS(J4:J48, "On track to meet curriculum-related expectations", $C4:$C48, "*") -> 0 | R6: =COUNTIFS(J4:J48, "On track to meet curriculum-related expectations", $D4:$D48, "*") -> 0 | S6: =COUNTIFS(J4:J48, "On track to meet curriculum-related expectations", $E4:$E48, "*") -> 0 | T6: =COUNTIFS(J4:J48, "On track to meet curriculum-related expectations", $F4:$F48, "*") -> 0 | U6: =COUNTIFS(J4:J48, "On track to meet curriculum-related expectations", $G4:$G48, "*") -> 0 | V6: =COUNTIFS(J4:J48, "On track to meet curriculum-related expectations", $H4:$H48, "*") -> 0 | W6: =COUNTIFS(J4:J48, "On track to meet curriculum-related expectations", $I4:$I48, "*") -> 0
A7: Pupil name | M7: Percentage | N7: =N6/$B$49 -> 0 | O7: =O6/$B$50 -> 0 | P7: =P6/$B$51 -> 0 | Q7: =Q6/$C$49 -> 0 | R7: =R6/$D$49 -> 0 | S7: =S6/$E$49 -> 0 | T7: =T6/$F$49 -> 0 | U7: =U6/$G$49 -> 0 | V7: =V6/$H$49 -> 0 | W7: =W6/$I$49 -> 0
A8: Pupil name
A9: Pupil name
A10: Pupil name
A11: Pupil name
A12: Pupil name
A13: Pupil name
A14: Pupil name
A15: Pupil name
A16: Pupil name
A17: Pupil name
A18: Pupil name
A19: Pupil name
... A48: Pupil name
A49: TOTALS | B49: =COUNTIF(B4:B48,"*") -> 3 | C49: =COUNTIF(C4:C48,"*") -> 2 | D49: =COUNTIF(D4:D48,"*") -> 1 | E49: =COUNTIF(E4:E48,"*") -> 1 | F49: =COUNTIF(F4:F48,"*") -> 1 | G49: =COUNTIF(G4:G48,"*") -> 1 | H49: =COUNTIF(H4:H48,"*") -> 1 | I49: =COUNTIF(I4:I48,"*") -> 1
A50: BOYS | B50: =COUNTIF(B4:B48,"M") -> 2 | C50: =COUNTIFS(C4:C48, "*", B4:B48, "m") -> 1 | D50: =COUNTIFS(D4:D48, "*", $B4:$B48, "m") -> 1 | E50: =COUNTIFS(E4:E48, "*", $B4:$B48, "m") -> 0 | F50: =COUNTIFS(F4:F48, "*", $B4:$B48, "m") -> 1 | G50: =COUNTIFS(G4:G48, "*", $B4:$B48, "m") -> 0 | H50: =COUNTIFS(H4:H48, "*", $B4:$B48, "m") -> 1 | I50: =COUNTIFS(I4:I48, "*", B4:B48, "m") -> 1
A51: GIRLS | B51: =COUNTIF(B4:B48,"F") -> 1 | C51: =COUNTIFS(C4:C48, "*", B4:B48, "f") -> 1 | D51: =COUNTIFS(D4:D48, "*", $B4:$B48, "f") -> 0 | E51: =COUNTIFS(E4:E48, "*", $B4:$B48, "f") -> 1 | F51: =COUNTIFS(F4:F48, "*", $B4:$B48, "f") -> 0 | G51: =COUNTIFS(G4:G48, "*", $B4:$B48, "f") -> 1 | H51: =COUNTIFS(H4:H48, "*", $B4:$B48, "f") -> 0 | I51: =COUNTIFS(I4:I48, "*", B4:B48, "f") -> 0

Sheet Personal, Social & Emotional D.
A1: TRACK WHAT MATTERS | J1: AREA OF LEARNING | L1: AREA OF LEARNING
B2: PUPIL INFORMATION | J2: PERSONAL, SOCIAL & EMOTIONAL DEVELOPMENT | L2: PERSONAL, SOCIAL & EMOTIONAL DEVELOPMENT
A3: NAME | B3: Gender | C3: DIS | D3: SEND | E3: High attainers | F3: EAL | G3: Autumn born | H3: Spring born | I3: Summer born | J3: Current assessment | L3: Current assessment: Analysis summary | N3: All pupils | O3: Boys | P3: Girls | Q3: DIS | R3: SEND | S3: High attainers | T3: EAL | U3: Autumn born | V3: Spring born | W3: Summer born
A4: =('Communication & Language'!A4) -> Example Child A | B4: =('Communication & Language'!B4) -> M | C4: =('Communication & Language'!C4) -> Y | D4: =('Communication & Language'!D4) -> Y | E4: =('Communication & Language'!E4) -> 0 | F4: ='Communication & Language'!F4 -> Y | G4: =('Communication & Language'!G4) -> 0 | H4: =('Communication & Language'!H4) -> 0 | I4: =('Communication & Language'!I4) -> Y | L4: Monitoring | M4: Tally | N4: =COUNTIF(J4:J48, "Monitoring") -> 0 | O4: =COUNTIFS(J4:J48, "Monitoring",$B4:$B48, "m") -> 0 | P4: =COUNTIFS(J4:J48, "Monitoring",$B4:$B48, "f") -> 0 | Q4: =COUNTIFS(J4:J48, "Monitoring",$C4:$C48, "*") -> 0 | R4: =COUNTIFS(J4:J48, "Monitoring",$D4:$D48, "*") -> 0 | S4: =COUNTIFS(J4:J48, "Monitoring",$E4:$E48, "*") -> 0 | T4: =COUNTIFS(J4:J48, "Monitoring",$F4:$F48, "*") -> 0 | U4: =COUNTIFS(J4:J48, "Monitoring",$G4:$G48, "*") -> 0 | V4: =COUNTIFS(J4:J48, "Monitoring",$H4:$H48, "*") -> 0 | W4: =COUNTIFS(J4:J48, "Monitoring",$I4:$I48, "*") -> 0
A5: =('Communication & Language'!A5) -> Example Child B | B5: =('Communication & Language'!B5) -> F | C5: =('Communication & Language'!C5) -> Y | D5: =('Communication & Language'!D5) -> 0 | E5: =('Communication & Language'!E5) -> Y | F5: ='Communication & Language'!F5 -> 0 | G5: =('Communication & Language'!G5) -> Y | H5: =('Communication & Language'!H5) -> 0 | I5: =('Communication & Language'!I5) -> 0 | M5: Percentage | N5: =N4/$B$49 -> 0 | O5: =O4/$B$50 -> 0 | P5: =P4/$B$51 -> 0 | Q5: =Q4/$C$49 -> 0 | R5: =R4/$D$49 -> 0 | S5: =S4/$E$49 -> 0 | T5: =T4/$F$49 -> 0 | U5: =U4/$G$49 -> 0 | V5: =V4/$H$49 -> 0 | W5: =W4/$I$49 -> 0
A6: =('Communication & Language'!A6) -> Example Child C | B6: =('Communication & Language'!B6) -> M | C6: =('Communication & Language'!C6) -> 0 | D6: =('Communication & Language'!D6) -> 0 | E6: =('Communication & Language'!E6) -> 0 | F6: ='Communication & Language'!F6 -> 0 | G6: =('Communication & Language'!G6) -> 0 | H6: =('Communication & Language'!H6) -> Y | I6: =('Communication & Language'!I6) -> 0 | L6: On track (inc. Aiming high) | M6: Tally | N6: =COUNTIF(J4:J48, "On track to meet curriculum-related expectations") -> 0 | O6: =COUNTIFS(J4:J48, "On track to meet curriculum-related expectations", $B4:$B48, "m") -> 0 | P6: =COUNTIFS(J4:J48, "On track to meet curriculum-related expectations", $B4:$B48, "f") -> 0 | Q6: =COUNTIFS(J4:J48, "On track to meet curriculum-related expectations", $C4:$C48, "*") -> 0 | R6: =COUNTIFS(J4:J48, "On track to meet curriculum-related expectations", $D4:$D48, "*") -> 0 | S6: =COUNTIFS(J4:J48, "On track to meet curriculum-related expectations", $E4:$E48, "*") -> 0 | T6: =COUNTIFS(J4:J48, "On track to meet curriculum-related expectations", $F4:$F48, "*") -> 0 | U6: =COUNTIFS(J4:J48, "On track to meet curriculum-related expectations", $G4:$G48, "*") -> 0 | V6: =COUNTIFS(J4:J48, "On track to meet curriculum-related expectations", $H4:$H48, "*") -> 0 | W6: =COUNTIFS(J4:J48, "On track to meet curriculum-related expectations", $I4:$I48, "*") -> 0
A7: =('Communication & Language'!A7) -> Pupil name | B7: =('Communication & Language'!B7) -> 0 | C7: =('Communication & Language'!C7) -> 0 | D7: =('Communication & Language'!D7) -> 0 | E7: =('Communication & Language'!E7) -> 0 | F7: ='Communication & Language'!F7 -> 0 | G7: =('Communication & Language'!G7) -> 0 | H7: =('Communication & Language'!H7) -> 0 | I7: =('Communication & Language'!I7) -> 0 | M7: Percentage | N7: =N6/$B$49 -> 0 | O7: =O6/$B$50 -> 0 | P7: =P6/$B$51 -> 0 | Q7: =Q6/$C$49 -> 0 | R7: =R6/$D$49 -> 0 | S7: =S6/$E$49 -> 0 | T7: =T6/$F$49 -> 0 | U7: =U6/$G$49 -> 0 | V7: =V6/$H$49 -> 0 | W7: =W6/$I$49 -> 0
A8: =('Communication & Language'!A8) -> Pupil name | B8: =('Communication & Language'!B8) -> 0 | C8: =('Communication & Language'!C8) -> 0 | D8: =('Communication & Language'!D8) -> 0 | E8: =('Communication & Language'!E8) -> 0 | F8: ='Communication & Language'!F8 -> 0 | G8: =('Communication & Language'!G8) -> 0 | H8: =('Communication & Language'!H8) -> 0 | I8: =('Communication & Language'!I8) -> 0
A9: =('Communication & Language'!A9) -> Pupil name | B9: =('Communication & Language'!B9) -> 0 | C9: =('Communication & Language'!C9) -> 0 | D9: =('Communication & Language'!D9) -> 0 | E9: =('Communication & Language'!E9) -> 0 | F9: ='Communication & Language'!F9 -> 0 | G9: =('Communication & Language'!G9) -> 0 | H9: =('Communication & Language'!H9) -> 0 | I9: =('Communication & Language'!I9) -> 0
A10: =('Communication & Language'!A10) -> Pupil name | B10: =('Communication & Language'!B10) -> 0 | C10: =('Communication & Language'!C10) -> 0 | D10: =('Communication & Language'!D10) -> 0 | E10: =('Communication & Language'!E10) -> 0 | F10: ='Communication & Language'!F10 -> 0 | G10: =('Communication & Language'!G10) -> 0 | H10: =('Communication & Language'!H10) -> 0 | I10: =('Communication & Language'!I10) -> 0
A11: =('Communication & Language'!A11) -> Pupil name | B11: =('Communication & Language'!B11) -> 0 | C11: =('Communication & Language'!C11) -> 0 | D11: =('Communication & Language'!D11) -> 0 | E11: =('Communication & Language'!E11) -> 0 | F11: ='Communication & Language'!F11 -> 0 | G11: =('Communication & Language'!G11) -> 0 | H11: =('Communication & Language'!H11) -> 0 | I11: =('Communication & Language'!I11) -> 0
A12: =('Communication & Language'!A12) -> Pupil name | B12: =('Communication & Language'!B12) -> 0 | C12: =('Communication & Language'!C12) -> 0 | D12: =('Communication & Language'!D12) -> 0 | E12: =('Communication & Language'!E12) -> 0 | F12: ='Communication & Language'!F12 -> 0 | G12: =('Communication & Language'!G12) -> 0 | H12: =('Communication & Language'!H12) -> 0 | I12: =('Communication & Language'!I12) -> 0
A13: =('Communication & Language'!A13) -> Pupil name | B13: =('Communication & Language'!B13) -> 0 | C13: =('Communication & Language'!C13) -> 0 | D13: =('Communication & Language'!D13) -> 0 | E13: =('Communication & Language'!E13) -> 0 | F13: ='Communication & Language'!F13 -> 0 | G13: =('Communication & Language'!G13) -> 0 | H13: =('Communication & Language'!H13) -> 0 | I13: =('Communication & Language'!I13) -> 0
A14: =('Communication & Language'!A14) -> Pupil name | B14: =('Communication & Language'!B14) -> 0 | C14: =('Communication & Language'!C14) -> 0 | D14: =('Communication & Language'!D14) -> 0 | E14: =('Communication & Language'!E14) -> 0 | F14: ='Communication & Language'!F14 -> 0 | G14: =('Communication & Language'!G14) -> 0 | H14: =('Communication & Language'!H14) -> 0 | I14: =('Communication & Language'!I14) -> 0
A15: =('Communication & Language'!A15) -> Pupil name | B15: =('Communication & Language'!B15) -> 0 | C15: =('Communication & Language'!C15) -> 0 | D15: =('Communication & Language'!D15) -> 0 | E15: =('Communication & Language'!E15) -> 0 | F15: ='Communication & Language'!F15 -> 0 | G15: =('Communication & Language'!G15) -> 0 | H15: =('Communication & Language'!H15) -> 0 | I15: =('Communication & Language'!I15) -> 0
A16: =('Communication & Language'!A16) -> Pupil name | B16: =('Communication & Language'!B16) -> 0 | C16: =('Communication & Language'!C16) -> 0 | D16: =('Communication & Language'!D16) -> 0 | E16: =('Communication & Language'!E16) -> 0 | F16: ='Communication & Language'!F16 -> 0 | G16: =('Communication & Language'!G16) -> 0 | H16: =('Communication & Language'!H16) -> 0 | I16: =('Communication & Language'!I16) -> 0
A17: =('Communication & Language'!A17) -> Pupil name | B17: =('Communication & Language'!B17) -> 0 | C17: =('Communication & Language'!C17) -> 0 | D17: =('Communication & Language'!D17) -> 0 | E17: =('Communication & Language'!E17) -> 0 | F17: ='Communication & Language'!F17 -> 0 | G17: =('Communication & Language'!G17) -> 0 | H17: =('Communication & Language'!H17) -> 0 | I17: =('Communication & Language'!I17) -> 0
A18: =('Communication & Language'!A18) -> Pupil name | B18: =('Communication & Language'!B18) -> 0 | C18: =('Communication & Language'!C18) -> 0 | D18: =('Communication & Language'!D18) -> 0 | E18: =('Communication & Language'!E18) -> 0 | F18: ='Communication & Language'!F18 -> 0 | G18: =('Communication & Language'!G18) -> 0 | H18: =('Communication & Language'!H18) -> 0 | I18: =('Communication & Language'!I18) -> 0
A19: =('Communication & Language'!A19) -> Pupil name | B19: =('Communication & Language'!B19) -> 0 | C19: =('Communication & Language'!C19) -> 0 | D19: =('Communication & Language'!D19) -> 0 | E19: =('Communication & Language'!E19) -> 0 | F19: ='Communication & Language'!F19 -> 0 | G19: =('Communication & Language'!G19) -> 0 | H19: =('Communication & Language'!H19) -> 0 | I19: =('Communication & Language'!I19) -> 0
... A48: =('Communication & Language'!A48) -> Pupil name | B48: =('Communication & Language'!B48) -> 0 | C48: =('Communication & Language'!C48) -> 0 | D48: =('Communication & Language'!D48) -> 0 | E48: =('Communication & Language'!E48) -> 0 | F48: ='Communication & Language'!F48 -> 0 | G48: =('Communication & Language'!G48) -> 0 | H48: =('Communication & Language'!H48) -> 0 | I48: =('Communication & Language'!I48) -> 0
A49: TOTALS | B49: =COUNTIF(B4:B48,"*") -> 3 | C49: =COUNTIF(C4:C48,"*") -> 2 | D49: =COUNTIF(D4:D48,"*") -> 1 | E49: =COUNTIF(E4:E48,"*") -> 1 | F49: =COUNTIF(F4:F48,"*") -> 1 | G49: =COUNTIF(G4:G48,"*") -> 1 | H49: =COUNTIF(H4:H48,"*") -> 1 | I49: =COUNTIF(I4:I48,"*") -> 1
A50: BOYS | B50: =COUNTIF(B4:B48,"M") -> 2 | C50: =COUNTIFS(C4:C48, "*", B4:B48, "m") -> 1 | D50: =COUNTIFS(D4:D48, "*", $B4:$B48, "m") -> 1 | E50: =COUNTIFS(E4:E48, "*", $B4:$B48, "m") -> 0 | F50: =COUNTIFS(F4:F48, "*", $B4:$B48, "m") -> 1 | G50: =COUNTIFS(G4:G48, "*", $B4:$B48, "m") -> 0 | H50: =COUNTIFS(H4:H48, "*", $B4:$B48, "m") -> 1 | I50: =COUNTIFS(I4:I48, "*", B4:B48, "m") -> 1
A51: GIRLS | B51: =COUNTIF(B4:B48,"F") -> 1 | C51: =COUNTIFS(C4:C48, "*", B4:B48, "f") -> 1 | D51: =COUNTIFS(D4:D48, "*", $B4:$B48, "f") -> 0 | E51: =COUNTIFS(E4:E48, "*", $B4:$B48, "f") -> 1 | F51: =COUNTIFS(F4:F48, "*", $B4:$B48, "f") -> 0 | G51: =COUNTIFS(G4:G48, "*", $B4:$B48, "f") -> 1 | H51: =COUNTIFS(H4:H48, "*", $B4:$B48, "f") -> 0 | I51: =COUNTIFS(I4:I48, "*", B4:B48, "f") -> 0

Sheet Physical Development
A1: TRACK WHAT MATTERS | J1: AREA OF LEARNING | L1: AREA OF LEARNING
B2: PUPIL INFORMATION | J2: PHYSICAL DEVELOPMENT | L2: PHYSICAL DEVELOPMENT
A3: NAME | B3: Gender | C3: DIS | D3: SEND | E3: High attainers | F3: EAL | G3: Autumn born | H3: Spring born | I3: Summer born | J3: Current assessment | L3: Current assessment: Analysis summary | N3: All pupils | O3: Boys | P3: Girls | Q3: DIS | R3: SEND | S3: High attainers | T3: EAL | U3: Autumn born | V3: Spring born | W3: Summer born
A4: =('Communication & Language'!A4) -> Example Child A | B4: =('Communication & Language'!B4) -> M | C4: =('Communication & Language'!C4) -> Y | D4: =('Communication & Language'!D4) -> Y | E4: =('Communication & Language'!E4) -> 0 | F4: ='Communication & Language'!F4 -> Y | G4: =('Communication & Language'!G4) -> 0 | H4: =('Communication & Language'!H4) -> 0 | I4: =('Communication & Language'!I4) -> Y | L4: Monitoring | M4: Tally | N4: =COUNTIF(J4:J48, "Monitoring") -> 0 | O4: =COUNTIFS(J4:J48, "Monitoring",$B4:$B48, "m") -> 0 | P4: =COUNTIFS(J4:J48, "Monitoring",$B4:$B48, "f") -> 0 | Q4: =COUNTIFS(J4:J48, "Monitoring",$C4:$C48, "*") -> 0 | R4: =COUNTIFS(J4:J48, "Monitoring",$D4:$D48, "*") -> 0 | S4: =COUNTIFS(J4:J48, "Monitoring",$E4:$E48, "*") -> 0 | T4: =COUNTIFS(J4:J48, "Monitoring",$F4:$F48, "*") -> 0 | U4: =COUNTIFS(J4:J48, "Monitoring",$G4:$G48, "*") -> 0 | V4: =COUNTIFS(J4:J48, "Monitoring",$H4:$H48, "*") -> 0 | W4: =COUNTIFS(J4:J48, "Monitoring",$I4:$I48, "*") -> 0
A5: =('Communication & Language'!A5) -> Example Child B | B5: =('Communication & Language'!B5) -> F | C5: =('Communication & Language'!C5) -> Y | D5: =('Communication & Language'!D5) -> 0 | E5: =('Communication & Language'!E5) -> Y | F5: ='Communication & Language'!F5 -> 0 | G5: =('Communication & Language'!G5) -> Y | H5: =('Communication & Language'!H5) -> 0 | I5: =('Communication & Language'!I5) -> 0 | M5: Percentage | N5: =N4/$B$49 -> 0 | O5: =O4/$B$50 -> 0 | P5: =P4/$B$51 -> 0 | Q5: =Q4/$C$49 -> 0 | R5: =R4/$D$49 -> 0 | S5: =S4/$E$49 -> 0 | T5: =T4/$F$49 -> 0 | U5: =U4/$G$49 -> 0 | V5: =V4/$H$49 -> 0 | W5: =W4/$I$49 -> 0
A6: =('Communication & Language'!A6) -> Example Child C | B6: =('Communication & Language'!B6) -> M | C6: =('Communication & Language'!C6) -> 0 | D6: =('Communication & Language'!D6) -> 0 | E6: =('Communication & Language'!E6) -> 0 | F6: ='Communication & Language'!F6 -> 0 | G6: =('Communication & Language'!G6) -> 0 | H6: =('Communication & Language'!H6) -> Y | I6: =('Communication & Language'!I6) -> 0 | L6: On track (inc. Aiming high) | M6: Tally | N6: =COUNTIF(J4:J48, "On track to meet curriculum-related expectations") -> 0 | O6: =COUNTIFS(J4:J48, "On track to meet curriculum-related expectations", $B4:$B48, "m") -> 0 | P6: =COUNTIFS(J4:J48, "On track to meet curriculum-related expectations", $B4:$B48, "f") -> 0 | Q6: =COUNTIFS(J4:J48, "On track to meet curriculum-related expectations", $C4:$C48, "*") -> 0 | R6: =COUNTIFS(J4:J48, "On track to meet curriculum-related expectations", $D4:$D48, "*") -> 0 | S6: =COUNTIFS(J4:J48, "On track to meet curriculum-related expectations", $E4:$E48, "*") -> 0 | T6: =COUNTIFS(J4:J48, "On track to meet curriculum-related expectations", $F4:$F48, "*") -> 0 | U6: =COUNTIFS(J4:J48, "On track to meet curriculum-related expectations", $G4:$G48, "*") -> 0 | V6: =COUNTIFS(J4:J48, "On track to meet curriculum-related expectations", $H4:$H48, "*") -> 0 | W6: =COUNTIFS(J4:J48, "On track to meet curriculum-related expectations", $I4:$I48, "*") -> 0
A7: =('Communication & Language'!A7) -> Pupil name | B7: =('Communication & Language'!B7) -> 0 | C7: =('Communication & Language'!C7) -> 0 | D7: =('Communication & Language'!D7) -> 0 | E7: =('Communication & Language'!E7) -> 0 | F7: ='Communication & Language'!F7 -> 0 | G7: =('Communication & Language'!G7) -> 0 | H7: =('Communication & Language'!H7) -> 0 | I7: =('Communication & Language'!I7) -> 0 | M7: Percentage | N7: =N6/$B$49 -> 0 | O7: =O6/$B$50 -> 0 | P7: =P6/$B$51 -> 0 | Q7: =Q6/$C$49 -> 0 | R7: =R6/$D$49 -> 0 | S7: =S6/$E$49 -> 0 | T7: =T6/$F$49 -> 0 | U7: =U6/$G$49 -> 0 | V7: =V6/$H$49 -> 0 | W7: =W6/$I$49 -> 0
A8: =('Communication & Language'!A8) -> Pupil name | B8: =('Communication & Language'!B8) -> 0 | C8: =('Communication & Language'!C8) -> 0 | D8: =('Communication & Language'!D8) -> 0 | E8: =('Communication & Language'!E8) -> 0 | F8: ='Communication & Language'!F8 -> 0 | G8: =('Communication & Language'!G8) -> 0 | H8: =('Communication & Language'!H8) -> 0 | I8: =('Communication & Language'!I8) -> 0
A9: =('Communication & Language'!A9) -> Pupil name | B9: =('Communication & Language'!B9) -> 0 | C9: =('Communication & Language'!C9) -> 0 | D9: =('Communication & Language'!D9) -> 0 | E9: =('Communication & Language'!E9) -> 0 | F9: ='Communication & Language'!F9 -> 0 | G9: =('Communication & Language'!G9) -> 0 | H9: =('Communication & Language'!H9) -> 0 | I9: =('Communication & Language'!I9) -> 0
A10: =('Communication & Language'!A10) -> Pupil name | B10: =('Communication & Language'!B10) -> 0 | C10: =('Communication & Language'!C10) -> 0 | D10: =('Communication & Language'!D10) -> 0 | E10: =('Communication & Language'!E10) -> 0 | F10: ='Communication & Language'!F10 -> 0 | G10: =('Communication & Language'!G10) -> 0 | H10: =('Communication & Language'!H10) -> 0 | I10: =('Communication & Language'!I10) -> 0
A11: =('Communication & Language'!A11) -> Pupil name | B11: =('Communication & Language'!B11) -> 0 | C11: =('Communication & Language'!C11) -> 0 | D11: =('Communication & Language'!D11) -> 0 | E11: =('Communication & Language'!E11) -> 0 | F11: ='Communication & Language'!F11 -> 0 | G11: =('Communication & Language'!G11) -> 0 | H11: =('Communication & Language'!H11) -> 0 | I11: =('Communication & Language'!I11) -> 0
A12: =('Communication & Language'!A12) -> Pupil name | B12: =('Communication & Language'!B12) -> 0 | C12: =('Communication & Language'!C12) -> 0 | D12: =('Communication & Language'!D12) -> 0 | E12: =('Communication & Language'!E12) -> 0 | F12: ='Communication & Language'!F12 -> 0 | G12: =('Communication & Language'!G12) -> 0 | H12: =('Communication & Language'!H12) -> 0 | I12: =('Communication & Language'!I12) -> 0
A13: =('Communication & Language'!A13) -> Pupil name | B13: =('Communication & Language'!B13) -> 0 | C13: =('Communication & Language'!C13) -> 0 | D13: =('Communication & Language'!D13) -> 0 | E13: =('Communication & Language'!E13) -> 0 | F13: ='Communication & Language'!F13 -> 0 | G13: =('Communication & Language'!G13) -> 0 | H13: =('Communication & Language'!H13) -> 0 | I13: =('Communication & Language'!I13) -> 0
A14: =('Communication & Language'!A14) -> Pupil name | B14: =('Communication & Language'!B14) -> 0 | C14: =('Communication & Language'!C14) -> 0 | D14: =('Communication & Language'!D14) -> 0 | E14: =('Communication & Language'!E14) -> 0 | F14: ='Communication & Language'!F14 -> 0 | G14: =('Communication & Language'!G14) -> 0 | H14: =('Communication & Language'!H14) -> 0 | I14: =('Communication & Language'!I14) -> 0
A15: =('Communication & Language'!A15) -> Pupil name | B15: =('Communication & Language'!B15) -> 0 | C15: =('Communication & Language'!C15) -> 0 | D15: =('Communication & Language'!D15) -> 0 | E15: =('Communication & Language'!E15) -> 0 | F15: ='Communication & Language'!F15 -> 0 | G15: =('Communication & Language'!G15) -> 0 | H15: =('Communication & Language'!H15) -> 0 | I15: =('Communication & Language'!I15) -> 0
A16: =('Communication & Language'!A16) -> Pupil name | B16: =('Communication & Language'!B16) -> 0 | C16: =('Communication & Language'!C16) -> 0 | D16: =('Communication & Language'!D16) -> 0 | E16: =('Communication & Language'!E16) -> 0 | F16: ='Communication & Language'!F16 -> 0 | G16: =('Communication & Language'!G16) -> 0 | H16: =('Communication & Language'!H16) -> 0 | I16: =('Communication & Language'!I16) -> 0
A17: =('Communication & Language'!A17) -> Pupil name | B17: =('Communication & Language'!B17) -> 0 | C17: =('Communication & Language'!C17) -> 0 | D17: =('Communication & Language'!D17) -> 0 | E17: =('Communication & Language'!E17) -> 0 | F17: ='Communication & Language'!F17 -> 0 | G17: =('Communication & Language'!G17) -> 0 | H17: =('Communication & Language'!H17) -> 0 | I17: =('Communication & Language'!I17) -> 0
A18: =('Communication & Language'!A18) -> Pupil name | B18: =('Communication & Language'!B18) -> 0 | C18: =('Communication & Language'!C18) -> 0 | D18: =('Communication & Language'!D18) -> 0 | E18: =('Communication & Language'!E18) -> 0 | F18: ='Communication & Language'!F18 -> 0 | G18: =('Communication & Language'!G18) -> 0 | H18: =('Communication & Language'!H18) -> 0 | I18: =('Communication & Language'!I18) -> 0
A19: =('Communication & Language'!A19) -> Pupil name | B19: =('Communication & Language'!B19) -> 0 | C19: =('Communication & Language'!C19) -> 0 | D19: =('Communication & Language'!D19) -> 0 | E19: =('Communication & Language'!E19) -> 0 | F19: ='Communication & Language'!F19 -> 0 | G19: =('Communication & Language'!G19) -> 0 | H19: =('Communication & Language'!H19) -> 0 | I19: =('Communication & Language'!I19) -> 0
... A48: =('Communication & Language'!A48) -> Pupil name | B48: =('Communication & Language'!B48) -> 0 | C48: =('Communication & Language'!C48) -> 0 | D48: =('Communication & Language'!D48) -> 0 | E48: =('Communication & Language'!E48) -> 0 | F48: ='Communication & Language'!F48 -> 0 | G48: =('Communication & Language'!G48) -> 0 | H48: =('Communication & Language'!H48) -> 0 | I48: =('Communication & Language'!I48) -> 0
A49: TOTALS | B49: =COUNTIF(B4:B48,"*") -> 3 | C49: =COUNTIF(C4:C48,"*") -> 2 | D49: =COUNTIF(D4:D48,"*") -> 1 | E49: =COUNTIF(E4:E48,"*") -> 1 | F49: =COUNTIF(F4:F48,"*") -> 1 | G49: =COUNTIF(G4:G48,"*") -> 1 | H49: =COUNTIF(H4:H48,"*") -> 1 | I49: =COUNTIF(I4:I48,"*") -> 1
A50: BOYS | B50: =COUNTIF(B4:B48,"M") -> 2 | C50: =COUNTIFS(C4:C48, "*", B4:B48, "m") -> 1 | D50: =COUNTIFS(D4:D48, "*", $B4:$B48, "m") -> 1 | E50: =COUNTIFS(E4:E48, "*", $B4:$B48, "m") -> 0 | F50: =COUNTIFS(F4:F48, "*", $B4:$B48, "m") -> 1 | G50: =COUNTIFS(G4:G48, "*", $B4:$B48, "m") -> 0 | H50: =COUNTIFS(H4:H48, "*", $B4:$B48, "m") -> 1 | I50: =COUNTIFS(I4:I48, "*", B4:B48, "m") -> 1
A51: GIRLS | B51: =COUNTIF(B4:B48,"F") -> 1 | C51: =COUNTIFS(C4:C48, "*", B4:B48, "f") -> 1 | D51: =COUNTIFS(D4:D48, "*", $B4:$B48, "f") -> 0 | E51: =COUNTIFS(E4:E48, "*", $B4:$B48, "f") -> 1 | F51: =COUNTIFS(F4:F48, "*", $B4:$B48, "f") -> 0 | G51: =COUNTIFS(G4:G48, "*", $B4:$B48, "f") -> 1 | H51: =COUNTIFS(H4:H48, "*", $B4:$B48, "f") -> 0 | I51: =COUNTIFS(I4:I48, "*", B4:B48, "f") -> 0

Sheet Literacy
A1: TRACK WHAT MATTERS | J1: AREA OF LEARNING | L1: AREA OF LEARNING
B2: PUPIL INFORMATION | J2: LITERACY | L2: LITERACY
A3: NAME | B3: Gender | C3: DIS | D3: SENDD | E3: High attainers | F3: EAL | G3: Autumn born | H3: Spring born | I3: Summer born | J3: Current assessment | L3: Current assessment: Analysis summary | N3: All pupils | O3: Boys | P3: Girls | Q3: DIS | R3: SEND | S3: High attainers | T3: EAL | U3: Autumn born | V3: Spring born | W3: Summer born
A4: =('Communication & Language'!A4) -> Example Child A | B4: =('Communication & Language'!B4) -> M | C4: =('Communication & Language'!C4) -> Y | D4: =('Communication & Language'!D4) -> Y | E4: =('Communication & Language'!E4) -> 0 | F4: ='Communication & Language'!F4 -> Y | G4: =('Communication & Language'!G4) -> 0 | H4: =('Communication & Language'!H4) -> 0 | I4: =('Communication & Language'!I4) -> Y | L4: Monitoring | M4: Tally | N4: =COUNTIF(J4:J48, "Monitoring") -> 0 | O4: =COUNTIFS(J4:J48, "Monitoring",$B4:$B48, "m") -> 0 | P4: =COUNTIFS(J4:J48, "Monitoring",$B4:$B48, "f") -> 0 | Q4: =COUNTIFS(J4:J48, "Monitoring",$C4:$C48, "*") -> 0 | R4: =COUNTIFS(J4:J48, "Monitoring",$D4:$D48, "*") -> 0 | S4: =COUNTIFS(J4:J48, "Monitoring",$E4:$E48, "*") -> 0 | T4: =COUNTIFS(J4:J48, "Monitoring",$F4:$F48, "*") -> 0 | U4: =COUNTIFS(J4:J48, "Monitoring",$G4:$G48, "*") -> 0 | V4: =COUNTIFS(J4:J48, "Monitoring",$H4:$H48, "*") -> 0 | W4: =COUNTIFS(J4:J48, "Monitoring",$I4:$I48, "*") -> 0
A5: =('Communication & Language'!A5) -> Example Child B | B5: =('Communication & Language'!B5) -> F | C5: =('Communication & Language'!C5) -> Y | D5: =('Communication & Language'!D5) -> 0 | E5: =('Communication & Language'!E5) -> Y | F5: ='Communication & Language'!F5 -> 0 | G5: =('Communication & Language'!G5) -> Y | H5: =('Communication & Language'!H5) -> 0 | I5: =('Communication & Language'!I5) -> 0 | M5: Percentage | N5: =N4/$B$49 -> 0 | O5: =O4/$B$50 -> 0 | P5: =P4/$B$51 -> 0 | Q5: =Q4/$C$49 -> 0 | R5: =R4/$D$49 -> 0 | S5: =S4/$E$49 -> 0 | T5: =T4/$F$49 -> 0 | U5: =U4/$G$49 -> 0 | V5: =V4/$H$49 -> 0 | W5: =W4/$I$49 -> 0
A6: =('Communication & Language'!A6) -> Example Child C | B6: =('Communication & Language'!B6) -> M | C6: =('Communication & Language'!C6) -> 0 | D6: =('Communication & Language'!D6) -> 0 | E6: =('Communication & Language'!E6) -> 0 | F6: ='Communication & Language'!F6 -> 0 | G6: =('Communication & Language'!G6) -> 0 | H6: =('Communication & Language'!H6) -> Y | I6: =('Communication & Language'!I6) -> 0 | L6: On track (inc. Aiming high) | M6: Tally | N6: =COUNTIF(J4:J48, "On track to meet curriculum-related expectations") -> 0 | O6: =COUNTIFS(J4:J48, "On track to meet curriculum-related expectations", $B4:$B48, "m") -> 0 | P6: =COUNTIFS(J4:J48, "On track to meet curriculum-related expectations", $B4:$B48, "f") -> 0 | Q6: =COUNTIFS(J4:J48, "On track to meet curriculum-related expectations", $C4:$C48, "*") -> 0 | R6: =COUNTIFS(J4:J48, "On track to meet curriculum-related expectations", $D4:$D48, "*") -> 0 | S6: =COUNTIFS(J4:J48, "On track to meet curriculum-related expectations", $E4:$E48, "*") -> 0 | T6: =COUNTIFS(J4:J48, "On track to meet curriculum-related expectations", $F4:$F48, "*") -> 0 | U6: =COUNTIFS(J4:J48, "On track to meet curriculum-related expectations", $G4:$G48, "*") -> 0 | V6: =COUNTIFS(J4:J48, "On track to meet curriculum-related expectations", $H4:$H48, "*") -> 0 | W6: =COUNTIFS(J4:J48, "On track to meet curriculum-related expectations", $I4:$I48, "*") -> 0
A7: =('Communication & Language'!A7) -> Pupil name | B7: =('Communication & Language'!B7) -> 0 | C7: =('Communication & Language'!C7) -> 0 | D7: =('Communication & Language'!D7) -> 0 | E7: =('Communication & Language'!E7) -> 0 | F7: ='Communication & Language'!F7 -> 0 | G7: =('Communication & Language'!G7) -> 0 | H7: =('Communication & Language'!H7) -> 0 | I7: =('Communication & Language'!I7) -> 0 | M7: Percentage | N7: =N6/$B$49 -> 0 | O7: =O6/$B$50 -> 0 | P7: =P6/$B$51 -> 0 | Q7: =Q6/$C$49 -> 0 | R7: =R6/$D$49 -> 0 | S7: =S6/$E$49 -> 0 | T7: =T6/$F$49 -> 0 | U7: =U6/$G$49 -> 0 | V7: =V6/$H$49 -> 0 | W7: =W6/$I$49 -> 0
A8: =('Communication & Language'!A8) -> Pupil name | B8: =('Communication & Language'!B8) -> 0 | C8: =('Communication & Language'!C8) -> 0 | D8: =('Communication & Language'!D8) -> 0 | E8: =('Communication & Language'!E8) -> 0 | F8: ='Communication & Language'!F8 -> 0 | G8: =('Communication & Language'!G8) -> 0 | H8: =('Communication & Language'!H8) -> 0 | I8: =('Communication & Language'!I8) -> 0
A9: =('Communication & Language'!A9) -> Pupil name | B9: =('Communication & Language'!B9) -> 0 | C9: =('Communication & Language'!C9) -> 0 | D9: =('Communication & Language'!D9) -> 0 | E9: =('Communication & Language'!E9) -> 0 | F9: ='Communication & Language'!F9 -> 0 | G9: =('Communication & Language'!G9) -> 0 | H9: =('Communication & Language'!H9) -> 0 | I9: =('Communication & Language'!I9) -> 0
A10: =('Communication & Language'!A10) -> Pupil name | B10: =('Communication & Language'!B10) -> 0 | C10: =('Communication & Language'!C10) -> 0 | D10: =('Communication & Language'!D10) -> 0 | E10: =('Communication & Language'!E10) -> 0 | F10: ='Communication & Language'!F10 -> 0 | G10: =('Communication & Language'!G10) -> 0 | H10: =('Communication & Language'!H10) -> 0 | I10: =('Communication & Language'!I10) -> 0
A11: =('Communication & Language'!A11) -> Pupil name | B11: =('Communication & Language'!B11) -> 0 | C11: =('Communication & Language'!C11) -> 0 | D11: =('Communication & Language'!D11) -> 0 | E11: =('Communication & Language'!E11) -> 0 | F11: ='Communication & Language'!F11 -> 0 | G11: =('Communication & Language'!G11) -> 0 | H11: =('Communication & Language'!H11) -> 0 | I11: =('Communication & Language'!I11) -> 0
A12: =('Communication & Language'!A12) -> Pupil name | B12: =('Communication & Language'!B12) -> 0 | C12: =('Communication & Language'!C12) -> 0 | D12: =('Communication & Language'!D12) -> 0 | E12: =('Communication & Language'!E12) -> 0 | F12: ='Communication & Language'!F12 -> 0 | G12: =('Communication & Language'!G12) -> 0 | H12: =('Communication & Language'!H12) -> 0 | I12: =('Communication & Language'!I12) -> 0
A13: =('Communication & Language'!A13) -> Pupil name | B13: =('Communication & Language'!B13) -> 0 | C13: =('Communication & Language'!C13) -> 0 | D13: =('Communication & Language'!D13) -> 0 | E13: =('Communication & Language'!E13) -> 0 | F13: ='Communication & Language'!F13 -> 0 | G13: =('Communication & Language'!G13) -> 0 | H13: =('Communication & Language'!H13) -> 0 | I13: =('Communication & Language'!I13) -> 0
A14: =('Communication & Language'!A14) -> Pupil name | B14: =('Communication & Language'!B14) -> 0 | C14: =('Communication & Language'!C14) -> 0 | D14: =('Communication & Language'!D14) -> 0 | E14: =('Communication & Language'!E14) -> 0 | F14: ='Communication & Language'!F14 -> 0 | G14: =('Communication & Language'!G14) -> 0 | H14: =('Communication & Language'!H14) -> 0 | I14: =('Communication & Language'!I14) -> 0
A15: =('Communication & Language'!A15) -> Pupil name | B15: =('Communication & Language'!B15) -> 0 | C15: =('Communication & Language'!C15) -> 0 | D15: =('Communication & Language'!D15) -> 0 | E15: =('Communication & Language'!E15) -> 0 | F15: ='Communication & Language'!F15 -> 0 | G15: =('Communication & Language'!G15) -> 0 | H15: =('Communication & Language'!H15) -> 0 | I15: =('Communication & Language'!I15) -> 0
A16: =('Communication & Language'!A16) -> Pupil name | B16: =('Communication & Language'!B16) -> 0 | C16: =('Communication & Language'!C16) -> 0 | D16: =('Communication & Language'!D16) -> 0 | E16: =('Communication & Language'!E16) -> 0 | F16: ='Communication & Language'!F16 -> 0 | G16: =('Communication & Language'!G16) -> 0 | H16: =('Communication & Language'!H16) -> 0 | I16: =('Communication & Language'!I16) -> 0
A17: =('Communication & Language'!A17) -> Pupil name | B17: =('Communication & Language'!B17) -> 0 | C17: =('Communication & Language'!C17) -> 0 | D17: =('Communication & Language'!D17) -> 0 | E17: =('Communication & Language'!E17) -> 0 | F17: ='Communication & Language'!F17 -> 0 | G17: =('Communication & Language'!G17) -> 0 | H17: =('Communication & Language'!H17) -> 0 | I17: =('Communication & Language'!I17) -> 0
A18: =('Communication & Language'!A18) -> Pupil name | B18: =('Communication & Language'!B18) -> 0 | C18: =('Communication & Language'!C18) -> 0 | D18: =('Communication & Language'!D18) -> 0 | E18: =('Communication & Language'!E18) -> 0 | F18: ='Communication & Language'!F18 -> 0 | G18: =('Communication & Language'!G18) -> 0 | H18: =('Communication & Language'!H18) -> 0 | I18: =('Communication & Language'!I18) -> 0
A19: =('Communication & Language'!A19) -> Pupil name | B19: =('Communication & Language'!B19) -> 0 | C19: =('Communication & Language'!C19) -> 0 | D19: =('Communication & Language'!D19) -> 0 | E19: =('Communication & Language'!E19) -> 0 | F19: ='Communication & Language'!F19 -> 0 | G19: =('Communication & Language'!G19) -> 0 | H19: =('Communication & Language'!H19) -> 0 | I19: =('Communication & Language'!I19) -> 0
... A48: =('Communication & Language'!A48) -> Pupil name | B48: =('Communication & Language'!B48) -> 0 | C48: =('Communication & Language'!C48) -> 0 | D48: =('Communication & Language'!D48) -> 0 | E48: =('Communication & Language'!E48) -> 0 | F48: ='Communication & Language'!F48 -> 0 | G48: =('Communication & Language'!G48) -> 0 | H48: =('Communication & Language'!H48) -> 0 | I48: =('Communication & Language'!I48) -> 0
A49: TOTALS | B49: =COUNTIF(B4:B48,"*") -> 3 | C49: =COUNTIF(C4:C48,"*") -> 2 | D49: =COUNTIF(D4:D48,"*") -> 1 | E49: =COUNTIF(E4:E48,"*") -> 1 | F49: =COUNTIF(F4:F48,"*") -> 1 | G49: =COUNTIF(G4:G48,"*") -> 1 | H49: =COUNTIF(H4:H48,"*") -> 1 | I49: =COUNTIF(I4:I48,"*") -> 1
A50: BOYS | B50: =COUNTIF(B4:B48,"M") -> 2 | C50: =COUNTIFS(C4:C48, "*", B4:B48, "m") -> 1 | D50: =COUNTIFS(D4:D48, "*", $B4:$B48, "m") -> 1 | E50: =COUNTIFS(E4:E48, "*", $B4:$B48, "m") -> 0 | F50: =COUNTIFS(F4:F48, "*", $B4:$B48, "m") -> 1 | G50: =COUNTIFS(G4:G48, "*", $B4:$B48, "m") -> 0 | H50: =COUNTIFS(H4:H48, "*", $B4:$B48, "m") -> 1 | I50: =COUNTIFS(I4:I48, "*", B4:B48, "m") -> 1
A51: GIRLS | B51: =COUNTIF(B4:B48,"F") -> 1 | C51: =COUNTIFS(C4:C48, "*", B4:B48, "f") -> 1 | D51: =COUNTIFS(D4:D48, "*", $B4:$B48, "f") -> 0 | E51: =COUNTIFS(E4:E48, "*", $B4:$B48, "f") -> 1 | F51: =COUNTIFS(F4:F48, "*", $B4:$B48, "f") -> 0 | G51: =COUNTIFS(G4:G48, "*", $B4:$B48, "f") -> 1 | H51: =COUNTIFS(H4:H48, "*", $B4:$B48, "f") -> 0 | I51: =COUNTIFS(I4:I48, "*", B4:B48, "f") -> 0

Sheet Mathematics
A1: TRACK WHAT MATTERS | J1: AREA OF LEARNING | L1: AREA OF LEARNING
B2: PUPIL INFORMATION | J2: MATHEMATICS | L2: MATHEMATICS
A3: NAME | B3: Gender | C3: DIS | D3: SEND | E3: High attainers | F3: EAL | G3: Autumn born | H3: Spring born | I3: Summer born | J3: Current assessment | L3: Current assessment: Analysis summary | N3: All pupils | O3: Boys | P3: Girls | Q3: DIS | R3: SEND | S3: High attainers | T3: EAL | U3: Autumn born | V3: Spring born | W3: Summer born
A4: =('Communication & Language'!A4) -> Example Child A | B4: =('Communication & Language'!B4) -> M | C4: =('Communication & Language'!C4) -> Y | D4: =('Communication & Language'!D4) -> Y | E4: =('Communication & Language'!E4) -> 0 | F4: ='Communication & Language'!F4 -> Y | G4: =('Communication & Language'!G4) -> 0 | H4: =('Communication & Language'!H4) -> 0 | I4: =('Communication & Language'!I4) -> Y | L4: Monitoring | M4: Tally | N4: =COUNTIF(J4:J48, "Monitoring") -> 0 | O4: =COUNTIFS(J4:J48, "Monitoring",$B4:$B48, "m") -> 0 | P4: =COUNTIFS(J4:J48, "Monitoring",$B4:$B48, "f") -> 0 | Q4: =COUNTIFS(J4:J48, "Monitoring",$C4:$C48, "*") -> 0 | R4: =COUNTIFS(J4:J48, "Monitoring",$D4:$D48, "*") -> 0 | S4: =COUNTIFS(J4:J48, "Monitoring",$E4:$E48, "*") -> 0 | T4: =COUNTIFS(J4:J48, "Monitoring",$F4:$F48, "*") -> 0 | U4: =COUNTIFS(J4:J48, "Monitoring",$G4:$G48, "*") -> 0 | V4: =COUNTIFS(J4:J48, "Monitoring",$H4:$H48, "*") -> 0 | W4: =COUNTIFS(J4:J48, "Monitoring",$I4:$I48, "*") -> 0
A5: =('Communication & Language'!A5) -> Example Child B | B5: =('Communication & Language'!B5) -> F | C5: =('Communication & Language'!C5) -> Y | D5: =('Communication & Language'!D5) -> 0 | E5: =('Communication & Language'!E5) -> Y | F5: ='Communication & Language'!F5 -> 0 | G5: =('Communication & Language'!G5) -> Y | H5: =('Communication & Language'!H5) -> 0 | I5: =('Communication & Language'!I5) -> 0 | M5: Percentage | N5: =N4/$B$49 -> 0 | O5: =O4/$B$50 -> 0 | P5: =P4/$B$51 -> 0 | Q5: =Q4/$C$49 -> 0 | R5: =R4/$D$49 -> 0 | S5: =S4/$E$49 -> 0 | T5: =T4/$F$49 -> 0 | U5: =U4/$G$49 -> 0 | V5: =V4/$H$49 -> 0 | W5: =W4/$I$49 -> 0
A6: =('Communication & Language'!A6) -> Example Child C | B6: =('Communication & Language'!B6) -> M | C6: =('Communication & Language'!C6) -> 0 | D6: =('Communication & Language'!D6) -> 0 | E6: =('Communication & Language'!E6) -> 0 | F6: ='Communication & Language'!F6 -> 0 | G6: =('Communication & Language'!G6) -> 0 | H6: =('Communication & Language'!H6) -> Y | I6: =('Communication & Language'!I6) -> 0 | L6: On track (inc. Aiming high) | M6: Tally | N6: =COUNTIF(J4:J48, "On track to meet curriculum-related expectations") -> 0 | O6: =COUNTIFS(J4:J48, "On track to meet curriculum-related expectations", $B4:$B48, "m") -> 0 | P6: =COUNTIFS(J4:J48, "On track to meet curriculum-related expectations", $B4:$B48, "f") -> 0 | Q6: =COUNTIFS(J4:J48, "On track to meet curriculum-related expectations", $C4:$C48, "*") -> 0 | R6: =COUNTIFS(J4:J48, "On track to meet curriculum-related expectations", $D4:$D48, "*") -> 0 | S6: =COUNTIFS(J4:J48, "On track to meet curriculum-related expectations", $E4:$E48, "*") -> 0 | T6: =COUNTIFS(J4:J48, "On track to meet curriculum-related expectations", $F4:$F48, "*") -> 0 | U6: =COUNTIFS(J4:J48, "On track to meet curriculum-related expectations", $G4:$G48, "*") -> 0 | V6: =COUNTIFS(J4:J48, "On track to meet curriculum-related expectations", $H4:$H48, "*") -> 0 | W6: =COUNTIFS(J4:J48, "On track to meet curriculum-related expectations", $I4:$I48, "*") -> 0
A7: =('Communication & Language'!A7) -> Pupil name | B7: =('Communication & Language'!B7) -> 0 | C7: =('Communication & Language'!C7) -> 0 | D7: =('Communication & Language'!D7) -> 0 | E7: =('Communication & Language'!E7) -> 0 | F7: ='Communication & Language'!F7 -> 0 | G7: =('Communication & Language'!G7) -> 0 | H7: =('Communication & Language'!H7) -> 0 | I7: =('Communication & Language'!I7) -> 0 | M7: Percentage | N7: =N6/$B$49 -> 0 | O7: =O6/$B$50 -> 0 | P7: =P6/$B$51 -> 0 | Q7: =Q6/$C$49 -> 0 | R7: =R6/$D$49 -> 0 | S7: =S6/$E$49 -> 0 | T7: =T6/$F$49 -> 0 | U7: =U6/$G$49 -> 0 | V7: =V6/$H$49 -> 0 | W7: =W6/$I$49 -> 0
A8: =('Communication & Language'!A8) -> Pupil name | B8: =('Communication & Language'!B8) -> 0 | C8: =('Communication & Language'!C8) -> 0 | D8: =('Communication & Language'!D8) -> 0 | E8: =('Communication & Language'!E8) -> 0 | F8: ='Communication & Language'!F8 -> 0 | G8: =('Communication & Language'!G8) -> 0 | H8: =('Communication & Language'!H8) -> 0 | I8: =('Communication & Language'!I8) -> 0
A9: =('Communication & Language'!A9) -> Pupil name | B9: =('Communication & Language'!B9) -> 0 | C9: =('Communication & Language'!C9) -> 0 | D9: =('Communication & Language'!D9) -> 0 | E9: =('Communication & Language'!E9) -> 0 | F9: ='Communication & Language'!F9 -> 0 | G9: =('Communication & Language'!G9) -> 0 | H9: =('Communication & Language'!H9) -> 0 | I9: =('Communication & Language'!I9) -> 0
A10: =('Communication & Language'!A10) -> Pupil name | B10: =('Communication & Language'!B10) -> 0 | C10: =('Communication & Language'!C10) -> 0 | D10: =('Communication & Language'!D10) -> 0 | E10: =('Communication & Language'!E10) -> 0 | F10: ='Communication & Language'!F10 -> 0 | G10: =('Communication & Language'!G10) -> 0 | H10: =('Communication & Language'!H10) -> 0 | I10: =('Communication & Language'!I10) -> 0
A11: =('Communication & Language'!A11) -> Pupil name | B11: =('Communication & Language'!B11) -> 0 | C11: =('Communication & Language'!C11) -> 0 | D11: =('Communication & Language'!D11) -> 0 | E11: =('Communication & Language'!E11) -> 0 | F11: ='Communication & Language'!F11 -> 0 | G11: =('Communication & Language'!G11) -> 0 | H11: =('Communication & Language'!H11) -> 0 | I11: =('Communication & Language'!I11) -> 0
A12: =('Communication & Language'!A12) -> Pupil name | B12: =('Communication & Language'!B12) -> 0 | C12: =('Communication & Language'!C12) -> 0 | D12: =('Communication & Language'!D12) -> 0 | E12: =('Communication & Language'!E12) -> 0 | F12: ='Communication & Language'!F12 -> 0 | G12: =('Communication & Language'!G12) -> 0 | H12: =('Communication & Language'!H12) -> 0 | I12: =('Communication & Language'!I12) -> 0
A13: =('Communication & Language'!A13) -> Pupil name | B13: =('Communication & Language'!B13) -> 0 | C13: =('Communication & Language'!C13) -> 0 | D13: =('Communication & Language'!D13) -> 0 | E13: =('Communication & Language'!E13) -> 0 | F13: ='Communication & Language'!F13 -> 0 | G13: =('Communication & Language'!G13) -> 0 | H13: =('Communication & Language'!H13) -> 0 | I13: =('Communication & Language'!I13) -> 0
A14: =('Communication & Language'!A14) -> Pupil name | B14: =('Communication & Language'!B14) -> 0 | C14: =('Communication & Language'!C14) -> 0 | D14: =('Communication & Language'!D14) -> 0 | E14: =('Communication & Language'!E14) -> 0 | F14: ='Communication & Language'!F14 -> 0 | G14: =('Communication & Language'!G14) -> 0 | H14: =('Communication & Language'!H14) -> 0 | I14: =('Communication & Language'!I14) -> 0
A15: =('Communication & Language'!A15) -> Pupil name | B15: =('Communication & Language'!B15) -> 0 | C15: =('Communication & Language'!C15) -> 0 | D15: =('Communication & Language'!D15) -> 0 | E15: =('Communication & Language'!E15) -> 0 | F15: ='Communication & Language'!F15 -> 0 | G15: =('Communication & Language'!G15) -> 0 | H15: =('Communication & Language'!H15) -> 0 | I15: =('Communication & Language'!I15) -> 0
A16: =('Communication & Language'!A16) -> Pupil name | B16: =('Communication & Language'!B16) -> 0 | C16: =('Communication & Language'!C16) -> 0 | D16: =('Communication & Language'!D16) -> 0 | E16: =('Communication & Language'!E16) -> 0 | F16: ='Communication & Language'!F16 -> 0 | G16: =('Communication & Language'!G16) -> 0 | H16: =('Communication & Language'!H16) -> 0 | I16: =('Communication & Language'!I16) -> 0
A17: =('Communication & Language'!A17) -> Pupil name | B17: =('Communication & Language'!B17) -> 0 | C17: =('Communication & Language'!C17) -> 0 | D17: =('Communication & Language'!D17) -> 0 | E17: =('Communication & Language'!E17) -> 0 | F17: ='Communication & Language'!F17 -> 0 | G17: =('Communication & Language'!G17) -> 0 | H17: =('Communication & Language'!H17) -> 0 | I17: =('Communication & Language'!I17) -> 0
A18: =('Communication & Language'!A18) -> Pupil name | B18: =('Communication & Language'!B18) -> 0 | C18: =('Communication & Language'!C18) -> 0 | D18: =('Communication & Language'!D18) -> 0 | E18: =('Communication & Language'!E18) -> 0 | F18: ='Communication & Language'!F18 -> 0 | G18: =('Communication & Language'!G18) -> 0 | H18: =('Communication & Language'!H18) -> 0 | I18: =('Communication & Language'!I18) -> 0
A19: =('Communication & Language'!A19) -> Pupil name | B19: =('Communication & Language'!B19) -> 0 | C19: =('Communication & Language'!C19) -> 0 | D19: =('Communication & Language'!D19) -> 0 | E19: =('Communication & Language'!E19) -> 0 | F19: ='Communication & Language'!F19 -> 0 | G19: =('Communication & Language'!G19) -> 0 | H19: =('Communication & Language'!H19) -> 0 | I19: =('Communication & Language'!I19) -> 0
... A48: =('Communication & Language'!A48) -> Pupil name | B48: =('Communication & Language'!B48) -> 0 | C48: =('Communication & Language'!C48) -> 0 | D48: =('Communication & Language'!D48) -> 0 | E48: =('Communication & Language'!E48) -> 0 | F48: ='Communication & Language'!F48 -> 0 | G48: =('Communication & Language'!G48) -> 0 | H48: =('Communication & Language'!H48) -> 0 | I48: =('Communication & Language'!I48) -> 0
A49: TOTALS | B49: =COUNTIF(B4:B48,"*") -> 3 | C49: =COUNTIF(C4:C48,"*") -> 2 | D49: =COUNTIF(D4:D48,"*") -> 1 | E49: =COUNTIF(E4:E48,"*") -> 1 | F49: =COUNTIF(F4:F48,"*") -> 1 | G49: =COUNTIF(G4:G48,"*") -> 1 | H49: =COUNTIF(H4:H48,"*") -> 1 | I49: =COUNTIF(I4:I48,"*") -> 1
A50: BOYS | B50: =COUNTIF(B4:B48,"M") -> 2 | C50: =COUNTIFS(C4:C48, "*", B4:B48, "m") -> 1 | D50: =COUNTIFS(D4:D48, "*", $B4:$B48, "m") -> 1 | E50: =COUNTIFS(E4:E48, "*", $B4:$B48, "m") -> 0 | F50: =COUNTIFS(F4:F48, "*", $B4:$B48, "m") -> 1 | G50: =COUNTIFS(G4:G48, "*", $B4:$B48, "m") -> 0 | H50: =COUNTIFS(H4:H48, "*", $B4:$B48, "m") -> 1 | I50: =COUNTIFS(I4:I48, "*", B4:B48, "m") -> 1
A51: GIRLS | B51: =COUNTIF(B4:B48,"F") -> 1 | C51: =COUNTIFS(C4:C48, "*", B4:B48, "f") -> 1 | D51: =COUNTIFS(D4:D48, "*", $B4:$B48, "f") -> 0 | E51: =COUNTIFS(E4:E48, "*", $B4:$B48, "f") -> 1 | F51: =COUNTIFS(F4:F48, "*", $B4:$B48, "f") -> 0 | G51: =COUNTIFS(G4:G48, "*", $B4:$B48, "f") -> 1 | H51: =COUNTIFS(H4:H48, "*", $B4:$B48, "f") -> 0 | I51: =COUNTIFS(I4:I48, "*", B4:B48, "f") -> 0

Sheet Understanding the World
A1: TRACK WHAT MATTERS | J1: AREA OF LEARNING | L1: AREA OF LEARNING
B2: PUPIL INFORMATION | J2: UNDERSTANDING THE WORLD | L2: UNDERSTANDING THE WORLD
A3: NAME | B3: Gender | C3: DIS | D3: SEND | E3: High attainers | F3: EAL | G3: Autumn born | H3: Spring born | I3: Summer born | J3: Current assessment | L3: Current assessment: Analysis summary | N3: All pupils | O3: Boys | P3: Girls | Q3: DIS | R3: SEND | S3: High attainers | T3: EAL | U3: Autumn born | V3: Spring born | W3: Summer born
A4: =('Communication & Language'!A4) -> Example Child A | B4: =('Communication & Language'!B4) -> M | C4: =('Communication & Language'!C4) -> Y | D4: =('Communication & Language'!D4) -> Y | E4: =('Communication & Language'!E4) -> 0 | F4: ='Communication & Language'!F4 -> Y | G4: =('Communication & Language'!G4) -> 0 | H4: =('Communication & Language'!H4) -> 0 | I4: =('Communication & Language'!I4) -> Y | L4: Monitoring | M4: Tally | N4: =COUNTIF(J4:J48, "Monitoring") -> 0 | O4: =COUNTIFS(J4:J48, "Monitoring",$B4:$B48, "m") -> 0 | P4: =COUNTIFS(J4:J48, "Monitoring",$B4:$B48, "f") -> 0 | Q4: =COUNTIFS(J4:J48, "Monitoring",$C4:$C48, "*") -> 0 | R4: =COUNTIFS(J4:J48, "Monitoring",$D4:$D48, "*") -> 0 | S4: =COUNTIFS(J4:J48, "Monitoring",$E4:$E48, "*") -> 0 | T4: =COUNTIFS(J4:J48, "Monitoring",$F4:$F48, "*") -> 0 | U4: =COUNTIFS(J4:J48, "Monitoring",$G4:$G48, "*") -> 0 | V4: =COUNTIFS(J4:J48, "Monitoring",$H4:$H48, "*") -> 0 | W4: =COUNTIFS(J4:J48, "Monitoring",$I4:$I48, "*") -> 0
A5: =('Communication & Language'!A5) -> Example Child B | B5: =('Communication & Language'!B5) -> F | C5: =('Communication & Language'!C5) -> Y | D5: =('Communication & Language'!D5) -> 0 | E5: =('Communication & Language'!E5) -> Y | F5: ='Communication & Language'!F5 -> 0 | G5: =('Communication & Language'!G5) -> Y | H5: =('Communication & Language'!H5) -> 0 | I5: =('Communication & Language'!I5) -> 0 | M5: Percentage | N5: =N4/$B$49 -> 0 | O5: =O4/$B$50 -> 0 | P5: =P4/$B$51 -> 0 | Q5: =Q4/$C$49 -> 0 | R5: =R4/$D$49 -> 0 | S5: =S4/$E$49 -> 0 | T5: =T4/$F$49 -> 0 | U5: =U4/$G$49 -> 0 | V5: =V4/$H$49 -> 0 | W5: =W4/$I$49 -> 0
A6: =('Communication & Language'!A6) -> Example Child C | B6: =('Communication & Language'!B6) -> M | C6: =('Communication & Language'!C6) -> 0 | D6: =('Communication & Language'!D6) -> 0 | E6: =('Communication & Language'!E6) -> 0 | F6: ='Communication & Language'!F6 -> 0 | G6: =('Communication & Language'!G6) -> 0 | H6: =('Communication & Language'!H6) -> Y | I6: =('Communication & Language'!I6) -> 0 | L6: On track (inc. Aiming high) | M6: Tally | N6: =COUNTIF(J4:J48, "On track to meet curriculum-related expectations") -> 0 | O6: =COUNTIFS(J4:J48, "On track to meet curriculum-related expectations", $B4:$B48, "m") -> 0 | P6: =COUNTIFS(J4:J48, "On track to meet curriculum-related expectations", $B4:$B48, "f") -> 0 | Q6: =COUNTIFS(J4:J48, "On track to meet curriculum-related expectations", $C4:$C48, "*") -> 0 | R6: =COUNTIFS(J4:J48, "On track to meet curriculum-related expectations", $D4:$D48, "*") -> 0 | S6: =COUNTIFS(J4:J48, "On track to meet curriculum-related expectations", $E4:$E48, "*") -> 0 | T6: =COUNTIFS(J4:J48, "On track to meet curriculum-related expectations", $F4:$F48, "*") -> 0 | U6: =COUNTIFS(J4:J48, "On track to meet curriculum-related expectations", $G4:$G48, "*") -> 0 | V6: =COUNTIFS(J4:J48, "On track to meet curriculum-related expectations", $H4:$H48, "*") -> 0 | W6: =COUNTIFS(J4:J48, "On track to meet curriculum-related expectations", $I4:$I48, "*") -> 0
A7: =('Communication & Language'!A7) -> Pupil name | B7: =('Communication & Language'!B7) -> 0 | C7: =('Communication & Language'!C7) -> 0 | D7: =('Communication & Language'!D7) -> 0 | E7: =('Communication & Language'!E7) -> 0 | F7: ='Communication & Language'!F7 -> 0 | G7: =('Communication & Language'!G7) -> 0 | H7: =('Communication & Language'!H7) -> 0 | I7: =('Communication & Language'!I7) -> 0 | M7: Percentage | N7: =N6/$B$49 -> 0 | O7: =O6/$B$50 -> 0 | P7: =P6/$B$51 -> 0 | Q7: =Q6/$C$49 -> 0 | R7: =R6/$D$49 -> 0 | S7: =S6/$E$49 -> 0 | T7: =T6/$F$49 -> 0 | U7: =U6/$G$49 -> 0 | V7: =V6/$H$49 -> 0 | W7: =W6/$I$49 -> 0
A8: =('Communication & Language'!A8) -> Pupil name | B8: =('Communication & Language'!B8) -> 0 | C8: =('Communication & Language'!C8) -> 0 | D8: =('Communication & Language'!D8) -> 0 | E8: =('Communication & Language'!E8) -> 0 | F8: ='Communication & Language'!F8 -> 0 | G8: =('Communication & Language'!G8) -> 0 | H8: =('Communication & Language'!H8) -> 0 | I8: =('Communication & Language'!I8) -> 0
A9: =('Communication & Language'!A9) -> Pupil name | B9: =('Communication & Language'!B9) -> 0 | C9: =('Communication & Language'!C9) -> 0 | D9: =('Communication & Language'!D9) -> 0 | E9: =('Communication & Language'!E9) -> 0 | F9: ='Communication & Language'!F9 -> 0 | G9: =('Communication & Language'!G9) -> 0 | H9: =('Communication & Language'!H9) -> 0 | I9: =('Communication & Language'!I9) -> 0
A10: =('Communication & Language'!A10) -> Pupil name | B10: =('Communication & Language'!B10) -> 0 | C10: =('Communication & Language'!C10) -> 0 | D10: =('Communication & Language'!D10) -> 0 | E10: =('Communication & Language'!E10) -> 0 | F10: ='Communication & Language'!F10 -> 0 | G10: =('Communication & Language'!G10) -> 0 | H10: =('Communication & Language'!H10) -> 0 | I10: =('Communication & Language'!I10) -> 0
A11: =('Communication & Language'!A11) -> Pupil name | B11: =('Communication & Language'!B11) -> 0 | C11: =('Communication & Language'!C11) -> 0 | D11: =('Communication & Language'!D11) -> 0 | E11: =('Communication & Language'!E11) -> 0 | F11: ='Communication & Language'!F11 -> 0 | G11: =('Communication & Language'!G11) -> 0 | H11: =('Communication & Language'!H11) -> 0 | I11: =('Communication & Language'!I11) -> 0
A12: =('Communication & Language'!A12) -> Pupil name | B12: =('Communication & Language'!B12) -> 0 | C12: =('Communication & Language'!C12) -> 0 | D12: =('Communication & Language'!D12) -> 0 | E12: =('Communication & Language'!E12) -> 0 | F12: ='Communication & Language'!F12 -> 0 | G12: =('Communication & Language'!G12) -> 0 | H12: =('Communication & Language'!H12) -> 0 | I12: =('Communication & Language'!I12) -> 0
A13: =('Communication & Language'!A13) -> Pupil name | B13: =('Communication & Language'!B13) -> 0 | C13: =('Communication & Language'!C13) -> 0 | D13: =('Communication & Language'!D13) -> 0 | E13: =('Communication & Language'!E13) -> 0 | F13: ='Communication & Language'!F13 -> 0 | G13: =('Communication & Language'!G13) -> 0 | H13: =('Communication & Language'!H13) -> 0 | I13: =('Communication & Language'!I13) -> 0
A14: =('Communication & Language'!A14) -> Pupil name | B14: =('Communication & Language'!B14) -> 0 | C14: =('Communication & Language'!C14) -> 0 | D14: =('Communication & Language'!D14) -> 0 | E14: =('Communication & Language'!E14) -> 0 | F14: ='Communication & Language'!F14 -> 0 | G14: =('Communication & Language'!G14) -> 0 | H14: =('Communication & Language'!H14) -> 0 | I14: =('Communication & Language'!I14) -> 0
A15: =('Communication & Language'!A15) -> Pupil name | B15: =('Communication & Language'!B15) -> 0 | C15: =('Communication & Language'!C15) -> 0 | D15: =('Communication & Language'!D15) -> 0 | E15: =('Communication & Language'!E15) -> 0 | F15: ='Communication & Language'!F15 -> 0 | G15: =('Communication & Language'!G15) -> 0 | H15: =('Communication & Language'!H15) -> 0 | I15: =('Communication & Language'!I15) -> 0
A16: =('Communication & Language'!A16) -> Pupil name | B16: =('Communication & Language'!B16) -> 0 | C16: =('Communication & Language'!C16) -> 0 | D16: =('Communication & Language'!D16) -> 0 | E16: =('Communication & Language'!E16) -> 0 | F16: ='Communication & Language'!F16 -> 0 | G16: =('Communication & Language'!G16) -> 0 | H16: =('Communication & Language'!H16) -> 0 | I16: =('Communication & Language'!I16) -> 0
A17: =('Communication & Language'!A17) -> Pupil name | B17: =('Communication & Language'!B17) -> 0 | C17: =('Communication & Language'!C17) -> 0 | D17: =('Communication & Language'!D17) -> 0 | E17: =('Communication & Language'!E17) -> 0 | F17: ='Communication & Language'!F17 -> 0 | G17: =('Communication & Language'!G17) -> 0 | H17: =('Communication & Language'!H17) -> 0 | I17: =('Communication & Language'!I17) -> 0
A18: =('Communication & Language'!A18) -> Pupil name | B18: =('Communication & Language'!B18) -> 0 | C18: =('Communication & Language'!C18) -> 0 | D18: =('Communication & Language'!D18) -> 0 | E18: =('Communication & Language'!E18) -> 0 | F18: ='Communication & Language'!F18 -> 0 | G18: =('Communication & Language'!G18) -> 0 | H18: =('Communication & Language'!H18) -> 0 | I18: =('Communication & Language'!I18) -> 0
A19: =('Communication & Language'!A19) -> Pupil name | B19: =('Communication & Language'!B19) -> 0 | C19: =('Communication & Language'!C19) -> 0 | D19: =('Communication & Language'!D19) -> 0 | E19: =('Communication & Language'!E19) -> 0 | F19: ='Communication & Language'!F19 -> 0 | G19: =('Communication & Language'!G19) -> 0 | H19: =('Communication & Language'!H19) -> 0 | I19: =('Communication & Language'!I19) -> 0
... A48: =('Communication & Language'!A48) -> Pupil name | B48: =('Communication & Language'!B48) -> 0 | C48: =('Communication & Language'!C48) -> 0 | D48: =('Communication & Language'!D48) -> 0 | E48: =('Communication & Language'!E48) -> 0 | F48: ='Communication & Language'!F48 -> 0 | G48: =('Communication & Language'!G48) -> 0 | H48: =('Communication & Language'!H48) -> 0 | I48: =('Communication & Language'!I48) -> 0
A49: TOTALS | B49: =COUNTIF(B4:B48,"*") -> 3 | C49: =COUNTIF(C4:C48,"*") -> 2 | D49: =COUNTIF(D4:D48,"*") -> 1 | E49: =COUNTIF(E4:E48,"*") -> 1 | F49: =COUNTIF(F4:F48,"*") -> 1 | G49: =COUNTIF(G4:G48,"*") -> 1 | H49: =COUNTIF(H4:H48,"*") -> 1 | I49: =COUNTIF(I4:I48,"*") -> 1
